Workbook
Name ___EE_MYYK_LOPPTARBIJALE___: 'MTA koond'!$A$2:$J$27
Name EMTA_kogus: 'Tanklate jaemüük'!$V$6:$V$96
Name EMTA_kogus: 'Tarbimisse lubatud'!#REF!
Name Import: 'Tanklate jaemüük'!$G$6:$G$96
Name Import: 'Tarbimisse lubatud'!#REF!
Name tab: #REF!
Name Varu_kogus: 'Tanklate jaemüük'!$E$6:$E$96
Name Varu_kogus: 'Tarbimisse lubatud'!#REF!
Name Varu_Liik: 'Tanklate jaemüük'!$C$6:$C$96
Name Varu_Liik: 'Tarbimisse lubatud'!$C$9:$C$226
Name vedelkütused: #REF!

Sheet Tarbimisse lubatud
B2: AKTSIISIGA MAKSUSTATAV JA AKTSIISIVABASTUSEGA SISERIIKLIK TARBIMINE
B3: Allikas: | C3: Maksu- ja Tolliamet
B4: Ühik: | C4: 1000 liitrit
B5: Aasta | C5: Kuu | D5: Auto-bensiin | E5: Diislikütus | F5: Eri-otstarbeline diislikütus | G5: Kerge kütteõli | H5: Diislikütused kokku | I5: Lennuki- petrool (JET) | J5: Raske kütteõli | K5: KÜTUSED KOKKU
B6: 2007 | C6: jaanuar | D6: 34311.072 | E6: 47549.707 | F6: Sisaldub diislis | G6: 12171.402 | H6: 59721.109 | J6: 1855.144 | K6: 99675.501
B7: 2007 | C7: veebruar | D7: 33557.276 | E7: 47379.775 | F7: Sisaldub diislis | G7: 13119.583 | H7: 60499.358 | J7: 503.187 | K7: 98438.796
B8: 2007 | C8: märts | D8: 36396.318 | E8: 55186.558 | F8: Sisaldub diislis | G8: 7721.8819 | H8: 62908.44 | J8: 291.073 | K8: 104037.1
B9: 2007 | C9: aprill | D9: 37520.774 | E9: 55147.499 | F9: Sisaldub diislis | G9: 5730.0021 | H9: 60877.54 | J9: 646.091 | K9: 103401.48
B10: 2007 | C10: mai | D10: 40477.899 | E10: 61170.29 | F10: Sisaldub diislis | G10: 5292.1039 | H10: 66462.394 | J10: 0 | K10: 112150.5
B11: 2007 | C11: juuni | D11: 42544.307 | E11: 56236.643 | F11: Sisaldub diislis | G11: 3242.2588 | H11: 59478.902 | J11: 0 | K11: 107781.38
B12: 2007 | C12: juuli | D12: 42482.423 | E12: 58778.299 | F12: Sisaldub diislis | G12: 5671.1415 | H12: 64449.44 | J12: 0 | K12: 112527.46
B13: 2007 | C13: august | D13: 44097.724 | E13: 63514.735 | F13: Sisaldub diislis | G13: 6385.3699 | H13: 69900.105 | J13: 1195.335 | K13: 120948.26
B14: 2007 | C14: september | D14: 36504.147 | E14: 56324.9 | F14: Sisaldub diislis | G14: 6585.5619 | H14: 62910.462 | J14: 61.247 | K14: 105179.85
B15: 2007 | C15: oktoober | D15: 38857.964 | E15: 63255.975 | F15: Sisaldub diislis | G15: 7404.8678 | H15: 70660.843 | J15: 47.759 | K15: 115495.82
B16: 2007 | C16: november | D16: 34904.417 | E16: 60133.37 | F16: Sisaldub diislis | G16: 8632.3167 | H16: 68765.686 | J16: 785.848 | K16: 109248.28
B17: 2007 | C17: detsember | D17: 43413.218 | E17: 145112.54 | F17: Sisaldub diislis | G17: 8434.7359 | H17: 153547.27 | J17: 0 | K17: 104154.97
B18: 2007 | C18: KOKKU | D18: 465067.54 | E18: 769790.29 | G18: 90391.226 | H18: 860181.55 | J18: 5385.684 | K18: 1293039.4
B19: 2008 | C19: jaanuar | D19: 26003.589 | E19: 21844.635 | F19: Sisaldub diislis | G19: 7386.0956 | H19: 29230.73 | J19: 125.316 | K19: 92062.524
B20: 2008 | C20: veebruar | D20: 31530.796 | E20: 23921.106 | F20: Sisaldub diislis | G20: 7041.9315 | H20: 30963.037 | J20: 24.72 | K20: 99240.755
B21: 2008 | C21: märts | D21: 31986.925 | E21: 36217.604 | F21: Sisaldub diislis | G21: 6883.3486 | H21: 43100.952 | J21: 25.18 | K21: 112586.68
B22: 2008 | C22: aprill | D22: 36029.3 | E22: 46777.882 | F22: Sisaldub diislis | G22: 5570.3122 | H22: 52348.213 | J22: 23.746 | K22: 94191.43
B23: 2008 | C23: mai | D23: 37450.139 | E23: 50909.633 | F23: Sisaldub diislis | G23: 3453.6989 | H23: 54363.332 | J23: 376.38 | K23: 97824.507
B24: 2008 | C24: juuni | D24: 37038.603 | E24: 47948.765 | F24: Sisaldub diislis | G24: 2867.49 | H24: 50816.255 | J24: 0 | K24: 93885.001
B25: 2008 | C25: juuli | D25: 40332.274 | E25: 56200.68 | F25: Sisaldub diislis | G25: 3484.04 | H25: 59684.72 | J25: 281.62 | K25: 106207.05
B26: 2008 | C26: august | D26: 39425.726 | E26: 38791.298 | F26: 13610.77 | G26: 1714.9175 | H26: 54116.986 | J26: 129 | K26: 99731.884
B27: 2008 | C27: september | D27: 33574.015 | E27: 43591.794 | F27: 19800.3 | G27: 4724.5155 | H27: 68149.164 | J27: 277 | K27: 107676.5
B28: 2008 | C28: oktoober | D28: 35839.71 | E28: 40535.46 | F28: 15495.857 | G28: 3770.942 | H28: 59802.259 | J28: 25.82 | K28: 101004.19
B29: 2008 | C29: november | D29: 31719.823 | E29: 50950.515 | F29: Sisaldub diislis | G29: 4520.533 | H29: 55471.048 | J29: 744.272 | K29: 91958.832
B30: 2008 | C30: detsember | D30: 35108.676 | E30: 37750.476 | F30: 18834.715 | G30: 6065.5939 | H30: 62650.785 | J30: 102.368 | K30: 100941.84
B31: 2008 | C31: KOKKU | D31: 416039.58 | E31: 495439.85 | F31: 67741.643 | G31: 57483.419 | H31: 620697.48 | J31: 2135.422 | K31: 1197311.2
B32: 2009 | C32: jaanuar | D32: 30989.867 | E32: 29977.579 | F32: 16741.888 | G32: 5512.2386 | H32: 52231.705 | J32: 316.035 | K32: 87729.945
B33: 2009 | C33: veebruar | D33: 28557.212 | E33: 29557.318 | F33: 15375.868 | G33: 5566.9703 | H33: 50500.157 | J33: 48.626 | K33: 82582.175
B34: 2009 | C34: märts | D34: 32492.824 | E34: 33993.512 | F34: 14711.287 | G34: 5949.6078 | H34: 54654.406 | J34: 366.951 | K34: 91561.768
B35: 2009 | C35: aprill | D35: 32911.653 | E35: 31183.521 | F35: 14943.344 | G35: 4875.6239 | H35: 51002.489 | J35: 1194.978 | K35: 88174.425
B36: 2009 | C36: mai | D36: 36218.949 | E36: 34253 | F36: 14162.093 | G36: 3366.765 | H36: 51781.858 | J36: 226.26 | K36: 91729.63
B37: 2009 | C37: juuni | D37: 42282.468 | E37: 47072.58 | F37: 15999.27 | G37: 3504.337 | H37: 66576.187 | J37: 426.351 | K37: 113325.46
B38: 2009 | C38: juuli | D38: 34218.839 | E38: 22849.472 | F38: 14415.286 | G38: 3118.405 | H38: 40383.163 | J38: 79.168 | K38: 78567.361
B39: 2009 | C39: august | D39: 34369.487 | E39: 29302.762 | F39: 16624.908 | G39: 3489.156 | H39: 49416.826 | J39: 49.15 | K39: 87378.673
B40: 2009 | C40: september | D40: 33776.69 | E40: 33618.591 | F40: 19342.969 | G40: 3469.323 | H40: 56430.883 | J40: 53.477 | K40: 94143.973
B41: 2009 | C41: oktoober | D41: 33265.029 | E41: 32120.097 | F41: 16552.492 | G41: 3753.277 | H41: 52426.069 | J41: 25.243 | K41: 90351.005
... B69: 2011 | C69: detsember | D69: 28546.426 | E69: 36829.019 | F69: 17742.142 | G69: 1194.996 | H69: 55766.157 | J69: 421.607 | K69: 89413.964
B70: 2011 | C70: KOKKU | D70: =SUM(D58+D59+D60+D61+D62+D63+D64+D66+D65+D67+D68+D69) -> 351878.03 | E70: =E58+E59+E60+E61+E62+E63+E64+E65+E66+E67+E68+E69 -> 446612.42 | F70: =F58+F59+F60+F61+F62+F63+F64+F65+F66+F67+F68+F69 -> 224249.48 | G70: =G58+G59+G60+G61+G62+G63+G64+G65+G66+G67+G68+G69 -> 14978.126 | H70: =H58+H59+H60+H61+H62+H63+H64+H65+H66+H67+H68+H69 -> 685840.23 | J70: =J58+J59+J60+J61+J62+J63+J64+J65+J66+J67+J68+J69 -> 2068.332 | K70: =K58+K59+K60+K61+K62+K63+K64+K65+K66+K67+K68+K69 -> 1095980.2
B71: 2012 | C71: jaanuar | D71: 25734.396 | E71: 46212.943 | F71: 13348.581 | G71: 0 | H71: 59561.728 | J71: 355.391 | K71: 90213.98
B72: 2012 | C72: veebruar | D72: 25155.882 | E72: 41301.058 | F72: 14860.04 | G72: 0 | H72: 56161.099 | J72: 561.399 | K72: 86108.556
B73: 2012 | C73: märts | D73: 25980.604 | E73: 53195.854 | F73: 13172.011 | G73: 154.808 | H73: 66522.88 | J73: 304.558 | K73: 97846.16
B74: 2012 | C74: aprill | D74: 25685.091 | E74: 30568.421 | F74: 12996.629 | G74: 0 | H74: 43565.05 | J74: 204.1 | K74: 75957.553
B75: 2012 | C75: mai | D75: 30091.372 | E75: 46588.824 | F75: 14473.576 | G75: 0 | H75: 61062.4 | J75: 181.305 | K75: 98759.905
B76: 2012 | C76: juuni | D76: 30442.225 | E76: 46344.751 | F76: 11125.624 | G76: 0 | H76: 57470.375 | J76: 101.44 | K76: 95642.421
B77: 2012 | C77: juuli | D77: 32907.135 | E77: 47935.165 | F77: 12466.704 | G77: 241.317 | H77: 60643.39 | J77: 76.82 | K77: 100537.76
B78: 2012 | C78: august | D78: 32188.181 | E78: 49111.841 | F78: 16173.392 | G78: 715.564 | H78: 66000.797 | J78: 155.517 | K78: 105540.79
B79: 2012 | C79: september | D79: 28474.407 | E79: 46310.598 | F79: 14717.483 | G79: 596.09 | H79: 61624.171 | J79: 173.342 | K79: 97284.369
B80: 2012 | C80: oktoober | D80: 28384.661 | E80: 50283.197 | F80: 13723.456 | G80: 535.409 | H80: 64542.062 | J80: 255.78 | K80: 100126.34
B81: 2012 | C81: november | D81: 26109.705 | E81: 47025.359 | F81: 12336.86 | G81: 406.964 | H81: 59769.387 | J81: 531.072 | K81: 88959.131
B82: 2012 | C82: detsember | D82: 27513.022 | E82: 47503.92 | F82: 14545.886 | G82: 580.384 | H82: 62630.191 | J82: 179.288 | K82: 95053.786
... B122: 2015 | C122: KOKKU | D122: 318370.22 | E122: 697456.09 | F122: 99699.584 | G122: 0 | H122: 797155.67 | J122: 3580.016 | K122: 1193500.4
B123: 2016 | C123: jaanuar | D123: 36541.26 | E123: 167250.72 | F123: 5774.85 | G123: 0 | H123: 173025.57 | J123: 2343.12 | K123: =D123+E123+F123+J123 -> 211909.95
B124: 2016 | C124: veebruar | D124: 17670.68 | E124: 14771.31 | F124: 2673.49 | G124: 0 | H124: =E124+F124+G124 -> 17444.8 | J124: 403.89 | K124: =D124+E124+F124+J124 -> 35519.37
B125: 2016 | C125: märts | D125: 21692.78 | E125: 30162.87 | F125: 3754.24 | G125: 0 | H125: =E125+F125+G125 -> 33917.11 | J125: 581.91 | K125: =D125+E125+F125+J125 -> 56191.8
B126: 2016 | C126: aprill | D126: 23726.79 | E126: 44877.93 | F126: 7457.1 | G126: 0 | H126: =E126+F126+G126 -> 52335.03 | J126: 781.74 | K126: =D126+E126+F126+J126 -> 76843.56
B127: 2016 | C127: mai | D127: 29001.95 | E127: 48492.37 | F127: 8527.71 | G127: 0 | H127: =E127+F127+G127 -> 57020.08 | J127: 284.56 | K127: =D127+E127+F127+J127 -> 86306.59
B128: 2016 | C128: juuni | D128: 29471.09 | E128: 51007.06 | F128: 5366.52 | G128: 0 | H128: =E128+F128+G128 -> 56373.58 | J128: 141.91 | K128: =D128+E128+F128+J128 -> 85986.58
B129: 2016 | C129: juuli | D129: 30178.7 | E129: 61301.14 | F129: 7170.1 | G129: 0 | H129: =E129+F129+G129 -> 68471.24 | J129: 567.71 | K129: =D129+E129+F129+J129 -> 99217.65
B130: 2016 | C130: august | D130: 30891.66 | E130: 61991.54 | F130: 13348.57 | G130: 0 | H130: =E130+F130+G130 -> 75340.11 | J130: 56.08 | K130: =D130+E130+F130+J130 -> 106287.85
B131: 2016 | C131: september | D131: 28876.43 | E131: 62243.55 | F131: 12104.81 | G131: 0 | H131: =E131+F131+G131 -> 74348.36 | J131: 470.21 | K131: =D131+E131+F131+J131 -> 103695
B132: 2016 | C132: oktoober | D132: 24981.84 | E132: 60014.96 | F132: 6386.19 | G132: 0 | H132: =E132+F132+G132 -> 66401.15 | J132: 701.58 | K132: =D132+E132+F132+J132 -> 92084.57
B133: 2016 | C133: november | D133: 25326.59 | E133: 57402.25 | F133: 5386.73 | G133: 0 | H133: =E133+F133+G133 -> 62788.98 | J133: 1027.72 | K133: =D133+E133+F133+J133 -> 89143.29
B134: 2016 | C134: detsember | D134: 26092.16 | E134: 71061.64 | F134: 4807.41 | G134: 0 | H134: =E134+F134+G134 -> 75869.05 | J134: 836.43 | K134: =D134+E134+F134+J134 -> 102797.64
B135: 2016 | C135: KOKKU | D135: =SUM(D123:D134) -> 324451.93 | E135: =SUM(E123:E134) -> 730577.34 | F135: =SUM(F123:F134) -> 82757.72 | G135: =SUM(G123:G134) -> 0 | H135: =SUM(H123:H134) -> 813335.06 | J135: =SUM(J123:J134) -> 8196.86 | K135: =D135+E135+F135+J135 -> 1145983.9
B136: 2017 | C136: jaanuar | D136: 42872.07 | E136: 164022.54 | F136: 5249.37 | H136: =E136+F136+G136 -> 169271.91 | J136: 1199.17 | K136: =D136+E136+F136+J136 -> 213343.15
B137: 2017 | C137: veebruar | D137: 12121.06 | E137: 8989.95 | F137: 2928.04 | H137: =E137+F137+G137 -> 11917.99 | J137: 1078.14 | K137: =D137+E137+F137+J137 -> 25117.19
B138: 2017 | C138: märts | D138: 16592.48 | E138: 17711.25 | F138: 4702.38 | H138: =E138+F138+G138 -> 22413.63 | J138: 748.66 | K138: =D138+E138+F138+J138 -> 39754.77
B139: 2017 | C139: aprill | D139: 22823.46 | E139: 26620.26 | F139: 6920.54 | H139: =E139+F139+G139 -> 33540.8 | J139: 2064.24 | K139: =D139+E139+F139+J139 -> 58428.5
B140: 2017 | C140: mai | D140: 28922.26 | E140: 57154.43 | F140: 10223.77 | H140: =E140+F140+G140 -> 67378.2 | J140: 2525.82 | K140: =D140+E140+F140+J140 -> 98826.28
B141: 2017 | C141: juuni | D141: 30569.74 | E141: 59737.9 | F141: 6947.56 | H141: =E141+F141+G141 -> 66685.46 | J141: 3740.97 | K141: =D141+E141+F141+J141 -> 100996.17
B142: 2017 | C142: juuli | D142: 29907.3 | E142: 52536.79 | F142: 7403.53 | H142: =E142+F142+G142 -> 59940.32 | J142: 51.28 | K142: =D142+E142+F142+J142 -> 89898.9
B143: 2017 | C143: august | D143: 31102.059 | E143: 60467.929 | F143: 12643.653 | H143: =IF(E143+F143+G143>0,E143+F143+G143,"") -> 73111.582 | J143: 6.649 | K143: =D143+E143+F143+J143 -> 104220.29
B144: 2017 | C144: september | D144: 26130.69 | E144: 53543.69 | F144: 14298.5 | H144: =IF(E144+F144+G144>0,E144+F144+G144,"") -> 67842.19 | J144: 1 | K144: =D144+E144+F144+J144 -> 93973.88
B145: 2017 | C145: oktoober | D145: 25444.17 | E145: 58456.48 | F145: 8279.92 | H145: =IF(E145+F145+G145>0,E145+F145+G145,"") -> 66736.4 | J145: 27.18 | K145: =D145+E145+F145+J145 -> 92207.75
B146: 2017 | C146: november | D146: 24131.36 | E146: 55409.82 | F146: 6371.42 | H146: =IF(E146+F146+G146>0,E146+F146+G146,"") -> 61781.24 | J146: 386.93 | K146: =D146+E146+F146+J146 -> 86299.53
B147: 2017 | C147: detsember | D147: 80812.62 | E147: 56288.62 | F147: 4359.65 | H147: =IF(E147+F147+G147>0,E147+F147+G147,"") -> 60648.27 | J147: 0.32 | K147: =D147+E147+F147+J147 -> 141461.21
B148: 2017 | C148: KOKKU | D148: =SUM(D136:D147) -> 371429.27 | E148: =SUM(E136:E147) -> 670939.66 | F148: =SUM(F136:F147) -> 90328.333 | G148: =SUM(G136:G147) -> 0 | H148: =SUM(H136:H147) -> 761267.99 | J148: =SUM(J136:J147) -> 11830.359 | K148: =D148+E148+F148+J148 -> 1144527.6
B149: 2018 | C149: jaanuar | D149: 3713.39 | E149: 56790.37 | F149: 4371.84 | H149: =IF(E149+F149+G149>0,E149+F149+G149,"") -> 61162.21 | J149: 26.53 | K149: =D149+E149+F149+J149 -> 64902.13
B150: 2018 | C150: veebruar | D150: 10490.63 | E150: 63180.02 | F150: 3877.19 | H150: =IF(E150+F150+G150>0,E150+F150+G150,"") -> 67057.21 | J150: 0 | K150: =D150+E150+F150+J150 -> 77547.84
B151: 2018 | C151: märts | D151: 12647.03 | E151: 59036.67 | F151: 3991.53 | H151: =IF(E151+F151+G151>0,E151+F151+G151,"") -> 63028.2 | J151: 0 | K151: =D151+E151+F151+J151 -> 75675.23
B152: 2018 | C152: aprill | D152: 12166.3 | E152: 80972.3 | F152: 12046.68 | H152: =IF(E152+F152+G152>0,E152+F152+G152,"") -> 93018.98 | J152: 0 | K152: =D152+E152+F152+J152 -> 105185.28
B153: 2018 | C153: mai | D153: 26252.06 | E153: 42781.66 | F153: 7838.87 | H153: =IF(E153+F153+G153>0,E153+F153+G153,"") -> 50620.53 | J153: 0 | K153: =D153+E153+F153+J153 -> 76872.59
B154: 2018 | C154: juuni | D154: 24052.02 | E154: 61483.98 | F154: 6338.07 | H154: =IF(E154+F154+G154>0,E154+F154+G154,"") -> 67822.05 | J154: 0 | K154: =D154+E154+F154+J154 -> 91874.07
B155: 2018 | C155: juuli | D155: 27261.97 | E155: 57031.74 | F155: 9816.55 | H155: =IF(E155+F155+G155>0,E155+F155+G155,"") -> 66848.29 | J155: 48.545 | K155: =D155+E155+F155+J155 -> 94158.805
B156: 2018 | C156: august | D156: 29510.66 | E156: 65515.69 | F156: 12527.77 | H156: =IF(E156+F156+G156>0,E156+F156+G156,"") -> 78043.46 | J156: 19.975 | K156: =D156+E156+F156+J156 -> 107574.1
B157: 2018 | C157: september | D157: 23912.87 | E157: 56316.03 | F157: 8426.8 | H157: =IF(E157+F157+G157>0,E157+F157+G157,"") -> 64742.83 | J157: 24.005 | K157: =D157+E157+F157+J157 -> 88679.705
B158: 2018 | C158: oktoober | D158: 24112.17 | E158: 59648.12 | F158: 5999.38 | H158: =IF(E158+F158+G158>0,E158+F158+G158,"") -> 65647.5 | J158: 49.92 | K158: =D158+E158+F158+J158 -> 89809.59
B159: 2018 | C159: november | D159: 22595.9 | E159: 60749.85 | F159: 5484.95 | H159: =IF(E159+F159+G159>0,E159+F159+G159,"") -> 66234.8 | J159: 62.671 | K159: =D159+E159+F159+J159 -> 88893.371
B160: 2018 | C160: detsember | D160: 33116.13 | E160: 59786.31 | F160: 4267.07 | H160: =IF(E160+F160+G160>0,E160+F160+G160,"") -> 64053.38 | J160: 129.91 | K160: =D160+E160+F160+J160 -> 97299.42
B161: 2018 | C161: KOKKU | D161: =SUM(D149:D160) -> 249831.13 | E161: =SUM(E149:E160) -> 723292.74 | F161: =SUM(F149:F160) -> 84986.7 | G161: =SUM(G149:G160) -> 0 | H161: =SUM(H149:H160) -> 808279.44 | J161: =SUM(J149:J160) -> 361.556 | K161: =D161+E161+F161+J161 -> 1058472.1
B162: 2019 | C162: jaanuar | D162: 17135.91 | E162: 62362.66 | F162: 4297.62 | H162: =IF(E162+F162+G162>0,E162+F162+G162,"") -> 66660.28 | J162: 299.75 | K162: =D162+E162+F162+J162 -> 84095.94
B163: 2019 | C163: veebruar | D163: 16860.89 | E163: 60500.54 | F163: 3182.07 | H163: =IF(E163+F163+G163>0,E163+F163+G163,"") -> 63682.61 | J163: 0 | K163: =D163+E163+F163+J163 -> 80543.5
B164: 2019 | C164: märts | D164: 37761.95 | E164: 109211.62 | F164: 14705.03 | H164: =IF(E164+F164+G164>0,E164+F164+G164,"") -> 123916.65 | J164: 103.79 | K164: =D164+E164+F164+J164 -> 161782.39
B165: 2019 | C165: aprill | D165: 14666.41 | E165: 23527.56 | F165: 2010.08 | H165: =IF(E165+F165+G165>0,E165+F165+G165,"") -> 25537.64 | J165: 20.01 | K165: =D165+E165+F165+J165 -> 40224.06
B166: 2019 | C166: mai | D166: 22677.47 | E166: 54421.21 | F166: 5738.81 | H166: =IF(E166+F166+G166>0,E166+F166+G166,"") -> 60160.02 | J166: 119.76 | K166: =D166+E166+F166+J166 -> 82957.25
B167: 2019 | C167: juuni | D167: 26424.92 | E167: 62080.79 | F167: 6391.51 | H167: =IF(E167+F167+G167>0,E167+F167+G167,"") -> 68472.3 | J167: 0 | K167: =D167+E167+F167+J167 -> 94897.22
...

Sheet Tanklate jaemüük
B2: EESTI TANKLATE JAEMÜÜK MAKSU- JA TOLLIAMETI ANDMETEL
B3: Allikas: | C3: Maksu- ja Tolliamet
B4: Ühik: | C4: liitrit | U4: 0.542
B5: Aasta | C5: Kuu | D5: Bensiin 95 | E5: Bensiin 98 | F5: Bensiinid kokku | G5: Muutus võrreldes eelmise aasta sama kuuga | H5: Aasta kumulatiivne tarbimine | I5: Muutus võrreldes eelmise aasta sama perioodiga | J5: Viimase 12 kuu tarbimine | K5: Muutus võrreldes eelmise 12 kuuga | L5: Diislikütus | M5: Eri-otstarbeline diislikütus | N5: Diislikütused kokku | O5: Muutus võrreldes eelmise aasta sama kuuga | P5: Aasta kumulatiivne tarbimine | Q5: Muutus võrreldes eelmise aasta sama perioodiga | R5: Viimase 12 kuu tarbimine | S5: Muutus võrreldes eelmise 12 kuuga | T5: LPG kilogrammi | U5: LPG | V5: Muutus võrreldes eelmise aasta sama kuuga | W5: Aasta kumulatiivne tarbimine | X5: Muutus võrreldes eelmise aasta sama perioodiga | Y5: Viimase 12 kuu tarbimine | Z5: Muutus võrreldes eelmise 12 kuuga | AA5: KÜTUSED KOKKU | AB5: Muutus võrreldes eelmise aasta sama kuuga | AC5: Aasta kumulatiivne tarbimine | AD5: Muutus võrreldes eelmise aasta sama perioodiga | AE5: Viimase 12 kuu tarbimine | AF5: Muutus võrreldes eelmise 12 kuuga
B6: 2016 | C6: jaanuar | D6: 23466473 | E6: 2675906.2 | F6: =IF((D6+E6)>0,D6+E6,"") -> 26142379 | H6: =F6 -> 26142379 | K6: =IF(ISNUMBER(J6),(J6-#REF!)/#REF!,"") | L6: 52067677 | M6: 1578109.8 | N6: =L6+M6 -> 53645787 | P6: =N6 -> 53645787 | S6: =IF(ISNUMBER(R6),(R6-#REF!)/#REF!,"") | T6: 450819.34 | U6: =T6/$U$4 -> 831770 | W6: =U6 -> 831770 | Z6: =IF(ISNUMBER(Y6),(Y6-#REF!)/#REF!,"") | AA6: =F6+N6+U6 -> 80619936 | AC6: =AA6 -> 80619936 | AF6: =IF(ISNUMBER(AE6),(AE6-#REF!)/#REF!,"")
B7: 2016 | C7: veebruar | D7: 18447914 | E7: 1947723.1 | F7: =IF((D7+E7)>0,D7+E7,"") -> 20395637 | H7: =H6+F7 -> 46538016 | K7: =IF(ISNUMBER(J7),(J7-#REF!)/#REF!,"") | L7: 43256836 | M7: 1522214.8 | N7: =L7+M7 -> 44779051 | P7: =P6+N7 -> 98424838 | S7: =IF(ISNUMBER(R7),(R7-#REF!)/#REF!,"") | T7: 410964.29 | U7: =T7/$U$4 -> 758236.7 | W7: =W6+U7 -> 1590006.7 | Z7: =IF(ISNUMBER(Y7),(Y7-#REF!)/#REF!,"") | AA7: =F7+N7+U7 -> 65932925 | AC7: =AA6+AA7 -> 1.4655286e+08 | AF7: =IF(ISNUMBER(AE7),(AE7-#REF!)/#REF!,"")
B8: 2016 | C8: märts | D8: 22042941 | E8: 2287159.1 | F8: =IF((D8+E8)>0,D8+E8,"") -> 24330100 | H8: =H7+F8 -> 70868116 | K8: =IF(ISNUMBER(J8),(J8-#REF!)/#REF!,"") | L8: 46495788 | M8: 1585411.6 | N8: =L8+M8 -> 48081200 | P8: =P7+N8 -> 1.4650604e+08 | S8: =IF(ISNUMBER(R8),(R8-#REF!)/#REF!,"") | T8: 459820.85 | U8: =T8/$U$4 -> 848377.95 | W8: =W7+U8 -> 2438384.6 | Z8: =IF(ISNUMBER(Y8),(Y8-#REF!)/#REF!,"") | AA8: =F8+N8+U8 -> 73259678 | AC8: =AA6+AA7+AA8 -> 2.1981254e+08 | AF8: =IF(ISNUMBER(AE8),(AE8-#REF!)/#REF!,"")
B9: 2016 | C9: aprill | D9: 22959189 | E9: 2456074.4 | F9: =IF((D9+E9)>0,D9+E9,"") -> 25415264 | H9: =H8+F9 -> 96283380 | K9: =IF(ISNUMBER(J9),(J9-#REF!)/#REF!,"") | L9: 44869418 | M9: 1710819 | N9: =L9+M9 -> 46580237 | P9: =P8+N9 -> 1.9308627e+08 | S9: =IF(ISNUMBER(R9),(R9-#REF!)/#REF!,"") | T9: 479797.39 | U9: =T9/$U$4 -> 885235.04 | W9: =W8+U9 -> 3323619.7 | Z9: =IF(ISNUMBER(Y9),(Y9-#REF!)/#REF!,"") | AA9: =F9+N9+U9 -> 72880735 | AC9: =SUM(AA6:AA9) -> 2.9269327e+08 | AF9: =IF(ISNUMBER(AE9),(AE9-#REF!)/#REF!,"")
B10: 2016 | C10: mai | D10: 26560864 | E10: 2895652.1 | F10: =IF((D10+E10)>0,D10+E10,"") -> 29456516 | H10: =H9+F10 -> 1.257399e+08 | K10: =IF(ISNUMBER(J10),(J10-#REF!)/#REF!,"") | L10: 48635701 | M10: 1597884.8 | N10: =L10+M10 -> 50233585 | P10: =P9+N10 -> 2.4331986e+08 | S10: =IF(ISNUMBER(R10),(R10-#REF!)/#REF!,"") | T10: 533067.29 | U10: =T10/$U$4 -> 983518.99 | W10: =W9+U10 -> 4307138.7 | Z10: =IF(ISNUMBER(Y10),(Y10-#REF!)/#REF!,"") | AA10: =F10+N10+U10 -> 80673620 | AC10: =SUM(AA6:AA10) -> 3.733669e+08 | AF10: =IF(ISNUMBER(AE10),(AE10-#REF!)/#REF!,"")
B11: 2016 | C11: juuni | D11: 26419932 | E11: 2901887.5 | F11: =IF((D11+E11)>0,D11+E11,"") -> 29321820 | H11: =H10+F11 -> 1.5506172e+08 | K11: =IF(ISNUMBER(J11),(J11-#REF!)/#REF!,"") | L11: 45995509 | M11: 1508538.8 | N11: =L11+M11 -> 47504048 | P11: =P10+N11 -> 2.9082391e+08 | S11: =IF(ISNUMBER(R11),(R11-#REF!)/#REF!,"") | T11: 544965.6 | U11: =T11/$U$4 -> 1005471.6 | W11: =W10+U11 -> 5312610.3 | Z11: =IF(ISNUMBER(Y11),(Y11-#REF!)/#REF!,"") | AA11: =F11+N11+U11 -> 77831340 | AC11: =SUM(AA6:AA11) -> 4.5119823e+08 | AF11: =IF(ISNUMBER(AE11),(AE11-#REF!)/#REF!,"")
B12: 2016 | C12: juuli | D12: 29017710 | E12: 3307804.7 | F12: =IF((D12+E12)>0,D12+E12,"") -> 32325514 | H12: =H11+F12 -> 1.8738723e+08 | K12: =IF(ISNUMBER(J12),(J12-#REF!)/#REF!,"") | L12: 48675336 | M12: 1820254.6 | N12: =L12+M12 -> 50495590 | P12: =P11+N12 -> 3.413195e+08 | S12: =IF(ISNUMBER(R12),(R12-#REF!)/#REF!,"") | T12: 580674.75 | U12: =T12/$U$4 -> 1071355.6 | W12: =W11+U12 -> 6383965.9 | Z12: =IF(ISNUMBER(Y12),(Y12-#REF!)/#REF!,"") | AA12: =F12+N12+U12 -> 83892460 | AC12: =SUM(AA6:AA12) -> 5.3509069e+08 | AF12: =IF(ISNUMBER(AE12),(AE12-#REF!)/#REF!,"")
B13: 2016 | C13: august | D13: 27474165 | E13: 3009319.2 | F13: =IF((D13+E13)>0,D13+E13,"") -> 30483484 | H13: =H12+F13 -> 2.1787071e+08 | K13: =IF(ISNUMBER(J13),(J13-#REF!)/#REF!,"") | L13: 51756985 | M13: 2114130.8 | N13: =L13+M13 -> 53871116 | P13: =P12+N13 -> 3.9519061e+08 | S13: =IF(ISNUMBER(R13),(R13-#REF!)/#REF!,"") | T13: 597757.49 | U13: =T13/$U$4 -> 1102873.6 | W13: =W12+U13 -> 7486839.5 | Z13: =IF(ISNUMBER(Y13),(Y13-#REF!)/#REF!,"") | AA13: =F13+N13+U13 -> 85457474 | AC13: =SUM(AA6:AA13) -> 6.2054817e+08 | AF13: =IF(ISNUMBER(AE13),(AE13-#REF!)/#REF!,"")
B14: 2016 | C14: september | D14: 25541430 | E14: 2655828.6 | F14: =IF((D14+E14)>0,D14+E14,"") -> 28197259 | H14: =H13+F14 -> 2.4606797e+08 | K14: =IF(ISNUMBER(J14),(J14-#REF!)/#REF!,"") | L14: 51127748 | M14: 1839762.2 | N14: =L14+M14 -> 52967510 | P14: =P13+N14 -> 4.4815812e+08 | S14: =IF(ISNUMBER(R14),(R14-#REF!)/#REF!,"") | T14: 538391.45 | U14: =T14/$U$4 -> 993342.16 | W14: =W13+U14 -> 8480181.6 | Z14: =IF(ISNUMBER(Y14),(Y14-#REF!)/#REF!,"") | AA14: =F14+N14+U14 -> 82158111 | AC14: =SUM(AA6:AA14) -> 7.0270628e+08 | AF14: =IF(ISNUMBER(AE14),(AE14-#REF!)/#REF!,"")
B15: 2016 | C15: oktoober | D15: 23853673 | E15: 2521986.9 | F15: =IF((D15+E15)>0,D15+E15,"") -> 26375660 | H15: =H14+F15 -> 2.7244363e+08 | K15: =IF(ISNUMBER(J15),(J15-#REF!)/#REF!,"") | L15: 49687628 | M15: 1751228.7 | N15: =L15+M15 -> 51438857 | P15: =P14+N15 -> 4.9959698e+08 | S15: =IF(ISNUMBER(R15),(R15-#REF!)/#REF!,"") | T15: 543400.37 | U15: =T15/$U$4 -> 1002583.7 | W15: =W14+U15 -> 9482765.3 | Z15: =IF(ISNUMBER(Y15),(Y15-#REF!)/#REF!,"") | AA15: =F15+N15+U15 -> 78817101 | AC15: =SUM(AA6:AA15) -> 7.8152338e+08 | AF15: =IF(ISNUMBER(AE15),(AE15-#REF!)/#REF!,"")
B16: 2016 | C16: november | D16: 21860345 | E16: 2184606.9 | F16: =IF((D16+E16)>0,D16+E16,"") -> 24044952 | H16: =H15+F16 -> 2.9648859e+08 | K16: =IF(ISNUMBER(J16),(J16-#REF!)/#REF!,"") | L16: 47560956 | M16: 1735184 | N16: =L16+M16 -> 49296140 | P16: =P15+N16 -> 5.4889312e+08 | S16: =IF(ISNUMBER(R16),(R16-#REF!)/#REF!,"") | T16: 482007.13 | U16: =T16/$U$4 -> 889312.04 | W16: =W15+U16 -> 10372077 | Z16: =IF(ISNUMBER(Y16),(Y16-#REF!)/#REF!,"") | AA16: =F16+N16+U16 -> 74230404 | AC16: =SUM(AA6:AA16) -> 8.5575378e+08 | AF16: =IF(ISNUMBER(AE16),(AE16-#REF!)/#REF!,"")
B17: 2016 | C17: detsember | D17: 22585432 | E17: 2296146.4 | F17: =IF((D17+E17)>0,D17+E17,"") -> 24881578 | H17: =H16+F17 -> 3.2137016e+08 | J17: =IF(ISNUMBER(F17),F17+F16+F15+F14+F13+F12+F11+F10+F9+F8+F7+F6,"") -> 3.2137016e+08 | L17: 43539346 | M17: 1589507.2 | N17: =L17+M17 -> 45128853 | P17: =P16+N17 -> 5.9402198e+08 | R17: =IF(ISNUMBER(N17),N17+N16+N15+N14+N13+N12+N11+N10+N9+N8+N7+N6,"") -> 5.9402198e+08 | T17: 484698.45 | U17: =T17/$U$4 -> 894277.59 | W17: =W16+U17 -> 11266355 | Y17: =IF(ISNUMBER(U17),U17+U16+U15+U14+U13+U12+U11+U10+U9+U8+U7+U6,"") -> 11266355 | AA17: =F17+N17+U17 -> 70904709 | AC17: =SUM(AA6:AA17) -> 9.2665849e+08 | AE17: =IF(ISNUMBER(AA17),AA17+AA16+AA15+AA14+AA13+AA12+AA11+AA10+AA9+AA8+AA7+AA6,"") -> 9.2665849e+08
B18: 2016 | C18: KOKKU | D18: =SUM(D6:D17) -> 2.9023007e+08 | E18: =SUM(E6:E17) -> 31140095 | F18: =SUM(F6:F17) -> 3.2137016e+08 | K18: =IF(ISNUMBER(J18),(J18-#REF!)/#REF!,"") | L18: =SUM(L6:L17) -> 5.7366893e+08 | M18: =SUM(M6:M17) -> 20353046 | N18: =SUM(N6:N17) -> 5.9402198e+08 | T18: =SUM(T6:T17) -> 6106364.4 | U18: =SUM(U6:U17) -> 11266355 | AA18: =F18+N18+U18 -> 9.2665849e+08
B19: 2017 | C19: jaanuar | D19: 21459273 | E19: 2136166.4 | F19: =IF((D19+E19)>0,D19+E19,"") -> 23595439 | G19: =IF(ISNUMBER(F19),(F19-F6)/F6,"") -> -0.097425706 | H19: =IF(F19>0,F19,"") -> 23595439 | I19: =IF(ISNUMBER(H19),(H19-H6)/H6,"") -> -0.097425706 | J19: =IF(ISNUMBER(F19),F19+F17+F16+F15+F14+F13+F12+F11+F10+F9+F8+F7,"") -> 3.1882322e+08 | L19: 44639125 | M19: 1816321.5 | N19: =IF((L19+M19)>0,L19+M19,"") -> 46455446 | O19: =IF(ISNUMBER(N19),(N19-N6)/N6,"") -> -0.13403365 | P19: =N19 -> 46455446 | Q19: =IF(ISNUMBER(N19),(P19-P6)/P6,"") -> -0.13403365 | R19: =IF(ISNUMBER(N19),N19+N17+N16+N15+N14+N13+N12+N11+N10+N9+N8+N7,"") -> 5.8683163e+08 | T19: 466869.12 | U19: =IF(ISNUMBER(T19),T19/$U$4,"") -> 861382.14 | V19: =IF(ISNUMBER(U19),(U19-U6)/U6,"") -> 0.035601352 | W19: =IF(ISNUMBER(U19),W18+U19,"") -> 861382.14 | X19: =IF(ISNUMBER(U19),(W19-W6)/W6,"") -> 0.035601352 | Y19: =IF(ISNUMBER(U19),U19+U17+U16+U15+U14+U13+U12+U11+U10+U9+U8+U7,"") -> 11295967 | AA19: =F19+N19+U19 -> 70912268 | AB19: =IF(ISNUMBER(AA19),(AA19-AA6)/AA6,"") -> -0.12041275 | AC19: =IF(ISNUMBER(AA19),AA19,"") -> 70912268 | AD19: =IF(ISNUMBER(AA19),(AC19-AC6)/AC6,"") -> -0.12041275 | AE19: =IF(ISNUMBER(AA19),AA19+AA17+AA16+AA15+AA14+AA13+AA12+AA11+AA10+AA9+AA8+AA7,"") -> 9.1695083e+08
B20: 2017 | C20: veebruar | D20: 19361970 | E20: 1903417.8 | F20: =IF((D20+E20)>0,D20+E20,"") -> 21265388 | G20: =IF(ISNUMBER(F20),(F20-F7)/F7,"") -> 0.042643949 | H20: =IF(ISNUMBER(F20),F20+H19,"") -> 44860827 | I20: =IF(ISNUMBER(H20),(H20-H7)/H7,"") -> -0.036039121 | J20: =IF(ISNUMBER(F20),F20+F19+F17+F16+F15+F14+F13+F12+F11+F10+F9+F8,"") -> 3.1969297e+08 | L20: 41144663 | M20: 1508945.6 | N20: =IF((L20+M20)>0,L20+M20,"") -> 42653608 | O20: =IF(ISNUMBER(N20),(N20-N7)/N7,"") -> -0.047465111 | P20: =P19+N20 -> 89109055 | Q20: =IF(ISNUMBER(N20),(P20-P7)/P7,"") -> -0.094648705 | R20: =IF(ISNUMBER(N20),N20+N19+N17+N16+N15+N14+N13+N12+N11+N10+N9+N8,"") -> 5.8470619e+08 | T20: 441327.06 | U20: =IF(ISNUMBER(T20),T20/$U$4,"") -> 814256.57 | V20: =IF(ISNUMBER(U20),(U20-U7)/U7,"") -> 0.07388177 | W20: =IF(ISNUMBER(U20),W19+U20,"") -> 1675638.7 | X20: =IF(ISNUMBER(U20),(W20-W7)/W7,"") -> 0.05385638 | Y20: =IF(ISNUMBER(U20),U20+U19+U17+U16+U15+U14+U13+U12+U11+U10+U9+U8,"") -> 11351987 | AA20: =F20+N20+U20 -> 64733253 | AB20: =IF(ISNUMBER(AA20),(AA20-AA7)/AA7,"") -> -0.018195344 | AC20: =IF(ISNUMBER(AA20),AC19+AA20,"") -> 1.3564552e+08 | AD20: =IF(ISNUMBER(AA20),(AC20-AC7)/AC7,"") -> -0.074425982 | AE20: =IF(ISNUMBER(AA20),AA20+AA19+AA17+AA16+AA15+AA14+AA13+AA12+AA11+AA10+AA9+AA8,"") -> 9.1575115e+08
B21: 2017 | C21: märts | D21: 22026127 | E21: 2105121.2 | F21: =IF((D21+E21)>0,D21+E21,"") -> 24131248 | G21: =IF(ISNUMBER(F21),(F21-F8)/F8,"") -> -0.0081730983 | H21: =IF(ISNUMBER(F21),F21+H20,"") -> 68992075 | I21: =IF(ISNUMBER(H21),(H21-H8)/H8,"") -> -0.026472293 | J21: =IF(ISNUMBER(F21),F21+F20+F19+F17+F16+F15+F14+F13+F12+F11+F10+F9,"") -> 3.1949412e+08 | L21: 47556582 | M21: 1565030.6 | N21: =IF((L21+M21)>0,L21+M21,"") -> 49121613 | O21: =IF(ISNUMBER(N21),(N21-N8)/N8,"") -> 0.021638671 | P21: =P20+N21 -> 1.3823067e+08 | Q21: =IF(ISNUMBER(N21),(P21-P8)/P8,"") -> -0.05648484 | R21: =IF(ISNUMBER(N21),N21+N20+N19+N17+N16+N15+N14+N13+N12+N11+N10+N9,"") -> 5.8574661e+08 | T21: 538842.05 | U21: =IF(ISNUMBER(T21),T21/$U$4,"") -> 994173.52 | V21: =IF(ISNUMBER(U21),(U21-U8)/U8,"") -> 0.17185214 | W21: =IF(ISNUMBER(U21),W20+U21,"") -> 2669812.2 | X21: =IF(ISNUMBER(U21),(W21-W8)/W8,"") -> 0.0949102 | Y21: =IF(ISNUMBER(U21),U21+U20+U19+U17+U16+U15+U14+U13+U12+U11+U10+U9,"") -> 11497783 | AA21: =F21+N21+U21 -> 74247034 | AB21: =IF(ISNUMBER(AA21),(AA21-AA8)/AA8,"") -> 0.01347749 | AC21: =IF(ISNUMBER(AA21),AC20+AA21,"") -> 2.0989256e+08 | AD21: =IF(ISNUMBER(AA21),(AC21-AC8)/AC8,"") -> -0.045129291 | AE21: =IF(ISNUMBER(AA21),AA21+AA20+AA19+AA17+AA16+AA15+AA14+AA13+AA12+AA11+AA10+AA9,"") -> 9.1673851e+08
B22: 2017 | C22: aprill | D22: 22820443 | E22: 2266846.2 | F22: =IF((D22+E22)>0,D22+E22,"") -> 25087289 | G22: =IF(ISNUMBER(F22),(F22-F9)/F9,"") -> -0.012904626 | H22: =IF(ISNUMBER(F22),F22+H21,"") -> 94079364 | I22: =IF(ISNUMBER(H22),(H22-H9)/H9,"") -> -0.022890929 | J22: =IF(ISNUMBER(F22),F22+F21+F20+F19+F17+F16+F15+F14+F13+F12+F11+F10,"") -> 3.1916615e+08 | L22: 45686041 | M22: 1580157 | N22: =IF((L22+M22)>0,L22+M22,"") -> 47266198 | O22: =IF(ISNUMBER(N22),(N22-N9)/N9,"") -> 0.014726448 | P22: =P21+N22 -> 1.8549687e+08 | Q22: =IF(ISNUMBER(N22),(P22-P9)/P9,"") -> -0.039305791 | R22: =IF(ISNUMBER(N22),N22+N21+N20+N19+N17+N16+N15+N14+N13+N12+N11+N10,"") -> 5.8643257e+08 | T22: 532361.5 | U22: =IF(ISNUMBER(T22),T22/$U$4,"") -> 982216.79 | V22: =IF(ISNUMBER(U22),(U22-U9)/U9,"") -> 0.10955481 | W22: =IF(ISNUMBER(U22),W21+U22,"") -> 3652029 | X22: =IF(ISNUMBER(U22),(W22-W9)/W9,"") -> 0.098810742 | Y22: =IF(ISNUMBER(U22),U22+U21+U20+U19+U17+U16+U15+U14+U13+U12+U11+U10,"") -> 11594764 | AA22: =F22+N22+U22 -> 73335704 | AB22: =IF(ISNUMBER(AA22),(AA22-AA9)/AA9,"") -> 0.0062426468 | AC22: =IF(ISNUMBER(AA22),AC21+AA22,"") -> 2.8322826e+08 | AD22: =IF(ISNUMBER(AA22),(AC22-AC9)/AC9,"") -> -0.032337659 | AE22: =IF(ISNUMBER(AA22),AA22+AA21+AA20+AA19+AA17+AA16+AA15+AA14+AA13+AA12+AA11+AA10,"") -> 9.1719348e+08
B23: 2017 | C23: mai | D23: 25946296 | E23: 2639560 | F23: =IF((D23+E23)>0,D23+E23,"") -> 28585856 | G23: =IF(ISNUMBER(F23),(F23-F10)/F10,"") -> -0.029557479 | H23: =IF(ISNUMBER(F23),F23+H22,"") -> 1.2266522e+08 | I23: =IF(ISNUMBER(H23),(H23-H10)/H10,"") -> -0.024452671 | J23: =IF(ISNUMBER(F23),F23+F22+F21+F20+F19+F17+F16+F15+F14+F13+F12+F11,"") -> 3.1829549e+08 | L23: 50837832 | M23: 2309429.2 | N23: =IF((L23+M23)>0,L23+M23,"") -> 53147261 | O23: =IF(ISNUMBER(N23),(N23-N10)/N10,"") -> 0.058002538 | P23: =P22+N23 -> 2.3864413e+08 | Q23: =IF(ISNUMBER(N23),(P23-P10)/P10,"") -> -0.019216407 | R23: =IF(ISNUMBER(N23),N23+N22+N21+N20+N19+N17+N16+N15+N14+N13+N12+N11,"") -> 5.8934624e+08 | T23: 580185.56 | U23: =IF(ISNUMBER(T23),T23/$U$4,"") -> 1070453.1 | V23: =IF(ISNUMBER(U23),(U23-U10)/U10,"") -> 0.088390848 | W23: =IF(ISNUMBER(U23),W22+U23,"") -> 4722482.1 | X23: =IF(ISNUMBER(U23),(W23-W10)/W10,"") -> 0.096431399 | Y23: =IF(ISNUMBER(U23),U23+U22+U21+U20+U19+U17+U16+U15+U14+U13+U12+U11,"") -> 11681698 | AA23: =F23+N23+U23 -> 82803570 | AB23: =IF(ISNUMBER(AA23),(AA23-AA10)/AA10,"") -> 0.026402052 | AC23: =IF(ISNUMBER(AA23),AC22+AA23,"") -> 3.6603183e+08 | AD23: =IF(ISNUMBER(AA23),(AC23-AC10)/AC10,"") -> -0.019645733 | AE23: =IF(ISNUMBER(AA23),AA23+AA22+AA21+AA20+AA19+AA17+AA16+AA15+AA14+AA13+AA12+AA11,"") -> 9.1932343e+08
B24: 2017 | C24: juuni | D24: 26927858 | E24: 2773140.8 | F24: =IF((D24+E24)>0,D24+E24,"") -> 29700998 | G24: =IF(ISNUMBER(F24),(F24-F11)/F11,"") -> 0.012931621 | H24: =IF(ISNUMBER(F24),F24+H23,"") -> 1.5236622e+08 | I24: =IF(ISNUMBER(H24),(H24-H11)/H11,"") -> -0.017383386 | J24: =IF(ISNUMBER(F24),F24+F23+F22+F21+F20+F19+F17+F16+F15+F14+F13+F12,"") -> 3.1867467e+08 | L24: 47386828 | M24: 1739274.2 | N24: =IF((L24+M24)>0,L24+M24,"") -> 49126102 | O24: =IF(ISNUMBER(N24),(N24-N11)/N11,"") -> 0.034145585 | P24: =P23+N24 -> 2.8777023e+08 | Q24: =IF(ISNUMBER(N24),(P24-P11)/P11,"") -> -0.010500099 | R24: =IF(ISNUMBER(N24),N24+N23+N22+N21+N20+N19+N17+N16+N15+N14+N13+N12,"") -> 5.909683e+08 | T24: 610363.56 | U24: =IF(ISNUMBER(T24),T24/$U$4,"") -> 1126132 | V24: =IF(ISNUMBER(U24),(U24-U11)/U11,"") -> 0.12000383 | W24: =IF(ISNUMBER(U24),W23+U24,"") -> 5848614.1 | X24: =IF(ISNUMBER(U24),(W24-W11)/W11,"") -> 0.10089275 | Y24: =IF(ISNUMBER(U24),U24+U23+U22+U21+U20+U19+U17+U16+U15+U14+U13+U12,"") -> 11802359 | AA24: =F24+N24+U24 -> 79953232 | AB24: =IF(ISNUMBER(AA24),(AA24-AA11)/AA11,"") -> 0.027262702 | AC24: =IF(ISNUMBER(AA24),AC23+AA24,"") -> 4.4598506e+08 | AD24: =IF(ISNUMBER(AA24),(AC24-AC11)/AC11,"") -> -0.011554065 | AE24: =IF(ISNUMBER(AA24),AA24+AA23+AA22+AA21+AA20+AA19+AA17+AA16+AA15+AA14+AA13+AA12,"") -> 9.2144532e+08
B25: 2017 | C25: juuli | D25: 27971500 | E25: 3071381.6 | F25: =IF((D25+E25)>0,D25+E25,"") -> 31042882 | G25: =IF(ISNUMBER(F25),(F25-F12)/F12,"") -> -0.039678639 | H25: =IF(ISNUMBER(F25),F25+H24,"") -> 1.834091e+08 | I25: =IF(ISNUMBER(H25),(H25-H12)/H12,"") -> -0.021229462 | J25: =IF(ISNUMBER(F25),F25+F24+F23+F22+F21+F20+F19+F17+F16+F15+F14+F13,"") -> 3.1739203e+08 | L25: 48959660 | M25: 1859349.9 | N25: =IF((L25+M25)>0,L25+M25,"") -> 50819010 | O25: =IF(ISNUMBER(N25),(N25-N12)/N12,"") -> 0.0064049197 | P25: =P24+N25 -> 3.3858924e+08 | Q25: =IF(ISNUMBER(N25),(P25-P12)/P12,"") -> -0.0079991318 | R25: =IF(ISNUMBER(N25),N25+N24+N23+N22+N21+N20+N19+N17+N16+N15+N14+N13,"") -> 5.9129172e+08 | T25: 815176.5 | U25: =IF(ISNUMBER(T25),T25/$U$4,"") -> 1504015.7 | V25: =IF(ISNUMBER(U25),(U25-U12)/U12,"") -> 0.40384355 | W25: =IF(ISNUMBER(U25),W24+U25,"") -> 7352629.8 | X25: =IF(ISNUMBER(U25),(W25-W12)/W12,"") -> 0.15173388 | Y25: =IF(ISNUMBER(U25),U25+U24+U23+U22+U21+U20+U19+U17+U16+U15+U14+U13,"") -> 12235019 | AA25: =F25+N25+U25 -> 83365908 | AB25: =IF(ISNUMBER(AA25),(AA25-AA12)/AA12,"") -> -0.0062765133 | AC25: =IF(ISNUMBER(AA25),AC24+AA25,"") -> 5.2935097e+08 | AD25: =IF(ISNUMBER(AA25),(AC25-AC12)/AC12,"") -> -0.010726641 | AE25: =IF(ISNUMBER(AA25),AA25+AA24+AA23+AA22+AA21+AA20+AA19+AA17+AA16+AA15+AA14+AA13,"") -> 9.2091877e+08
B26: 2017 | C26: august | D26: 27441543 | E26: 2861993.6 | F26: =IF((D26+E26)>0,D26+E26,"") -> 30303537 | G26: =IF(ISNUMBER(F26),(F26-F13)/F13,"") -> -0.0059031009 | H26: =IF(ISNUMBER(F26),F26+H25,"") -> 2.1371264e+08 | I26: =IF(ISNUMBER(H26),(H26-H13)/H13,"") -> -0.019085067 | J26: =IF(ISNUMBER(F26),F26+F25+F24+F23+F22+F21+F20+F19+F17+F16+F15+F14,"") -> 3.1721209e+08 | L26: 51904765 | M26: 2114054 | N26: =IF((L26+M26)>0,L26+M26,"") -> 54018819 | O26: =IF(ISNUMBER(N26),(N26-N13)/N13,"") -> 0.0027417808 | P26: =IF(ISNUMBER(N26),P25+N26,"") -> 3.9260806e+08 | Q26: =IF(ISNUMBER(N26),(P26-P13)/P13,"") -> -0.006534965 | R26: =IF(ISNUMBER(N26),N26+N25+N24+N23+N22+N21+N20+N19+N17+N16+N15+N14,"") -> 5.9143942e+08 | T26: 634428.51 | U26: =IF(ISNUMBER(T26),T26/$U$4,"") -> 1170532.3 | V26: =IF(ISNUMBER(U26),(U26-U13)/U13,"") -> 0.06134765 | W26: =IF(ISNUMBER(U26),W25+U26,"") -> 8523162.1 | X26: =IF(ISNUMBER(U26),(W26-W13)/W13,"") -> 0.13841924 | Y26: =IF(ISNUMBER(U26),U26+U25+U24+U23+U22+U21+U20+U19+U17+U16+U15+U14,"") -> 12302678 | AA26: =F26+N26+U26 -> 85492888 | AB26: =IF(ISNUMBER(AA26),(AA26-AA13)/AA13,"") -> 0.00041440978 | AC26: =IF(ISNUMBER(AA26),AC25+AA26,"") -> 6.1484386e+08 | AD26: =IF(ISNUMBER(AA26),(AC26-AC13)/AC13,"") -> -0.0091923749 | AE26: =IF(ISNUMBER(AA26),AA26+AA25+AA24+AA23+AA22+AA21+AA20+AA19+AA17+AA16+AA15+AA14,"") -> 9.2095418e+08
B27: 2017 | C27: september | D27: 24417683 | E27: 2441342.5 | F27: =IF((D27+E27)>0,D27+E27,"") -> 26859025 | G27: =IF(ISNUMBER(F27),(F27-F14)/F14,"") -> -0.047459709 | H27: =IF(ISNUMBER(F27),F27+H26,"") -> 2.4057166e+08 | I27: =IF(ISNUMBER(H27),(H27-H14)/H14,"") -> -0.022336555 | J27: =IF(ISNUMBER(F27),F27+F26+F25+F24+F23+F22+F21+F20+F19+F17+F16+F15,"") -> 3.1587385e+08 | L27: 48688798 | M27: 2260055.6 | N27: =IF((L27+M27)>0,L27+M27,"") -> 50948854 | O27: =IF(ISNUMBER(N27),(N27-N14)/N14,"") -> -0.038111218 | P27: =IF(ISNUMBER(N27),P26+N27,"") -> 4.4355691e+08 | Q27: =IF(ISNUMBER(N27),(P27-P14)/P14,"") -> -0.010266941 | R27: =IF(ISNUMBER(N27),N27+N26+N25+N24+N23+N22+N21+N20+N19+N17+N16+N15,"") -> 5.8942076e+08 | T27: 554772.16 | U27: =IF(ISNUMBER(T27),T27/$U$4,"") -> 1023564.9 | V27: =IF(ISNUMBER(U27),(U27-U14)/U14,"") -> 0.03042528 | W27: =IF(ISNUMBER(U27),W26+U27,"") -> 9546727 | X27: =IF(ISNUMBER(U27),(W27-W14)/W14,"") -> 0.12576916 | Y27: =IF(ISNUMBER(U27),U27+U26+U25+U24+U23+U22+U21+U20+U19+U17+U16+U15,"") -> 12332900 | AA27: =F27+N27+U27 -> 78831444 | AB27: =IF(ISNUMBER(AA27),(AA27-AA14)/AA14,"") -> -0.04049104 | AC27: =IF(ISNUMBER(AA27),AC26+AA27,"") -> 6.936753e+08 | AD27: =IF(ISNUMBER(AA27),(AC27-AC14)/AC14,"") -> -0.012851712 | AE27: =IF(ISNUMBER(AA27),AA27+AA26+AA25+AA24+AA23+AA22+AA21+AA20+AA19+AA17+AA16+AA15,"") -> 9.1762752e+08
B28: 2017 | C28: oktoober | D28: 23549534 | E28: 2312181 | F28: =IF((D28+E28)>0,D28+E28,"") -> 25861715 | G28: =IF(ISNUMBER(F28),(F28-F15)/F15,"") -> -0.019485589 | H28: =IF(ISNUMBER(F28),F28+H27,"") -> 2.6643338e+08 | I28: =IF(ISNUMBER(H28),(H28-H15)/H15,"") -> -0.022060549 | J28: =IF(ISNUMBER(F28),F28+F27+F26+F25+F24+F23+F22+F21+F20+F19+F17+F16,"") -> 3.1535991e+08 | L28: 48789311 | M28: 1724078 | N28: =IF((L28+M28)>0,L28+M28,"") -> 50513389 | O28: =IF(ISNUMBER(N28),(N28-N15)/N15,"") -> -0.017991611 | P28: =IF(ISNUMBER(N28),P27+N28,"") -> 4.940703e+08 | Q28: =IF(ISNUMBER(N28),(P28-P15)/P15,"") -> -0.011062279 | R28: =IF(ISNUMBER(N28),N28+N27+N26+N25+N24+N23+N22+N21+N20+N19+N17+N16,"") -> 5.8849529e+08 | T28: 542959 | U28: =IF(ISNUMBER(T28),T28/$U$4,"") -> 1001769.4 | V28: =IF(ISNUMBER(U28),(U28-U15)/U15,"") -> -0.00081223202 | W28: =IF(ISNUMBER(U28),W27+U28,"") -> 10548496 | X28: =IF(ISNUMBER(U28),(W28-W15)/W15,"") -> 0.1123861 | Y28: =IF(ISNUMBER(U28),U28+U27+U26+U25+U24+U23+U22+U21+U20+U19+U17+U16,"") -> 12332086 | AA28: =F28+N28+U28 -> 77376873 | AB28: =IF(ISNUMBER(AA28),(AA28-AA15)/AA15,"") -> -0.018273033 | AC28: =IF(ISNUMBER(AA28),AC27+AA28,"") -> 7.7105217e+08 | AD28: =IF(ISNUMBER(AA28),(AC28-AC15)/AC15,"") -> -0.013398456 | AE28: =IF(ISNUMBER(AA28),AA28+AA27+AA26+AA25+AA24+AA23+AA22+AA21+AA20+AA19+AA17+AA16,"") -> 9.1618729e+08
B29: 2017 | C29: november | D29: 21575795 | E29: 2024800 | F29: =IF((D29+E29)>0,D29+E29,"") -> 23600595 | G29: =IF(ISNUMBER(F29),(F29-F16)/F16,"") -> -0.018480268 | H29: =IF(ISNUMBER(F29),F29+H28,"") -> 2.9003397e+08 | I29: =IF(ISNUMBER(H29),(H29-H16)/H16,"") -> -0.021770192 | J29: =IF(ISNUMBER(F29),F29+F28+F27+F26+F25+F24+F23+F22+F21+F20+F19+F17,"") -> 3.1491555e+08 | L29: 45816394 | M29: 1445878 | N29: =IF((L29+M29)>0,L29+M29,"") -> 47262272 | O29: =IF(ISNUMBER(N29),(N29-N16)/N16,"") -> -0.041258159 | P29: =IF(ISNUMBER(N29),P28+N29,"") -> 5.4133257e+08 | Q29: =IF(ISNUMBER(N29),(P29-P16)/P16,"") -> -0.013774173 | R29: =IF(ISNUMBER(N29),N29+N28+N27+N26+N25+N24+N23+N22+N21+N20+N19+N17,"") -> 5.8646143e+08 | T29: 518948 | U29: =IF(ISNUMBER(T29),T29/$U$4,"") -> 957468.63 | V29: =IF(ISNUMBER(U29),(U29-U16)/U16,"") -> 0.076639682 | W29: =IF(ISNUMBER(U29),W28+U29,"") -> 11505965 | X29: =IF(ISNUMBER(U29),(W29-W16)/W16,"") -> 0.10932117 | Y29: =IF(ISNUMBER(U29),U29+U28+U27+U26+U25+U24+U23+U22+U21+U20+U19+U17,"") -> 12400243 | AA29: =F29+N29+U29 -> 71820336 | AB29: =IF(ISNUMBER(AA29),(AA29-AA16)/AA16,"") -> -0.032467404 | AC29: =IF(ISNUMBER(AA29),AC28+AA29,"") -> 8.4287251e+08 | AD29: =IF(ISNUMBER(AA29),(AC29-AC16)/AC16,"") -> -0.015052548 | AE29: =IF(ISNUMBER(AA29),AA29+AA28+AA27+AA26+AA25+AA24+AA23+AA22+AA21+AA20+AA19+AA17,"") -> 9.1377722e+08
B30: 2017 | C30: detsember | D30: 23459387 | E30: 2224260 | F30: =IF((D30+E30)>0,D30+E30,"") -> 25683647 | G30: =IF(ISNUMBER(F30),(F30-F17)/F17,"") -> 0.032235455 | H30: =IF(ISNUMBER(F30),F30+H29,"") -> 3.1571762e+08 | I30: =IF(ISNUMBER(H30),(H30-H17)/H17,"") -> -0.01758889 | J30: =IF(ISNUMBER(F30),F30+F29+F28+F27+F26+F25+F24+F23+F22+F21+F20+F19,"") -> 3.1571762e+08 | K30: =IF(ISNUMBER(J30),(J30-J17)/J17,"") -> -0.01758889 | L30: 43878060 | M30: 1439231 | N30: =IF((L30+M30)>0,L30+M30,"") -> 45317291 | O30: =IF(ISNUMBER(N30),(N30-N17)/N17,"") -> 0.0041755444 | P30: =IF(ISNUMBER(N30),P29+N30,"") -> 5.8664986e+08 | Q30: =IF(ISNUMBER(N30),(P30-P17)/P17,"") -> -0.012410503 | R30: =IF(ISNUMBER(N30),N30+N29+N28+N27+N26+N25+N24+N23+N22+N21+N20+N19,"") -> 5.8664986e+08 | S30: =IF(ISNUMBER(R30),(R30-R17)/R17,"") -> -0.012410503 | T30: 545213 | U30: =IF(ISNUMBER(T30),T30/$U$4,"") -> 1005928 | V30: =IF(ISNUMBER(U30),(U30-U17)/U17,"") -> 0.12484989 | W30: =IF(ISNUMBER(U30),W29+U30,"") -> 12511893 | X30: =IF(ISNUMBER(U30),(W30-W17)/W17,"") -> 0.11055377 | Y30: =IF(ISNUMBER(U30),U30+U29+U28+U27+U26+U25+U24+U23+U21+U20+U19+U19,"") -> 12391058 | Z30: =IF(ISNUMBER(Y30),(Y30-Y17)/Y17,"") -> 0.099828507 | AA30: =F30+N30+U30 -> 72006866 | AB30: =IF(ISNUMBER(AA30),(AA30-AA17)/AA17,"") -> 0.0155442 | AC30: =IF(ISNUMBER(AA30),AC29+AA30,"") -> 9.1487938e+08 | AD30: =IF(ISNUMBER(AA30),(AC30-AC17)/AC17,"") -> -0.01271139 | AE30: =IF(ISNUMBER(AA30),AA30+AA29+AA28+AA27+AA26+AA25+AA24+AA23+AA22+AA21+AA20+AA19,"") -> 9.1487938e+08 | AF30: =IF(ISNUMBER(AE30),(AE30-AE17)/AE17,"") -> -0.01271139
B31: 2017 | C31: KOKKU | D31: =SUM(D19:D30) -> 2.8695741e+08 | E31: =SUM(E19:E30) -> 28760211 | F31: =SUM(F19:F30) -> 3.1571762e+08 | L31: =SUM(L19:L30) -> 5.6528806e+08 | M31: =SUM(M19:M30) -> 21361805 | N31: =SUM(N19:N30) -> 5.8664986e+08 | T31: =SUM(T19:T30) -> 6781446 | U31: =SUM(U19:U30) -> 12511893 | AA31: =F31+N31+U31 -> 9.1487938e+08
B32: 2018 | C32: jaanuar | D32: 20010790 | E32: 1834406 | F32: =IF((D32+E32)>0,D32+E32,"") -> 21845196 | G32: =IF(ISNUMBER(F32),(F32-F19)/F19,"") -> -0.07417719 | H32: =IF(F32>0,F32,"") -> 21845196 | I32: =IF(ISNUMBER(H32),(H32-H19)/H19,"") -> -0.07417719 | J32: =IF(ISNUMBER(F32),F32+F30+F29+F28+F27+F26+F25+F24+F23+F22+F21+F20,"") -> 3.1396738e+08 | K32: =IF(ISNUMBER(J32),(J32-J19)/J19,"") -> -0.015230534 | L32: 43988829 | M32: 1346888 | N32: =IF((L32+M32)>0,L32+M32,"") -> 45335717 | O32: =IF(ISNUMBER(N32),(N32-N19)/N19,"") -> -0.024103298 | P32: =N32 -> 45335717 | Q32: =IF(ISNUMBER(N32),(P32-P19)/P19,"") -> -0.024103298 | R32: =IF(ISNUMBER(N32),N32+N30+N29+N28+N27+N26+N25+N24+N23+N22+N21+N20,"") -> 5.8553013e+08 | S32: =IF(ISNUMBER(R32),(R32-R19)/R19,"") -> -0.0022178426 | T32: 553866 | U32: =IF(ISNUMBER(T32),T32/$U$4,"") -> 1021893 | V32: =IF(ISNUMBER(U32),(U32-U19)/U19,"") -> 0.18634105 | W32: =IF(ISNUMBER(U32),W31+U32,"") -> 1021893 | X32: =IF(ISNUMBER(U32),(W32-W19)/W19,"") -> 0.18634105 | Y32: =IF(ISNUMBER(U32),U32+U30+U29+U28+U27+U26+U25+U24+U23+U22+U21+U20,"") -> 12672404 | Z32: =IF(ISNUMBER(Y32),(Y32-Y19)/Y19,"") -> 0.12185205 | AA32: =F32+N32+U32 -> 68202806 | AB32: =IF(ISNUMBER(AA32),(AA32-AA19)/AA19,"") -> -0.03820865 | AC32: =IF(ISNUMBER(AA32),AA32,"") -> 68202806 | AD32: =IF(ISNUMBER(AA32),(AC32-AC19)/AC19,"") -> -0.03820865 | AE32: =IF(ISNUMBER(AA32),AA32+AA30+AA29+AA28+AA27+AA26+AA25+AA24+AA23+AA22+AA21+AA20,"") -> 9.1216991e+08 | AF32: =IF(ISNUMBER(AE32),(AE32-AE19)/AE19,"") -> -0.0052139235
B33: 2018 | C33: veebruar | D33: 19973599 | E33: 1864296 | F33: =IF((D33+E33)>0,D33+E33,"") -> 21837895 | G33: =IF(ISNUMBER(F33),(F33-F20)/F20,"") -> 0.026922025 | H33: =IF(ISNUMBER(F33),F33+H32,"") -> 43683091 | I33: =IF(ISNUMBER(H33),(H33-H20)/H20,"") -> -0.026253107 | J33: =IF(ISNUMBER(F33),F33+F32+F30+F29+F28+F27+F26+F25+F24+F23+F22+F21,"") -> 3.1453988e+08 | K33: =IF(ISNUMBER(J33),(J33-J20)/J20,"") -> -0.016118875 | L33: 42836574 | M33: 1435411 | N33: =IF((L33+M33)>0,L33+M33,"") -> 44271985 | O33: =IF(ISNUMBER(N33),(N33-N20)/N20,"") -> 0.037942312 | P33: =IF(ISNUMBER(N33),P32+N33,"") -> 89607702 | Q33: =IF(ISNUMBER(N33),(P33-P20)/P20,"") -> 0.005595919 | R33: =IF(ISNUMBER(N33),N33+N32+N30+N29+N28+N27+N26+N25+N24+N23+N22+N21,"") -> 5.8714851e+08 | S33: =IF(ISNUMBER(R33),(R33-R20)/R20,"") -> 0.0041770021 | T33: 513474 | U33: =IF(ISNUMBER(T33),T33/$U$4,"") -> 947369 | V33: =IF(ISNUMBER(U33),(U33-U20)/U20,"") -> 0.16347727 | W33: =IF(ISNUMBER(U33),W32+U33,"") -> 1969262 | X33: =IF(ISNUMBER(U33),(W33-W20)/W20,"") -> 0.17523067 | Y33: =IF(ISNUMBER(U33),U33+U32+U30+U29+U28+U27+U26+U25+U24+U23+U22+U21,"") -> 12805516 | Z33: =IF(ISNUMBER(Y33),(Y33-Y20)/Y20,"") -> 0.12804184 | AA33: =F33+N33+U33 -> 67057249 | AB33: =IF(ISNUMBER(AA33),(AA33-AA20)/AA20,"") -> 0.03590112 | AC33: =IF(ISNUMBER(AA33),AC32+AA33,"") -> 1.3526005e+08 | AD33: =IF(ISNUMBER(AA33),(AC33-AC20)/AC20,"") -> -0.0028417139 | AE33: =IF(ISNUMBER(AA33),AA33+AA32+AA30+AA29+AA28+AA27+AA26+AA25+AA24+AA23+AA22+AA21,"") -> 9.1449391e+08 | AF33: =IF(ISNUMBER(AE33),(AE33-AE20)/AE20,"") -> -0.0013729089
B34: 2018 | C34: märts | D34: 21752473 | E34: 2015880 | F34: =IF((D34+E34)>0,D34+E34,"") -> 23768353 | G34: =IF(ISNUMBER(F34),(F34-F21)/F21,"") -> -0.015038378 | H34: =IF(ISNUMBER(F34),F34+H33,"") -> 67451444 | I34: =IF(ISNUMBER(H34),(H34-H21)/H21,"") -> -0.022330549 | J34: =IF(ISNUMBER(F34),F34+F33+F32+F30+F29+F28+F27+F26+F25+F24+F23+F22,"") -> 3.1417699e+08 | K34: =IF(ISNUMBER(J34),(J34-J21)/J21,"") -> -0.016642352 | L34: 46031366 | M34: 1471193 | N34: =IF((L34+M34)>0,L34+M34,"") -> 47502559 | O34: =IF(ISNUMBER(N34),(N34-N21)/N21,"") -> -0.032960114 | P34: =IF(ISNUMBER(N34),P33+N34,"") -> 137110261 | Q34: =IF(ISNUMBER(N34),(P34-P21)/P21,"") -> -0.0081053427 | R34: =IF(ISNUMBER(N34),N34+N33+N32+N30+N29+N28+N27+N26+N25+N24+N23+N22,"") -> 5.8552946e+08 | S34: =IF(ISNUMBER(R34),(R34-R21)/R21,"") -> -0.00037072049 | T34: 582860 | U34: =IF(ISNUMBER(T34),T34/$U$4,"") -> 1075387.5 | V34: =IF(ISNUMBER(U34),(U34-U21)/U21,"") -> 0.081689896 | W34: =IF(ISNUMBER(U34),W33+U34,"") -> 3044649.4 | X34: =IF(ISNUMBER(U34),(W34-W21)/W21,"") -> 0.14039835 | Y34: =IF(ISNUMBER(U34),U34+U33+U32+U30+U29+U28+U27+U26+U25+U24+U23+U22,"") -> 12886730 | Z34: =IF(ISNUMBER(Y34),(Y34-Y21)/Y21,"") -> 0.12080135 | AA34: =F34+N34+U34 -> 72346299 | AB34: =IF(ISNUMBER(AA34),(AA34-AA21)/AA21,"") -> -0.025600145 | AC34: =IF(ISNUMBER(AA34),AC33+AA34,"") -> 2.0760635e+08 | AD34: =IF(ISNUMBER(AA34),(AC34-AC21)/AC21,"") -> -0.010892243 | AE34: =IF(ISNUMBER(AA34),AA34+AA33+AA32+AA30+AA29+AA28+AA27+AA26+AA25+AA24+AA23+AA22,"") -> 9.1259318e+08 | AF34: =IF(ISNUMBER(AE34),(AE34-AE21)/AE21,"") -> -0.0045218285
B35: 2018 | C35: aprill | D35: 22050831 | E35: 2040480 | F35: =IF((D35+E35)>0,D35+E35,"") -> 24091311 | G35: =IF(ISNUMBER(F35),(F35-F22)/F22,"") -> -0.039700519 | H35: =IF(ISNUMBER(F35),F35+H34,"") -> 91542755 | I35: =IF(ISNUMBER(H35),(H35-H22)/H22,"") -> -0.026962441 | J35: =IF(ISNUMBER(F35),F35+F34+F33+F32+F30+F29+F28+F27+F26+F25+F24+F23,"") -> 3.1318101e+08 | K35: =IF(ISNUMBER(J35),(J35-J22)/J22,"") -> -0.01875242 | L35: 44693712 | M35: 1379542 | N35: =IF((L35+M35)>0,L35+M35,"") -> 46073254 | O35: =IF(ISNUMBER(N35),(N35-N22)/N22,"") -> -0.025238838 | P35: =IF(ISNUMBER(N35),P34+N35,"") -> 183183515 | Q35: =IF(ISNUMBER(N35),(P35-P22)/P22,"") -> -0.012471105 | R35: =IF(ISNUMBER(N35),N35+N34+N33+N32+N30+N29+N28+N27+N26+N25+N24+N23,"") -> 5.8433651e+08 | S35: =IF(ISNUMBER(R35),(R35-R22)/R22,"") -> -0.0035742449 | T35: 571282 | U35: =IF(ISNUMBER(T35),T35/$U$4,"") -> 1054025.8 | V35: =IF(ISNUMBER(U35),(U35-U22)/U22,"") -> 0.073109156 | W35: =IF(ISNUMBER(U35),W34+U35,"") -> 4098675.3 | X35: =IF(ISNUMBER(U35),(W35-W22)/W22,"") -> 0.12230085 | Y35: =IF(ISNUMBER(U35),U35+U34+U33+U32+U30+U29+U28+U27+U26+U25+U24+U23,"") -> 12958539 | Z35: =IF(ISNUMBER(Y35),(Y35-Y22)/Y22,"") -> 0.1176199 | AA35: =F35+N35+U35 -> 71218591 | AB35: =IF(ISNUMBER(AA35),(AA35-AA22)/AA22,"") -> -0.028868794 | AC35: =IF(ISNUMBER(AA35),AC34+AA35,"") -> 2.7882495e+08 | AD35: =IF(ISNUMBER(AA35),(AC35-AC22)/AC22,"") -> -0.015546874 | AE35: =IF(ISNUMBER(AA35),AA35+AA34+AA33+AA32+AA30+AA29+AA28+AA27+AA26+AA25+AA24+AA23,"") -> 9.1047606e+08 | AF35: =IF(ISNUMBER(AE35),(AE35-AE22)/AE22,"") -> -0.0073238815
B36: 2018 | C36: mai | D36: 25140509 | E36: 3566990 | F36: =IF((D36+E36)>0,D36+E36,"") -> 28707499 | G36: =IF(ISNUMBER(F36),(F36-F23)/F23,"") -> 0.004255365 | H36: =IF(ISNUMBER(F36),F36+H35,"") -> 120250254 | I36: =IF(ISNUMBER(H36),(H36-H23)/H23,"") -> -0.019687456 | J36: =IF(ISNUMBER(F36),F36+F35+F34+F33+F32+F30+F29+F28+F27+F26+F25+F24,"") -> 3.1330265e+08 | K36: =IF(ISNUMBER(J36),(J36-J23)/J23,"") -> -0.01568616 | L36: 50956447 | M36: 2087387 | N36: =IF((L36+M36)>0,L36+M36,"") -> 53043834 | O36: =IF(ISNUMBER(N36),(N36-N23)/N23,"") -> -0.001946042 | P36: =IF(ISNUMBER(N36),P35+N36,"") -> 236227349 | Q36: =IF(ISNUMBER(N36),(P36-P23)/P23,"") -> -0.01012712 | R36: =IF(ISNUMBER(N36),N36+N35+N34+N33+N32+N30+N29+N28+N27+N26+N25+N24,"") -> 5.8423309e+08 | S36: =IF(ISNUMBER(R36),(R36-R23)/R23,"") -> -0.0086759794 | T36: 710230 | U36: =IF(ISNUMBER(T36),T36/$U$4,"") -> 1310387.5 | V36: =IF(ISNUMBER(U36),(U36-U23)/U23,"") -> 0.22414284 | W36: =IF(ISNUMBER(U36),W35+U36,"") -> 5409062.7 | X36: =IF(ISNUMBER(U36),(W36-W23)/W23,"") -> 0.14538555 | Y36: =IF(ISNUMBER(U36),U36+U35+U34+U33+U32+U30+U29+U28+U27+U26+U25+U24,"") -> 13198474 | Z36: =IF(ISNUMBER(Y36),(Y36-Y23)/Y23,"") -> 0.12984202 | AA36: =F36+N36+U36 -> 83061720 | AB36: =IF(ISNUMBER(AA36),(AA36-AA23)/AA23,"") -> 0.0031176294 | AC36: =IF(ISNUMBER(AA36),AC35+AA36,"") -> 3.6188667e+08 | AD36: =IF(ISNUMBER(AA36),(AC36-AC23)/AC23,"") -> -0.011324597 | AE36: =IF(ISNUMBER(AA36),AA36+AA35+AA34+AA33+AA32+AA30+AA29+AA28+AA27+AA26+AA25+AA24,"") -> 9.1073421e+08 | AF36: =IF(ISNUMBER(AE36),(AE36-AE23)/AE23,"") -> -0.0093429737
B37: 2018 | C37: juuni | D37: 24150945 | E37: 3965350 | F37: =IF((D37+E37)>0,D37+E37,"") -> 28116295 | G37: =IF(ISNUMBER(F37),(F37-F24)/F24,"") -> -0.053355223 | H37: =IF(ISNUMBER(F37),F37+H36,"") -> 148366549 | I37: =IF(ISNUMBER(H37),(H37-H24)/H24,"") -> -0.026250369 | J37: =IF(ISNUMBER(F37),F37+F36+F35+F34+F33+F32+F30+F29+F28+F27+F26+F25,"") -> 3.1171795e+08 | K37: =IF(ISNUMBER(J37),(J37-J24)/J24,"") -> -0.021830151 | L37: 50642518 | M37: 1669437 | N37: =IF((L37+M37)>0,L37+M37,"") -> 52311955 | O37: =IF(ISNUMBER(N37),(N37-N24)/N24,"") -> 0.06485052 | P37: =IF(ISNUMBER(N37),P36+N37,"") -> 288539304 | Q37: =IF(ISNUMBER(N37),(P37-P24)/P24,"") -> 0.0026725335 | R37: =IF(ISNUMBER(N37),N37+N36+N35+N34+N33+N32+N30+N29+N28+N27+N26+N25,"") -> 5.8741894e+08 | S37: =IF(ISNUMBER(R37),(R37-R24)/R24,"") -> -0.0060060009 | T37: 591204 | U37: =IF(ISNUMBER(T37),T37/$U$4,"") -> 1090782.3 | V37: =IF(ISNUMBER(U37),(U37-U24)/U24,"") -> -0.031390406 | W37: =IF(ISNUMBER(U37),W36+U37,"") -> 6499845 | X37: =IF(ISNUMBER(U37),(W37-W24)/W24,"") -> 0.1113479 | Y37: =IF(ISNUMBER(U37),U37+U36+U35+U34+U33+U32+U30+U29+U28+U27+U26+U25,"") -> 13163124 | Z37: =IF(ISNUMBER(Y37),(Y37-Y24)/Y24,"") -> 0.11529603 | AA37: =F37+N37+U37 -> 81519032 | AB37: =IF(ISNUMBER(AA37),(AA37-AA24)/AA24,"") -> 0.01958395 | AC37: =IF(ISNUMBER(AA37),AC36+AA37,"") -> 4.434057e+08 | AD37: =IF(ISNUMBER(AA37),(AC37-AC24)/AC24,"") -> -0.0057835188 | AE37: =IF(ISNUMBER(AA37),AA37+AA36+AA35+AA34+AA33+AA32+AA30+AA29+AA28+AA27+AA26+AA25,"") -> 9.1230001e+08 | AF37: =IF(ISNUMBER(AE37),(AE37-AE24)/AE24,"") -> -0.0099249591
B38: 2018 | C38: juuli | D38: 25249189 | E38: 4534245 | F38: =IF((D38+E38)>0,D38+E38,"") -> 29783434 | G38: =IF(ISNUMBER(F38),(F38-F25)/F25,"") -> -0.040571229 | H38: =IF(ISNUMBER(F38),F38+H37,"") -> 178149983 | I38: =IF(ISNUMBER(H38),(H38-H25)/H25,"") -> -0.028674244 | J38: =IF(ISNUMBER(F38),F38+F37+F36+F35+F34+F33+F32+F30+F29+F28+F27+F26,"") -> 3.104585e+08 | K38: =IF(ISNUMBER(J38),(J38-J25)/J25,"") -> -0.021845323 | L38: 52065410 | M38: 1636212 | N38: =IF((L38+M38)>0,L38+M38,"") -> 53701622 | O38: =IF(ISNUMBER(N38),(N38-N25)/N25,"") -> 0.056723098 | P38: =IF(ISNUMBER(N38),P37+N38,"") -> 342240926 | Q38: =IF(ISNUMBER(N38),(P38-P25)/P25,"") -> 0.010785007 | R38: =IF(ISNUMBER(N38),N38+N37+N36+N35+N34+N33+N32+N30+N29+N28+N27+N26,"") -> 5.9030155e+08 | S38: =IF(ISNUMBER(R38),(R38-R25)/R25,"") -> -0.0016745788 | T38: 573920 | U38: =IF(ISNUMBER(T38),T38/$U$4,"") -> 1058893 | V38: =IF(ISNUMBER(U38),(U38-U25)/U25,"") -> -0.29595616 | W38: =IF(ISNUMBER(U38),W37+U38,"") -> 7558738 | X38: =IF(ISNUMBER(U38),(W38-W25)/W25,"") -> 0.028031904 | Y38: =IF(ISNUMBER(U38),U38+U37+U36+U35+U34+U33+U32+U30+U29+U28+U27+U26,"") -> 12718001 | Z38: =IF(ISNUMBER(Y38),(Y38-Y25)/Y25,"") -> 0.039475406 | AA38: =F38+N38+U38 -> 84543949 | AB38: =IF(ISNUMBER(AA38),(AA38-AA25)/AA25,"") -> 0.01413097 | AC38: =IF(ISNUMBER(AA38),AC37+AA38,"") -> 5.2794965e+08 | AD38: =IF(ISNUMBER(AA38),(AC38-AC25)/AC25,"") -> -0.0026472453 | AE38: =IF(ISNUMBER(AA38),AA38+AA37+AA36+AA35+AA34+AA33+AA32+AA30+AA29+AA28+AA27+AA26,"") -> 9.1347805e+08 | AF38: =IF(ISNUMBER(AE38),(AE38-AE25)/AE25,"") -> -0.0080796636
B39: 2018 | C39: august | D39: 23964286 | E39: 4456754 | F39: =IF((D39+E39)>0,D39+E39,"") -> 28421040 | G39: =IF(ISNUMBER(F39),(F39-F26)/F26,"") -> -0.062121356 | H39: =IF(ISNUMBER(F39),F39+H38,"") -> 206571023 | I39: =IF(ISNUMBER(H39),(H39-H26)/H26,"") -> -0.033416902 | J39: =IF(ISNUMBER(F39),F39+F38+F37+F36+F35+F34+F33+F32+F30+F29+F28+F27,"") -> 3.0857601e+08 | K39: =IF(ISNUMBER(J39),(J39-J26)/J26,"") -> -0.027224944 | L39: 55042284 | M39: 2097143 | N39: =IF((L39+M39)>0,L39+M39,"") -> 57139427 | O39: =IF(ISNUMBER(N39),(N39-N26)/N26,"") -> 0.057768907 | P39: =IF(ISNUMBER(N39),P38+N39,"") -> 399380353 | Q39: =IF(ISNUMBER(N39),(P39-P26)/P26,"") -> 0.017249507 | R39: =IF(ISNUMBER(N39),N39+N38+N37+N36+N35+N34+N33+N32+N30+N29+N28+N27,"") -> 5.9342216e+08 | S39: =IF(ISNUMBER(R39),(R39-R26)/R26,"") -> 0.0033523987 | T39: 866025 | U39: =IF(ISNUMBER(T39),T39/$U$4,"") -> 1597832.1 | V39: =IF(ISNUMBER(U39),(U39-U26)/U26,"") -> 0.36504743 | W39: =IF(ISNUMBER(U39),W38+U39,"") -> 9156570.1 | X39: =IF(ISNUMBER(U39),(W39-W26)/W26,"") -> 0.074316082 | Y39: =IF(ISNUMBER(U39),U39+U38+U37+U36+U35+U34+U33+U32+U30+U29+U28+U27,"") -> 13145301 | Z39: =IF(ISNUMBER(Y39),(Y39-Y26)/Y26,"") -> 0.068491061 | AA39: =F39+N39+U39 -> 87158299 | AB39: =IF(ISNUMBER(AA39),(AA39-AA26)/AA26,"") -> 0.019480113 | AC39: =IF(ISNUMBER(AA39),AC38+AA39,"") -> 6.1510795e+08 | AD39: =IF(ISNUMBER(AA39),(AC39-AC26)/AC26,"") -> 0.0004295225 | AE39: =IF(ISNUMBER(AA39),AA39+AA38+AA37+AA36+AA35+AA34+AA33+AA32+AA30+AA29+AA28+AA27,"") -> 9.1514347e+08 | AF39: =IF(ISNUMBER(AE39),(AE39-AE26)/AE26,"") -> -0.006309453
B40: 2018 | C40: september | D40: 20717413 | E40: 4108126 | F40: =IF((D40+E40)>0,D40+E40,"") -> 24825539 | G40: =IF(ISNUMBER(F40),(F40-F27)/F27,"") -> -0.075709601 | H40: =IF(ISNUMBER(F40),F40+H39,"") -> 231396562 | I40: =IF(ISNUMBER(H40),(H40-H27)/H27,"") -> -0.038138741 | J40: =IF(ISNUMBER(F40),F40+F39+F38+F37+F36+F35+F34+F33+F32+F30+F29+F28,"") -> 306542519 | K40: =IF(ISNUMBER(J40),(J40-J27)/J27,"") -> -0.02954133 | L40: 48083593 | M40: 1248510 | N40: =IF((L40+M40)>0,L40+M40,"") -> 49332103 | O40: =IF(ISNUMBER(N40),(N40-N27)/N27,"") -> -0.031732826 | P40: =IF(ISNUMBER(N40),P39+N40,"") -> 448712456 | Q40: =IF(ISNUMBER(N40),(P40-P27)/P27,"") -> 0.011623186 | R40: =IF(ISNUMBER(N40),N40+N39+N38+N37+N36+N35+N34+N33+N32+N30+N29+N28,"") -> 591805408 | S40: =IF(ISNUMBER(R40),(R40-R27)/R27,"") -> 0.0040457448 | T40: 625555 | U40: =IF(ISNUMBER(T40),T40/$U$4,"") -> 1154160.5 | V40: =IF(ISNUMBER(U40),(U40-U27)/U27,"") -> 0.12758903 | W40: =IF(ISNUMBER(U40),W39+U40,"") -> 10310731 | X40: =IF(ISNUMBER(U40),(W40-W27)/W27,"") -> 0.080027811 | Y40: =IF(ISNUMBER(U40),U40+U39+U38+U37+U36+U35+U34+U33+U32+U30+U29+U28,"") -> 13275897 | Z40: =IF(ISNUMBER(Y40),(Y40-Y27)/Y27,"") -> 0.07646185 | AA40: =F40+N40+U40 -> 75311803 | AB40: =IF(ISNUMBER(AA40),(AA40-AA27)/AA27,"") -> -0.044647686 | AC40: =IF(ISNUMBER(AA40),AC39+AA40,"") -> 6.9041975e+08 | AD40: =IF(ISNUMBER(AA40),(AC40-AC27)/AC27,"") -> -0.0046931933 | AE40: =IF(ISNUMBER(AA40),AA40+AA39+AA38+AA37+AA36+AA35+AA34+AA33+AA32+AA30+AA29+AA28,"") -> 9.1162382e+08 | AF40: =IF(ISNUMBER(AE40),(AE40-AE27)/AE27,"") -> -0.0065426235
B41: 2018 | C41: oktoober | D41: 20557177 | E41: 3719947 | F41: =IF((D41+E41)>0,D41+E41,"") -> 24277124 | G41: =IF(ISNUMBER(F41),(F41-F28)/F28,"") -> -0.061271691 | H41: =IF(ISNUMBER(F41),F41+H40,"") -> 255673686 | I41: =IF(ISNUMBER(H41),(H41-H28)/H28,"") -> -0.040384172 | J41: =IF(ISNUMBER(F41),F41+F40+F39+F38+F37+F36+F35+F34+F33+F32+F30+F29,"") -> 304957928 | K41: =IF(ISNUMBER(J41),(J41-J28)/J28,"") -> -0.03298447 | L41: 50835293 | M41: 1205064 | N41: =IF((L41+M41)>0,L41+M41,"") -> 52040357 | O41: =IF(ISNUMBER(N41),(N41-N28)/N28,"") -> 0.030228976 | P41: =IF(ISNUMBER(N41),P40+N41,"") -> 500752813 | Q41: =IF(ISNUMBER(N41),(P41-P28)/P28,"") -> 0.013525428 | R41: =IF(ISNUMBER(N41),N41+N40+N39+N38+N37+N36+N35+N34+N33+N32+N30+N29,"") -> 593332376 | S41: =IF(ISNUMBER(R41),(R41-R28)/R28,"") -> 0.0082194062 | T41: 631999 | U41: =IF(ISNUMBER(T41),T41/$U$4,"") -> 1166049.8 | V41: =IF(ISNUMBER(U41),(U41-U28)/U28,"") -> 0.16399028 | W41: =IF(ISNUMBER(U41),W40+U41,"") -> 11476780 | X41: =IF(ISNUMBER(U41),(W41-W28)/W28,"") -> 0.088001557 | Y41: =IF(ISNUMBER(U41),U41+U40+U39+U38+U37+U36+U35+U34+U33+U32+U30+U29,"") -> 13440177 | Z41: =IF(ISNUMBER(Y41),(Y41-Y28)/Y28,"") -> 0.089854316 | AA41: =F41+N41+U41 -> 77483531 | AB41: =IF(ISNUMBER(AA41),(AA41-AA28)/AA28,"") -> 0.001378415 | AC41: =IF(ISNUMBER(AA41),AC40+AA41,"") -> 7.6790328e+08 | AD41: =IF(ISNUMBER(AA41),(AC41-AC28)/AC28,"") -> -0.0040838933 | AE41: =IF(ISNUMBER(AA41),AA41+AA40+AA39+AA38+AA37+AA36+AA35+AA34+AA33+AA32+AA30+AA29,"") -> 9.1173048e+08 | AF41: =IF(ISNUMBER(AE41),(AE41-AE28)/AE28,"") -> -0.0048645145
B42: 2018 | C42: november | D42: 19932706 | E42: 3495026 | F42: =IF((D42+E42)>0,D42+E42,"") -> 23427732 | G42: =IF(ISNUMBER(F42),(F42-F29)/F29,"") -> -0.0073245187 | H42: =IF(ISNUMBER(F42),F42+H41,"") -> 279101418 | I42: =IF(ISNUMBER(H42),(H42-H29)/H29,"") -> -0.037694047 | J42: =IF(ISNUMBER(F42),F42+F41+F40+F39+F38+F37+F36+F35+F34+F33+F32+F30,"") -> 304785065 | K42: =IF(ISNUMBER(J42),(J42-J29)/J29,"") -> -0.032168895 | L42: 49520020 | M42: 1199708 | N42: =IF((L42+M42)>0,L42+M42,"") -> 50719728 | O42: =IF(ISNUMBER(N42),(N42-N29)/N29,"") -> 0.073154672 | P42: =IF(ISNUMBER(N42),P41+N42,"") -> 551472541 | Q42: =IF(ISNUMBER(N42),(P42-P29)/P29,"") -> 0.018731495 | R42: =IF(ISNUMBER(N42),N42+N41+N40+N39+N38+N37+N36+N35+N34+N33+N32+N30,"") -> 596789832 | S42: =IF(ISNUMBER(R42),(R42-R29)/R29,"") -> 0.017611398 | T42: 581884 | U42: =IF(ISNUMBER(T42),T42/$U$4,"") -> 1073586.7 | V42: =IF(ISNUMBER(U42),(U42-U29)/U29,"") -> 0.12127612 | W42: =IF(ISNUMBER(U42),W41+U42,"") -> 12550367 | X42: =IF(ISNUMBER(U42),(W42-W29)/W29,"") -> 0.090770499 | Y42: =IF(ISNUMBER(U42),U42+U41+U40+U39+U38+U37+U36+U35+U34+U33+U32+U30,"") -> 13556295 | Z42: =IF(ISNUMBER(Y42),(Y42-Y29)/Y29,"") -> 0.093228228 | AA42: =F42+N42+U42 -> 75221047 | AB42: =IF(ISNUMBER(AA42),(AA42-AA29)/AA29,"") -> 0.047350253 | AC42: =IF(ISNUMBER(AA42),AC41+AA42,"") -> 8.4312433e+08 | AD42: =IF(ISNUMBER(AA42),(AC42-AC29)/AC29,"") -> 0.00029875961 | AE42: =IF(ISNUMBER(AA42),AA42+AA41+AA40+AA39+AA38+AA37+AA36+AA35+AA34+AA33+AA32+AA30,"") -> 9.1513119e+08 | AF42: =IF(ISNUMBER(AE42),(AE42-AE29)/AE29,"") -> 0.0014817323
B43: 2018 | C43: detsember | D43: 19848718 | E43: 4319168 | F43: =IF((D43+E43)>0,D43+E43,"") -> 24167886 | G43: =IF(ISNUMBER(F43),(F43-F30)/F30,"") -> -0.05901658 | H43: =IF(ISNUMBER(F43),F43+H42,"") -> 303269304 | I43: =IF(ISNUMBER(H43),(H43-H30)/H30,"") -> -0.039428636 | J43: =IF(ISNUMBER(F43),F43+F42+F41+F40+F39+F38+F37+F36+F35+F34+F33+F32,"") -> 303269304 | K43: =IF(ISNUMBER(J43),(J43-J30)/J30,"") -> -0.039428636 | L43: 46362684 | M43: 1010215 | N43: =IF((L43+M43)>0,L43+M43,"") -> 47372899 | O43: =IF(ISNUMBER(N43),(N43-N30)/N30,"") -> 0.045360346 | P43: =IF(ISNUMBER(N43),P42+N43,"") -> 598845440 | Q43: =IF(ISNUMBER(N43),(P43-P30)/P30,"") -> 0.02078851 | R43: =IF(ISNUMBER(N43),N43+N42+N41+N40+N39+N38+N37+N36+N35+N34+N33+N32,"") -> 598845440 | S43: =IF(ISNUMBER(R43),(R43-R30)/R30,"") -> 0.02078851 | T43: 597991 | U43: =IF(ISNUMBER(T43),T43/$U$4,"") -> 1103304.4 | V43: =IF(ISNUMBER(U43),(U43-U30)/U30,"") -> 0.096802534 | W43: =IF(ISNUMBER(U43),W42+U43,"") -> 13653672 | X43: =IF(ISNUMBER(U43),(W43-W30)/W30,"") -> 0.091255461 | Y43: =IF(ISNUMBER(U43),U43+U42+U41+U40+U39+U38+U37+U36+U34+U33+U32+U32,"") -> 13621539 | Z43: =IF(ISNUMBER(Y43),(Y43-Y30)/Y30,"") -> 0.099303896 | AA43: =F43+N43+U43 -> 72644089 | AB43: =IF(ISNUMBER(AA43),(AA43-AA30)/AA30,"") -> 0.0088494809 | AC43: =IF(ISNUMBER(AA43),AC42+AA43,"") -> 9.1576842e+08 | AD43: =IF(ISNUMBER(AA43),(AC43-AC30)/AC30,"") -> 0.00097175613 | AE43: =IF(ISNUMBER(AA43),AA43+AA42+AA41+AA40+AA39+AA38+AA37+AA36+AA35+AA34+AA33+AA32,"") -> 9.1576842e+08 | AF43: =IF(ISNUMBER(AE43),(AE43-AE30)/AE30,"") -> 0.00097175613
B44: 2018 | C44: KOKKU | D44: =SUM(D32:D43) -> 263348636 | E44: =SUM(E32:E43) -> 39920668 | F44: =SUM(F32:F43) -> 303269304 | L44: =SUM(L32:L43) -> 581058730 | M44: =SUM(M32:M43) -> 17786710 | N44: =SUM(N32:N43) -> 598845440 | T44: =SUM(T32:T43) -> 7400290 | U44: =SUM(U32:U43) -> 13653672 | AA44: =F44+N44+U44 -> 9.1576842e+08
B45: 2019 | C45: jaanuar | D45: 18197693 | E45: 3894081 | F45: =IF((D45+E45)>0,D45+E45,"") -> 22091774 | G45: =IF(ISNUMBER(F45),(F45-F32)/F32,"") -> 0.011287516 | H45: =IF(F45>0,F45,"") -> 22091774 | I45: =IF(ISNUMBER(H45),(H45-H32)/H32,"") -> 0.011287516 | J45: =IF(ISNUMBER(F45),F45+F43+F42+F41+F40+F39+F38+F37+F36+F35+F34+F33,"") -> 303515882 | K45: =IF(ISNUMBER(J45),(J45-J32)/J32,"") -> -0.033288471 | L45: 51482545 | M45: 1018927 | N45: =IF((L45+M45)>0,L45+M45,"") -> 52501472 | O45: =IF(ISNUMBER(N45),(N45-N32)/N32,"") -> 0.15805981 | P45: =N45 -> 52501472 | Q45: =IF(ISNUMBER(N45),(P45-P32)/P32,"") -> 0.15805981 | R45: =IF(ISNUMBER(N45),N45+N43+N42+N41+N40+N39+N38+N37+N36+N35+N34+N33,"") -> 606011195 | S45: =IF(ISNUMBER(R45),(R45-R32)/R32,"") -> 0.034978662 | T45: 606869 | U45: =IF(ISNUMBER(T45),T45/$U$4,"") -> 1119684.5 | V45: =IF(ISNUMBER(U45),(U45-U32)/U32,"") -> 0.095696432 | W45: =IF(ISNUMBER(U45),W44+U45,"") -> 1119684.5 | X45: =IF(ISNUMBER(U45),(W45-W32)/W32,"") -> 0.095696432 | Y45: =IF(ISNUMBER(U45),U45+U43+U42+U41+U40+U39+U38+U37+U36+U35+U34+U33,"") -> 13751463 | Z45: =IF(ISNUMBER(Y45),(Y45-Y32)/Y32,"") -> 0.085150318 | AA45: =F45+N45+U45 -> 75712931 | AB45: =IF(ISNUMBER(AA45),(AA45-AA32)/AA32,"") -> 0.1101146 | AC45: =IF(ISNUMBER(AA45),AA45,"") -> 75712931 | AD45: =IF(ISNUMBER(AA45),(AC45-AC32)/AC32,"") -> 0.1101146 | AE45: =IF(ISNUMBER(AA45),AA45+AA43+AA42+AA41+AA40+AA39+AA38+AA37+AA36+AA35+AA34+AA33,"") -> 9.2327854e+08 | AF45: =IF(ISNUMBER(AE45),(AE45-AE32)/AE32,"") -> 0.012178242
B46: 2019 | C46: veebruar | D46: 16593009 | E46: 3131581 | F46: =IF((D46+E46)>0,D46+E46,"") -> 19724590 | G46: =IF(ISNUMBER(F46),(F46-F33)/F33,"") -> -0.096772361 | H46: =IF(ISNUMBER(F46),F46+H45,"") -> 41816364 | I46: =IF(ISNUMBER(H46),(H46-H33)/H33,"") -> -0.042733392 | J46: =IF(ISNUMBER(F46),F46+F45+F43+F42+F41+F40+F39+F38+F37+F36+F35+F34,"") -> 3.0140258e+08 | K46: =IF(ISNUMBER(J46),(J46-J33)/J33,"") -> -0.041766741 | L46: 43447014 | M46: 777450.42 | N46: =IF((L46+M46)>0,L46+M46,"") -> 44224465 | O46: =IF(ISNUMBER(N46),(N46-N33)/N33,"") -> -0.0010733709 | P46: =IF(ISNUMBER(N46),P45+N46,"") -> 96725937 | Q46: =IF(ISNUMBER(N46),(P46-P33)/P33,"") -> 0.079437756 | R46: =IF(ISNUMBER(N46),N46+N45+N43+N42+N41+N40+N39+N38+N37+N36+N35+N34,"") -> 6.0596367e+08 | S46: =IF(ISNUMBER(R46),(R46-R33)/R33,"") -> 0.032044983 | T46: 538307 | U46: 893461.48 | V46: =IF(ISNUMBER(U46),(U46-U33)/U33,"") -> -0.056902351 | W46: =IF(ISNUMBER(U46),W45+U46,"") -> 2013146 | X46: =IF(ISNUMBER(U46),(W46-W33)/W33,"") -> 0.022284485 | Y46: =IF(ISNUMBER(U46),U46+U45+U43+U42+U41+U40+U39+U38+U37+U36+U35+U34,"") -> 13697556 | Z46: =IF(ISNUMBER(Y46),(Y46-Y33)/Y33,"") -> 0.069660547 | AA46: =F46+N46+U46 -> 64842517 | AB46: =IF(ISNUMBER(AA46),(AA46-AA33)/AA33,"") -> -0.033027487 | AC46: =IF(ISNUMBER(AA46),AC45+AA46,"") -> 1.4055545e+08 | AD46: =IF(ISNUMBER(AA46),(AC46-AC33)/AC33,"") -> 0.039149711 | AE46: =IF(ISNUMBER(AA46),AA46+AA45+AA43+AA42+AA41+AA40+AA39+AA38+AA37+AA36+AA35+AA34,"") -> 9.2106381e+08 | AF46: =IF(ISNUMBER(AE46),(AE46-AE33)/AE33,"") -> 0.0071841894
B47: 2019 | C47: märts | D47: 19561117 | E47: 3893187.7 | F47: =IF((D47+E47)>0,D47+E47,"") -> 23454305 | G47: =IF(ISNUMBER(F47),(F47-F34)/F34,"") -> -0.013212861 | H47: =IF(ISNUMBER(F47),F47+H46,"") -> 65270669 | I47: =IF(ISNUMBER(H47),(H47-H34)/H34,"") -> -0.032331029 | J47: =IF(ISNUMBER(F47),F47+F46+F45+F43+F42+F41+F40+F39+F38+F37+F36+F35,"") -> 3.0108853e+08 | K47: =IF(ISNUMBER(J47),(J47-J34)/J34,"") -> -0.041659509 | L47: 46816974 | M47: 828493.63 | N47: =IF((L47+M47)>0,L47+M47,"") -> 47645468 | O47: =IF(ISNUMBER(N47),(N47-N34)/N34,"") -> 0.0030084392 | P47: =IF(ISNUMBER(N47),P46+N47,"") -> 1.443714e+08 | Q47: =IF(ISNUMBER(N47),(P47-P34)/P34,"") -> 0.052958424 | R47: =IF(ISNUMBER(N47),N47+N46+N45+N43+N42+N41+N40+N39+N38+N37+N36+N35,"") -> 6.0610658e+08 | S47: =IF(ISNUMBER(R47),(R47-R34)/R34,"") -> 0.035142769 | U47: 1009569.6 | V47: =IF(ISNUMBER(U47),(U47-U34)/U34,"") -> -0.061203846 | W47: =IF(ISNUMBER(U47),W46+U47,"") -> 3022715.6 | X47: =IF(ISNUMBER(U47),(W47-W34)/W34,"") -> -0.007204067 | Y47: =IF(ISNUMBER(U47),U47+U46+U45+U43+U42+U41+U40+U39+U38+U37+U36+U35,"") -> 13631738 | Z47: =IF(ISNUMBER(Y47),(Y47-Y34)/Y34,"") -> 0.057811987 | AA47: =F47+N47+U47 -> 72109342 | AB47: =IF(ISNUMBER(AA47),(AA47-AA34)/AA34,"") -> -0.0032753194 | AC47: =IF(ISNUMBER(AA47),AC46+AA47,"") -> 2.1266479e+08 | AD47: =IF(ISNUMBER(AA47),(AC47-AC34)/AC34,"") -> 0.024365511 | AE47: =IF(ISNUMBER(AA47),AA47+AA46+AA45+AA43+AA42+AA41+AA40+AA39+AA38+AA37+AA36+AA35,"") -> 9.2082685e+08 | AF47: =IF(ISNUMBER(AE47),(AE47-AE34)/AE34,"") -> 0.0090222843
B48: 2019 | C48: aprill | D48: 15531571 | E48: 7567958.1 | F48: =IF((D48+E48)>0,D48+E48,"") -> 23099529 | G48: =IF(ISNUMBER(F48),(F48-F35)/F35,"") -> -0.041167637 | H48: =IF(ISNUMBER(F48),F48+H47,"") -> 88370198 | I48: =IF(ISNUMBER(H48),(H48-H35)/H35,"") -> -0.03465656 | J48: =IF(ISNUMBER(F48),F48+F47+F46+F45+F43+F42+F41+F40+F39+F38+F37+F36,"") -> 3.0009675e+08 | K48: =IF(ISNUMBER(J48),(J48-J35)/J35,"") -> -0.041778596 | L48: 46753758 | M48: 1212793.8 | N48: =IF((L48+M48)>0,L48+M48,"") -> 47966552 | O48: =IF(ISNUMBER(N48),(N48-N35)/N35,"") -> 0.041093208 | P48: =IF(ISNUMBER(N48),P47+N48,"") -> 1.9233796e+08 | Q48: =IF(ISNUMBER(N48),(P48-P35)/P35,"") -> 0.049974154 | R48: =IF(ISNUMBER(N48),N48+N47+N46+N45+N43+N42+N41+N40+N39+N38+N37+N36,"") -> 6.0799988e+08 | S48: =IF(ISNUMBER(R48),(R48-R35)/R35,"") -> 0.040496132 | U48: 1094128.2 | V48: =IF(ISNUMBER(U48),(U48-U35)/U35,"") -> 0.038046895 | W48: =IF(ISNUMBER(U48),W47+U48,"") -> 4116843.8 | X48: =IF(ISNUMBER(U48),(W48-W35)/W35,"") -> 0.0044327862 | Y48: =IF(ISNUMBER(U48),U48+U47+U46+U45+U43+U42+U41+U40+U39+U38+U37+U36,"") -> 13671840 | Z48: =IF(ISNUMBER(Y48),(Y48-Y35)/Y35,"") -> 0.05504485 | AA48: =F48+N48+U48 -> 72160209 | AB48: =IF(ISNUMBER(AA48),(AA48-AA35)/AA35,"") -> 0.013221518 | AC48: =IF(ISNUMBER(AA48),AC47+AA48,"") -> 2.84825e+08 | AD48: =IF(ISNUMBER(AA48),(AC48-AC35)/AC35,"") -> 0.021519067 | AE48: =IF(ISNUMBER(AA48),AA48+AA47+AA46+AA45+AA43+AA42+AA41+AA40+AA39+AA38+AA37+AA36,"") -> 9.2176847e+08 | AF48: =IF(ISNUMBER(AE48),(AE48-AE35)/AE35,"") -> 0.012402749
B49: 2019 | C49: mai | D49: 15851025 | E49: 10517445 | F49: =IF((D49+E49)>0,D49+E49,"") -> 26368469 | G49: =IF(ISNUMBER(F49),(F49-F36)/F36,"") -> -0.081477999 | H49: =IF(ISNUMBER(F49),F49+H48,"") -> 1.1473867e+08 | I49: =IF(ISNUMBER(H49),(H49-H36)/H36,"") -> -0.045834303 | J49: =IF(ISNUMBER(F49),F49+F48+F47+F46+F45+F43+F42+F41+F40+F39+F38+F37,"") -> 2.9775772e+08 | K49: =IF(ISNUMBER(J49),(J49-J36)/J36,"") -> -0.049616355 | L49: 51377386 | M49: 1010425.6 | N49: =IF((L49+M49)>0,L49+M49,"") -> 52387812 | O49: =IF(ISNUMBER(N49),(N49-N36)/N36,"") -> -0.012367554 | P49: =IF(ISNUMBER(N49),P48+N49,"") -> 2.4472577e+08 | Q49: =IF(ISNUMBER(N49),(P49-P36)/P36,"") -> 0.035975592 | R49: =IF(ISNUMBER(N49),N49+N48+N47+N46+N45+N43+N42+N41+N40+N39+N38+N37,"") -> 6.0734386e+08 | S49: =IF(ISNUMBER(R49),(R49-R36)/R36,"") -> 0.039557453 | U49: 1287494.6 | V49: =IF(ISNUMBER(U49),(U49-U36)/U36,"") -> -0.017470256 | W49: =IF(ISNUMBER(U49),W48+U49,"") -> 5404338.5 | X49: =IF(ISNUMBER(U49),(W49-W36)/W36,"") -> -0.00087339582 | Y49: =IF(ISNUMBER(U49),U49+U48+U47+U46+U45+U43+U42+U41+U40+U39+U38+U37,"") -> 13648947 | Z49: =IF(ISNUMBER(Y49),(Y49-Y36)/Y36,"") -> 0.034130739 | AA49: =F49+N49+U49 -> 80043776 | AB49: =IF(ISNUMBER(AA49),(AA49-AA36)/AA36,"") -> -0.036333763 | AC49: =IF(ISNUMBER(AA49),AC48+AA49,"") -> 3.6486877e+08 | AD49: =IF(ISNUMBER(AA49),(AC49-AC36)/AC36,"") -> 0.0082404469 | AE49: =IF(ISNUMBER(AA49),AA49+AA48+AA47+AA46+AA45+AA43+AA42+AA41+AA40+AA39+AA38+AA37,"") -> 9.1875052e+08 | AF49: =IF(ISNUMBER(AE49),(AE49-AE36)/AE36,"") -> 0.0088020308
B50: 2019 | C50: juuni | D50: 16499208 | E50: 11693666 | F50: =IF((D50+E50)>0,D50+E50,"") -> 28192875 | G50: =IF(ISNUMBER(F50),(F50-F37)/F37,"") -> 0.0027236764 | H50: =IF(ISNUMBER(F50),F50+H49,"") -> 1.4293154e+08 | I50: =IF(ISNUMBER(H50),(H50-H37)/H37,"") -> -0.036632293 | J50: =IF(ISNUMBER(F50),F50+F49+F48+F47+F46+F45+F43+F42+F41+F40+F39+F38,"") -> 2.978343e+08 | K50: =IF(ISNUMBER(J50),(J50-J37)/J37,"") -> -0.04453915 | L50: 49043788 | M50: 1044557.8 | N50: =IF((L50+M50)>0,L50+M50,"") -> 50088346 | O50: =IF(ISNUMBER(N50),(N50-N37)/N37,"") -> -0.042506708 | P50: =IF(ISNUMBER(N50),P49+N50,"") -> 2.9481411e+08 | Q50: =IF(ISNUMBER(N50),(P50-P37)/P37,"") -> 0.021746811 | R50: =IF(ISNUMBER(N50),N50+N49+N48+N47+N46+N45+N43+N42+N41+N40+N39+N38,"") -> 6.0512025e+08 | S50: =IF(ISNUMBER(R50),(R50-R37)/R37,"") -> 0.030134048 | U50: 1266519 | V50: =IF(ISNUMBER(U50),(U50-U37)/U37,"") -> 0.16111071 | W50: =IF(ISNUMBER(U50),W49+U50,"") -> 6670857.5 | X50: =IF(ISNUMBER(U50),(W50-W37)/W37,"") -> 0.026310236 | Y50: =IF(ISNUMBER(U50),U50+U49+U48+U47+U46+U45+U43+U42+U41+U40+U39+U38,"") -> 13824684 | Z50: =IF(ISNUMBER(Y50),(Y50-Y37)/Y37,"") -> 0.050258595 | AA50: =F50+N50+U50 -> 79547740 | AB50: =IF(ISNUMBER(AA50),(AA50-AA37)/AA37,"") -> -0.024181992 | AC50: =IF(ISNUMBER(AA50),AC49+AA50,"") -> 4.4441651e+08 | AD50: =IF(ISNUMBER(AA50),(AC50-AC37)/AC37,"") -> 0.0022796623 | AE50: =IF(ISNUMBER(AA50),AA50+AA49+AA48+AA47+AA46+AA45+AA43+AA42+AA41+AA40+AA39+AA38,"") -> 9.1677923e+08 | AF50: =IF(ISNUMBER(AE50),(AE50-AE37)/AE37,"") -> 0.004909808
B51: 2019 | C51: juuli | D51: 16614060 | E51: 11507986 | F51: =IF((D51+E51)>0,D51+E51,"") -> 28122047 | G51: =IF(ISNUMBER(F51),(F51-F38)/F38,"") -> -0.055782259 | H51: =IF(ISNUMBER(F51),F51+H50,"") -> 1.7105359e+08 | I51: =IF(ISNUMBER(H51),(H51-H38)/H38,"") -> -0.039833819 | J51: =IF(ISNUMBER(F51),F51+F50+F49+F48+F47+F46+F45+F43+F42+F41+F40+F39,"") -> 2.9617291e+08 | K51: =IF(ISNUMBER(J51),(J51-J38)/J38,"") -> -0.046014498 | L51: 52464648 | M51: 1172163.7 | N51: =IF((L51+M51)>0,L51+M51,"") -> 53636812 | O51: =IF(ISNUMBER(N51),(N51-N38)/N38,"") -> -0.0012068619 | P51: =IF(ISNUMBER(N51),P50+N51,"") -> 3.4845093e+08 | Q51: =IF(ISNUMBER(N51),(P51-P38)/P38,"") -> 0.01814511 | R51: =IF(ISNUMBER(N51),N51+N50+N49+N48+N47+N46+N45+N43+N42+N41+N40+N39,"") -> 6.0505544e+08 | S51: =IF(ISNUMBER(R51),(R51-R38)/R38,"") -> 0.024993816 | U51: 1345707 | V51: =IF(ISNUMBER(U51),(U51-U38)/U38,"") -> 0.27086213 | W51: =IF(ISNUMBER(U51),W50+U51,"") -> 8016564.5 | X51: =IF(ISNUMBER(U51),(W51-W38)/W38,"") -> 0.060569168 | Y51: =IF(ISNUMBER(U51),U51+U50+U49+U48+U47+U46+U45+U43+U42+U41+U40+U39,"") -> 14111498 | Z51: =IF(ISNUMBER(Y51),(Y51-Y38)/Y38,"") -> 0.10956885 | AA51: =F51+N51+U51 -> 83104565 | AB51: =IF(ISNUMBER(AA51),(AA51-AA38)/AA38,"") -> -0.017025271 | AC51: =IF(ISNUMBER(AA51),AC50+AA51,"") -> 5.2752108e+08 | AD51: =IF(ISNUMBER(AA51),(AC51-AC38)/AC38,"") -> -0.00081176005 | AE51: =IF(ISNUMBER(AA51),AA51+AA50+AA49+AA48+AA47+AA46+AA45+AA43+AA42+AA41+AA40+AA39,"") -> 9.1533985e+08 | AF51: =IF(ISNUMBER(AE51),(AE51-AE38)/AE38,"") -> 0.0020381366
B52: 2019 | C52: august | D52: 16346580 | E52: 11494217 | F52: =IF((D52+E52)>0,D52+E52,"") -> 27840798 | G52: =IF(ISNUMBER(F52),(F52-F39)/F39,"") -> -0.020415948 | H52: =IF(ISNUMBER(F52),F52+H51,"") -> 1.9889439e+08 | I52: =IF(ISNUMBER(H52),(H52-H39)/H39,"") -> -0.037162214 | J52: =IF(ISNUMBER(F52),F52+F51+F50+F49+F48+F47+F46+F45+F43+F42+F41+F40,"") -> 2.9559267e+08 | K52: =IF(ISNUMBER(J52),(J52-J39)/J39,"") -> -0.042075007 | L52: 52753882 | M52: 1361794.6 | N52: =IF((L52+M52)>0,L52+M52,"") -> 54115677 | O52: =IF(ISNUMBER(N52),(N52-N39)/N39,"") -> -0.052918801 | P52: =IF(ISNUMBER(N52),P51+N52,"") -> 4.025666e+08 | Q52: =IF(ISNUMBER(N52),(P52-P39)/P39,"") -> 0.0079779819 | R52: =IF(ISNUMBER(N52),N52+N51+N50+N49+N48+N47+N46+N45+N43+N42+N41+N40,"") -> 6.0203169e+08 | S52: =IF(ISNUMBER(R52),(R52-R39)/R39,"") -> 0.014508272 | U52: 1355875 | V52: =IF(ISNUMBER(U52),(U52-U39)/U39,"") -> -0.15142837 | W52: =IF(ISNUMBER(U52),W51+U52,"") -> 9372439.5 | X52: =IF(ISNUMBER(U52),(W52-W39)/W39,"") -> 0.023575352 | Y52: =IF(ISNUMBER(U52),U52+U51+U50+U49+U48+U47+U46+U45+U43+U42+U41+U40,"") -> 13869541 | Z52: =IF(ISNUMBER(Y52),(Y52-Y39)/Y39,"") -> 0.055094966 | AA52: =F52+N52+U52 -> 83312350 | AB52: =IF(ISNUMBER(AA52),(AA52-AA39)/AA39,"") -> -0.044126028 | AC52: =IF(ISNUMBER(AA52),AC51+AA52,"") -> 6.1083343e+08 | AD52: =IF(ISNUMBER(AA52),(AC52-AC39)/AC39,"") -> -0.006949216 | AE52: =IF(ISNUMBER(AA52),AA52+AA51+AA50+AA49+AA48+AA47+AA46+AA45+AA43+AA42+AA41+AA40,"") -> 9.114939e+08 | AF52: =IF(ISNUMBER(AE52),(AE52-AE39)/AE39,"") -> -0.0039879732
B53: 2019 | C53: september | D53: 14091274 | E53: 10009428 | F53: =IF((D53+E53)>0,D53+E53,"") -> 24100702 | G53: =IF(ISNUMBER(F53),(F53-F40)/F40,"") -> -0.029197232 | H53: =IF(ISNUMBER(F53),F53+H52,"") -> 2.2299509e+08 | I53: =IF(ISNUMBER(H53),(H53-H40)/H40,"") -> -0.036307686 | J53: =IF(ISNUMBER(F53),F53+F52+F51+F50+F49+F48+F47+F46+F45+F43+F42+F41,"") -> 2.9486783e+08 | K53: =IF(ISNUMBER(J53),(J53-J40)/J40,"") -> -0.038085055 | L53: 50145826 | M53: 1050620.6 | N53: =IF((L53+M53)>0,L53+M53,"") -> 51196447 | O53: =IF(ISNUMBER(N53),(N53-N40)/N40,"") -> 0.037791697 | P53: =IF(ISNUMBER(N53),P52+N53,"") -> 4.5376305e+08 | Q53: =IF(ISNUMBER(N53),(P53-P40)/P40,"") -> 0.011255745 | R53: =IF(ISNUMBER(N53),N53+N52+N51+N50+N49+N48+N47+N46+N45+N43+N42+N41,"") -> 6.0389603e+08 | S53: =IF(ISNUMBER(R53),(R53-R40)/R40,"") -> 0.020430069 | U53: 1285128 | V53: =IF(ISNUMBER(U53),(U53-U40)/U40,"") -> 0.11347424 | W53: =IF(ISNUMBER(U53),W52+U53,"") -> 10657567 | X53: =IF(ISNUMBER(U53),(W53-W40)/W40,"") -> 0.033638436 | Y53: =IF(ISNUMBER(U53),U53+U52+U51+U50+U49+U48+U47+U46+U45+U43+U42+U41,"") -> 14000508 | Z53: =IF(ISNUMBER(Y53),(Y53-Y40)/Y40,"") -> 0.054581003 | AA53: =F53+N53+U53 -> 76582277 | AB53: =IF(ISNUMBER(AA53),(AA53-AA40)/AA40,"") -> 0.016869525 | AC53: =IF(ISNUMBER(AA53),AC52+AA53,"") -> 6.8741571e+08 | AD53: =IF(ISNUMBER(AA53),(AC53-AC40)/AC40,"") -> -0.0043510395 | AE53: =IF(ISNUMBER(AA53),AA53+AA52+AA51+AA50+AA49+AA48+AA47+AA46+AA45+AA43+AA42+AA41,"") -> 9.1276437e+08 | AF53: =IF(ISNUMBER(AE53),(AE53-AE40)/AE40,"") -> 0.0012511173
B54: 2019 | C54: oktoober | D54: 13904989 | E54: 9268099.5 | F54: =IF((D54+E54)>0,D54+E54,"") -> 23173088 | G54: =IF(ISNUMBER(F54),(F54-F41)/F41,"") -> -0.045476388 | H54: =IF(ISNUMBER(F54),F54+H53,"") -> 2.4616818e+08 | I54: =IF(ISNUMBER(H54),(H54-H41)/H41,"") -> -0.037178286 | J54: =IF(ISNUMBER(F54),F54+F53+F52+F51+F50+F49+F48+F47+F46+F45+F43+F42,"") -> 2.9376379e+08 | K54: =IF(ISNUMBER(J54),(J54-J41)/J41,"") -> -0.036707141 | L54: 50550886 | M54: 938655.61 | N54: =IF((L54+M54)>0,L54+M54,"") -> 51489541 | O54: =IF(ISNUMBER(N54),(N54-N41)/N41,"") -> -0.010584394 | P54: =IF(ISNUMBER(N54),P53+N54,"") -> 5.0525259e+08 | Q54: =IF(ISNUMBER(N54),(P54-P41)/P41,"") -> 0.0089860254 | R54: =IF(ISNUMBER(N54),N54+N53+N52+N51+N50+N49+N48+N47+N46+N45+N43+N42,"") -> 6.0334522e+08 | S54: =IF(ISNUMBER(R54),(R54-R41)/R41,"") -> 0.016875603 | U54: 1280318 | V54: =IF(ISNUMBER(U54),(U54-U41)/U41,"") -> 0.097995972 | W54: =IF(ISNUMBER(U54),W53+U54,"") -> 11937885 | X54: =IF(ISNUMBER(U54),(W54-W41)/W41,"") -> 0.040177211 | Y54: =IF(ISNUMBER(U54),U54+U53+U52+U51+U50+U49+U48+U47+U46+U45+U43+U42,"") -> 14114777 | Z54: =IF(ISNUMBER(Y54),(Y54-Y41)/Y41,"") -> 0.050192754 | AA54: =F54+N54+U54 -> 75942947 | AB54: =IF(ISNUMBER(AA54),(AA54-AA41)/AA41,"") -> -0.01988272 | AC54: =IF(ISNUMBER(AA54),AC53+AA54,"") -> 7.6335865e+08 | AD54: =IF(ISNUMBER(AA54),(AC54-AC41)/AC41,"") -> -0.0059182284 | AE54: =IF(ISNUMBER(AA54),AA54+AA53+AA52+AA51+AA50+AA49+AA48+AA47+AA46+AA45+AA43+AA42,"") -> 9.1122379e+08 | AF54: =IF(ISNUMBER(AE54),(AE54-AE41)/AE41,"") -> -0.00055574814
B55: 2019 | C55: november | D55: 13286470 | E55: 8717047.9 | F55: =IF((D55+E55)>0,D55+E55,"") -> 22003518 | G55: =IF(ISNUMBER(F55),(F55-F42)/F42,"") -> -0.060791797 | H55: =IF(ISNUMBER(F55),F55+H54,"") -> 2.6817169e+08 | I55: =IF(ISNUMBER(H55),(H55-H42)/H42,"") -> -0.039160401 | J55: =IF(ISNUMBER(F55),F55+F54+F53+F52+F51+F50+F49+F48+F47+F46+F45+F43,"") -> 2.9233958e+08 | K55: =IF(ISNUMBER(J55),(J55-J42)/J42,"") -> -0.040833643 | L55: 47149262 | M55: 779470.08 | N55: =IF((L55+M55)>0,L55+M55,"") -> 47928732 | O55: =IF(ISNUMBER(N55),(N55-N42)/N42,"") -> -0.055027811 | P55: =IF(ISNUMBER(N55),P54+N55,"") -> 5.5318132e+08 | Q55: =IF(ISNUMBER(N55),(P55-P42)/P42,"") -> 0.0030985802 | R55: =IF(ISNUMBER(N55),N55+N54+N53+N52+N51+N50+N49+N48+N47+N46+N45+N43,"") -> 6.0055422e+08 | S55: =IF(ISNUMBER(R55),(R55-R42)/R42,"") -> 0.0063077313 | U55: 1182888.7 | V55: =IF(ISNUMBER(U55),(U55-U42)/U42,"") -> 0.10181014 | W55: =IF(ISNUMBER(U55),W54+U55,"") -> 13120774 | X55: =IF(ISNUMBER(U55),(W55-W42)/W42,"") -> 0.045449431 | Y55: =IF(ISNUMBER(U55),U55+U54+U53+U52+U51+U50+U49+U48+U47+U46+U45+U43,"") -> 14224079 | Z55: =IF(ISNUMBER(Y55),(Y55-Y42)/Y42,"") -> 0.049260024 | AA55: =F55+N55+U55 -> 71115139 | AB55: =IF(ISNUMBER(AA55),(AA55-AA42)/AA42,"") -> -0.054584557 | AC55: =IF(ISNUMBER(AA55),AC54+AA55,"") -> 8.3447379e+08 | AD55: =IF(ISNUMBER(AA55),(AC55-AC42)/AC42,"") -> -0.010260094 | AE55: =IF(ISNUMBER(AA55),AA55+AA54+AA53+AA52+AA51+AA50+AA49+AA48+AA47+AA46+AA45+AA43,"") -> 9.0711788e+08 | AF55: =IF(ISNUMBER(AE55),(AE55-AE42)/AE42,"") -> -0.0087564616
B56: 2019 | C56: detsember | D56: 13416930 | E56: 8568539.4 | F56: =IF((D56+E56)>0,D56+E56,"") -> 21985470 | G56: =IF(ISNUMBER(F56),(F56-F43)/F43,"") -> -0.090302324 | H56: =IF(ISNUMBER(F56),F56+H55,"") -> 2.9015716e+08 | I56: =IF(ISNUMBER(H56),(H56-H43)/H43,"") -> -0.043235961 | J56: =IF(ISNUMBER(F56),F56+F55+F54+F53+F52+F51+F50+F49+F48+F47+F46+F45,"") -> 2.9015716e+08 | K56: =IF(ISNUMBER(J56),(J56-J43)/J43,"") -> -0.043235961 | L56: 42869637 | M56: 763326.67 | N56: =IF((L56+M56)>0,L56+M56,"") -> 43632964 | O56: =IF(ISNUMBER(N56),(N56-N43)/N43,"") -> -0.078946722 | P56: =IF(ISNUMBER(N56),P55+N56,"") -> 5.9681429e+08 | Q56: =IF(ISNUMBER(N56),(P56-P43)/P43,"") -> -0.003391782 | R56: =IF(ISNUMBER(N56),N56+N55+N54+N53+N52+N51+N50+N49+N48+N47+N46+N45,"") -> 5.9681429e+08 | S56: =IF(ISNUMBER(R56),(R56-R43)/R43,"") -> -0.003391782 | U56: 1222686 | V56: =IF(ISNUMBER(U56),(U56-U43)/U43,"") -> 0.10820366 | W56: =IF(ISNUMBER(U56),W55+U56,"") -> 14343460 | X56: =IF(ISNUMBER(U56),(W56-W43)/W43,"") -> 0.050520376 | Y56: =IF(ISNUMBER(U56),U56+U55+U54+U53+U52+U51+U50+U49+U47+U46+U45+U45,"") -> 14369016 | Z56: =IF(ISNUMBER(Y56),(Y56-Y43)/Y43,"") -> 0.054874691 | AA56: =F56+N56+U56 -> 66841120 | AB56: =IF(ISNUMBER(AA56),(AA56-AA43)/AA43,"") -> -0.079882202 | AC56: =IF(ISNUMBER(AA56),AC55+AA56,"") -> 9.0131491e+08 | AD56: =IF(ISNUMBER(AA56),(AC56-AC43)/AC43,"") -> -0.015782925 | AE56: =IF(ISNUMBER(AA56),AA56+AA55+AA54+AA53+AA52+AA51+AA50+AA49+AA48+AA47+AA46+AA45,"") -> 9.0131491e+08 | AF56: =IF(ISNUMBER(AE56),(AE56-AE43)/AE43,"") -> -0.015782925
B57: 2019 | C57: KOKKU | D57: =SUM(D45:D56) -> 1.8989393e+08 | E57: =SUM(E45:E56) -> 1.0026324e+08 | F57: =SUM(F45:F56) -> 2.9015716e+08 | L57: =SUM(L45:L56) -> 5.8485561e+08 | M57: =SUM(M45:M56) -> 11958679 | N57: =SUM(N45:N56) -> 5.9681429e+08 | T57: =SUM(T45:T56) -> 1145176 | U57: =SUM(U45:U56) -> 14343460 | AA57: =F57+N57+U57 -> 9.0131491e+08
B58: 2020 | C58: jaanuar | D58: 12550852 | E58: 7687557.9 | F58: =IF((D58+E58)>0,D58+E58,"") -> 20238410 | G58: =IF(ISNUMBER(F58),(F58-F45)/F45,"") -> -0.083893845 | H58: =IF(F58>0,F58,"") -> 20238410 | I58: =IF(ISNUMBER(H58),(H58-H45)/H45,"") -> -0.083893845 | J58: =IF(ISNUMBER(F58),F58+F56+F55+F54+F53+F52+F51+F50+F49+F48+F47+F46,"") -> 2.883038e+08 | K58: =IF(ISNUMBER(J58),(J58-J45)/J45,"") -> -0.050119557 | L58: 42740233 | M58: 730751.03 | N58: =IF((L58+M58)>0,L58+M58,"") -> 43470984 | O58: =IF(ISNUMBER(N58),(N58-N45)/N45,"") -> -0.17200447 | P58: =N58 -> 43470984 | Q58: =IF(ISNUMBER(N58),(P58-P45)/P45,"") -> -0.17200447 | R58: =IF(ISNUMBER(N58),N58+N56+N55+N54+N53+N52+N51+N50+N49+N48+N47+N46,"") -> 5.877838e+08 | S58: =IF(ISNUMBER(R58),(R58-R45)/R45,"") -> -0.030077656 | U58: 1132325.3 | V58: =IF(ISNUMBER(U58),(U58-U45)/U45,"") -> 0.011289594 | W58: =IF(ISNUMBER(U58),W57+U58,"") -> 1132325.3 | X58: =IF(ISNUMBER(U58),(W58-W45)/W45,"") -> 0.011289594 | Y58: =IF(ISNUMBER(U58),U58+U56+U55+U54+U53+U52+U51+U50+U49+U48+U47+U46,"") -> 14356101 | Z58: =IF(ISNUMBER(Y58),(Y58-Y45)/Y45,"") -> 0.043968986 | AA58: =F58+N58+U58 -> 64841719 | AB58: =IF(ISNUMBER(AA58),(AA58-AA45)/AA45,"") -> -0.1435846 | AC58: =IF(ISNUMBER(AA58),AA58,"") -> 64841719 | AD58: =IF(ISNUMBER(AA58),(AC58-AC45)/AC45,"") -> -0.1435846 | AE58: =IF(ISNUMBER(AA58),AA58+AA56+AA55+AA54+AA53+AA52+AA51+AA50+AA49+AA48+AA47+AA46,"") -> 8.904437e+08 | AF58: =IF(ISNUMBER(AE58),(AE58-AE45)/AE45,"") -> -0.035563309
B59: 2020 | C59: veebruar | D59: 12214148 | E59: 8149565.2 | F59: =IF((D59+E59)>0,D59+E59,"") -> 20363714 | G59: =IF(ISNUMBER(F59),(F59-F46)/F46,"") -> 0.03240236 | H59: =IF(ISNUMBER(F59),F59+H58,"") -> 40602124 | I59: =IF(ISNUMBER(H59),(H59-H46)/H46,"") -> -0.02903745 | J59: =IF(ISNUMBER(F59),F59+F58+F56+F55+F54+F53+F52+F51+F50+F49+F48+F47,"") -> 2.8894292e+08 | K59: =IF(ISNUMBER(J59),(J59-J46)/J46,"") -> -0.041338909 | L59: 44329844 | M59: 713801.15 | N59: =IF((L59+M59)>0,L59+M59,"") -> 45043645 | O59: =IF(ISNUMBER(N59),(N59-N46)/N46,"") -> 0.018523231 | P59: =IF(ISNUMBER(N59),P58+N59,"") -> 88514629 | Q59: =IF(ISNUMBER(N59),(P59-P46)/P46,"") -> -0.084892515 | R59: =IF(ISNUMBER(N59),N59+N58+N56+N55+N54+N53+N52+N51+N50+N49+N48+N47,"") -> 5.8860298e+08 | S59: =IF(ISNUMBER(R59),(R59-R46)/R46,"") -> -0.028649731 | U59: 1117551.9 | V59: =IF(ISNUMBER(U59),(U59-U46)/U46,"") -> 0.25081146 | W59: =IF(ISNUMBER(U59),W58+U59,"") -> 2249877.1 | X59: =IF(ISNUMBER(U59),(W59-W46)/W46,"") -> 0.11759265 | Y59: =IF(ISNUMBER(U59),U59+U58+U56+U55+U54+U53+U52+U51+U50+U49+U48+U47,"") -> 14580191 | Z59: =IF(ISNUMBER(Y59),(Y59-Y46)/Y46,"") -> 0.064437468 | AA59: =F59+N59+U59 -> 66524910 | AB59: =IF(ISNUMBER(AA59),(AA59-AA46)/AA46,"") -> 0.025945841 | AC59: =IF(ISNUMBER(AA59),AC58+AA59,"") -> 1.3136663e+08 | AD59: =IF(ISNUMBER(AA59),(AC59-AC46)/AC46,"") -> -0.065375037 | AE59: =IF(ISNUMBER(AA59),AA59+AA58+AA56+AA55+AA54+AA53+AA52+AA51+AA50+AA49+AA48+AA47,"") -> 8.9212609e+08 | AF59: =IF(ISNUMBER(AE59),(AE59-AE46)/AE46,"") -> -0.031417708
B60: 2020 | C60: märts | D60: 11002801 | E60: 8008551.3 | F60: =IF((D60+E60)>0,D60+E60,"") -> 19011352 | G60: =IF(ISNUMBER(F60),(F60-F47)/F47,"") -> -0.18943015 | H60: =IF(ISNUMBER(F60),F60+H59,"") -> 59613476 | I60: =IF(ISNUMBER(H60),(H60-H47)/H47,"") -> -0.086672823 | J60: =IF(ISNUMBER(F60),F60+F59+F58+F56+F55+F54+F53+F52+F51+F50+F49+F48,"") -> 2.8449997e+08 | K60: =IF(ISNUMBER(J60),(J60-J47)/J47,"") -> -0.055095285 | L60: 44440519 | M60: 842307.01 | N60: =IF((L60+M60)>0,L60+M60,"") -> 45282826 | O60: =IF(ISNUMBER(N60),(N60-N47)/N47,"") -> -0.04958796 | P60: =IF(ISNUMBER(N60),P59+N60,"") -> 1.3379745e+08 | Q60: =IF(ISNUMBER(N60),(P60-P47)/P47,"") -> -0.073241302 | R60: =IF(ISNUMBER(N60),N60+N59+N58+N56+N55+N54+N53+N52+N51+N50+N49+N48,"") -> 5.8624034e+08 | S60: =IF(ISNUMBER(R60),(R60-R47)/R47,"") -> -0.03277682 | U60: 1035299.6 | V60: =IF(ISNUMBER(U60),(U60-U47)/U47,"") -> 0.025486076 | W60: =IF(ISNUMBER(U60),W59+U60,"") -> 3285176.7 | X60: =IF(ISNUMBER(U60),(W60-W47)/W47,"") -> 0.086829582 | Y60: =IF(ISNUMBER(U60),U60+U59+U58+U56+U55+U54+U53+U52+U51+U50+U49+U48,"") -> 14605921 | Z60: =IF(ISNUMBER(Y60),(Y60-Y47)/Y47,"") -> 0.071464375 | AA60: =F60+N60+U60 -> 65329478 | AB60: =IF(ISNUMBER(AA60),(AA60-AA47)/AA47,"") -> -0.094021994 | AC60: =IF(ISNUMBER(AA60),AC59+AA60,"") -> 1.9669611e+08 | AD60: =IF(ISNUMBER(AA60),(AC60-AC47)/AC47,"") -> -0.075088508 | AE60: =IF(ISNUMBER(AA60),AA60+AA59+AA58+AA56+AA55+AA54+AA53+AA52+AA51+AA50+AA49+AA48,"") -> 8.8534623e+08 | AF60: =IF(ISNUMBER(AE60),(AE60-AE47)/AE47,"") -> -0.038531262
B61: 2020 | C61: aprill | D61: 9113940.2 | E61: 7253871.8 | F61: =IF((D61+E61)>0,D61+E61,"") -> 16367812 | G61: =IF(ISNUMBER(F61),(F61-F48)/F48,"") -> -0.29142225 | H61: =IF(ISNUMBER(F61),F61+H60,"") -> 75981288 | I61: =IF(ISNUMBER(H61),(H61-H48)/H48,"") -> -0.1401933 | J61: =IF(ISNUMBER(F61),F61+F60+F59+F58+F56+F55+F54+F53+F52+F51+F50+F49,"") -> 2.7776825e+08 | K61: =IF(ISNUMBER(J61),(J61-J48)/J48,"") -> -0.074404314 | L61: 41292934 | M61: 980859.61 | N61: =IF((L61+M61)>0,L61+M61,"") -> 42273793 | O61: =IF(ISNUMBER(N61),(N61-N48)/N48,"") -> -0.11868184 | P61: =IF(ISNUMBER(N61),P60+N61,"") -> 1.7607125e+08 | Q61: =IF(ISNUMBER(N61),(P61-P48)/P48,"") -> -0.084573572 | R61: =IF(ISNUMBER(N61),N61+N60+N59+N58+N56+N55+N54+N53+N52+N51+N50+N49,"") -> 5.8054758e+08 | S61: =IF(ISNUMBER(R61),(R61-R48)/R48,"") -> -0.045151822 | U61: 952963.25 | V61: =IF(ISNUMBER(U61),(U61-U48)/U48,"") -> -0.12902052 | W61: =IF(ISNUMBER(U61),W60+U61,"") -> 4238140 | X61: =IF(ISNUMBER(U61),(W61-W48)/W48,"") -> 0.029463382 | Y61: =IF(ISNUMBER(U61),U61+U60+U59+U58+U56+U55+U54+U53+U52+U51+U50+U49,"") -> 14464756 | Z61: =IF(ISNUMBER(Y61),(Y61-Y48)/Y48,"") -> 0.057996305 | AA61: =F61+N61+U61 -> 59594569 | AB61: =IF(ISNUMBER(AA61),(AA61-AA48)/AA48,"") -> -0.17413531 | AC61: =IF(ISNUMBER(AA61),AC60+AA61,"") -> 2.5629068e+08 | AD61: =IF(ISNUMBER(AA61),(AC61-AC48)/AC48,"") -> -0.10018194 | AE61: =IF(ISNUMBER(AA61),AA61+AA60+AA59+AA58+AA56+AA55+AA54+AA53+AA52+AA51+AA50+AA49,"") -> 8.7278059e+08 | AF61: =IF(ISNUMBER(AE61),(AE61-AE48)/AE48,"") -> -0.053145535
B62: 2020 | C62: mai | D62: 12504440 | E62: 11277778 | F62: =IF((D62+E62)>0,D62+E62,"") -> 23782219 | G62: =IF(ISNUMBER(F62),(F62-F49)/F49,"") -> -0.098081191 | H62: =IF(ISNUMBER(F62),F62+H61,"") -> 99763507 | I62: =IF(ISNUMBER(H62),(H62-H49)/H49,"") -> -0.13051538 | J62: =IF(ISNUMBER(F62),F62+F61+F60+F59+F58+F56+F55+F54+F53+F52+F51+F50,"") -> 2.75182e+08 | K62: =IF(ISNUMBER(J62),(J62-J49)/J49,"") -> -0.075819072 | L62: 52344190 | M62: 1009557.1 | N62: =IF((L62+M62)>0,L62+M62,"") -> 53353747 | O62: =IF(ISNUMBER(N62),(N62-N49)/N49,"") -> 0.018438172 | P62: =IF(ISNUMBER(N62),P61+N62,"") -> 2.29425e+08 | Q62: =IF(ISNUMBER(N62),(P62-P49)/P49,"") -> -0.062522115 | R62: =IF(ISNUMBER(N62),N62+N61+N60+N59+N58+N56+N55+N54+N53+N52+N51+N50,"") -> 5.8151351e+08 | S62: =IF(ISNUMBER(R62),(R62-R49)/R49,"") -> -0.042530017 | U62: 1228283.1 | V62: =IF(ISNUMBER(U62),(U62-U49)/U49,"") -> -0.045989783 | W62: =IF(ISNUMBER(U62),W61+U62,"") -> 5466423 | X62: =IF(ISNUMBER(U62),(W62-W49)/W49,"") -> 0.011487908 | Y62: =IF(ISNUMBER(U62),U62+U61+U60+U59+U58+U56+U55+U54+U53+U52+U51+U50,"") -> 14405545 | Z62: =IF(ISNUMBER(Y62),(Y62-Y49)/Y49,"") -> 0.055432657 | AA62: =F62+N62+U62 -> 78364249 | AB62: =IF(ISNUMBER(AA62),(AA62-AA49)/AA49,"") -> -0.020982606 | AC62: =IF(ISNUMBER(AA62),AC61+AA62,"") -> 3.3465492e+08 | AD62: =IF(ISNUMBER(AA62),(AC62-AC49)/AC49,"") -> -0.082807439 | AE62: =IF(ISNUMBER(AA62),AA62+AA61+AA60+AA59+AA58+AA56+AA55+AA54+AA53+AA52+AA51+AA50,"") -> 8.7110106e+08 | AF62: =IF(ISNUMBER(AE62),(AE62-AE49)/AE49,"") -> -0.051863329
B63: 2020 | C63: juuni | D63: 14217887 | E63: 12707468 | F63: =IF((D63+E63)>0,D63+E63,"") -> 26925355 | G63: =IF(ISNUMBER(F63),(F63-F50)/F50,"") -> -0.044958859 | H63: =IF(ISNUMBER(F63),F63+H62,"") -> 1.2668886e+08 | I63: =IF(ISNUMBER(H63),(H63-H50)/H50,"") -> -0.11363958 | J63: =IF(ISNUMBER(F63),F63+F62+F61+F60+F59+F58+F56+F55+F54+F53+F52+F51,"") -> 2.7391448e+08 | K63: =IF(ISNUMBER(J63),(J63-J50)/J50,"") -> -0.080312487 | L63: 53213388 | M63: 795191.94 | N63: =IF((L63+M63)>0,L63+M63,"") -> 54008580 | O63: =IF(ISNUMBER(N63),(N63-N50)/N50,"") -> 0.078266395 | P63: =IF(ISNUMBER(N63),P62+N63,"") -> 2.8343358e+08 | Q63: =IF(ISNUMBER(N63),(P63-P50)/P50,"") -> -0.03860242 | R63: =IF(ISNUMBER(N63),N63+N62+N61+N60+N59+N58+N56+N55+N54+N53+N52+N51,"") -> 5.8543375e+08 | S63: =IF(ISNUMBER(R63),(R63-R50)/R50,"") -> -0.032533205 | U63: 1410848.6 | V63: =IF(ISNUMBER(U63),(U63-U50)/U50,"") -> 0.11395775 | W63: =IF(ISNUMBER(U63),W62+U63,"") -> 6877271.7 | X63: =IF(ISNUMBER(U63),(W63-W50)/W50,"") -> 0.030942678 | Y63: =IF(ISNUMBER(U63),U63+U62+U61+U60+U59+U58+U56+U55+U54+U53+U52+U51,"") -> 14549874 | Z63: =IF(ISNUMBER(Y63),(Y63-Y50)/Y50,"") -> 0.052456197 | AA63: =F63+N63+U63 -> 82344784 | AB63: =IF(ISNUMBER(AA63),(AA63-AA50)/AA50,"") -> 0.035161835 | AC63: =IF(ISNUMBER(AA63),AC62+AA63,"") -> 4.1699971e+08 | AD63: =IF(ISNUMBER(AA63),(AC63-AC50)/AC50,"") -> -0.061691687 | AE63: =IF(ISNUMBER(AA63),AA63+AA62+AA61+AA60+AA59+AA58+AA56+AA55+AA54+AA53+AA52+AA51,"") -> 8.7389811e+08 | AF63: =IF(ISNUMBER(AE63),(AE63-AE50)/AE50,"") -> -0.046773664
B64: 2020 | C64: juuli | D64: 15397953 | E64: 13390926 | F64: =IF((D64+E64)>0,D64+E64,"") -> 28788879 | G64: =IF(ISNUMBER(F64),(F64-F51)/F51,"") -> 0.023712065 | H64: =IF(ISNUMBER(F64),F64+H63,"") -> 1.5547774e+08 | I64: =IF(ISNUMBER(H64),(H64-H51)/H51,"") -> -0.091058297 | J64: =IF(ISNUMBER(F64),F64+F63+F62+F61+F60+F59+F58+F56+F55+F54+F53+F52,"") -> 2.7458132e+08 | K64: =IF(ISNUMBER(J64),(J64-J51)/J51,"") -> -0.072901989 | L64: 58672466 | M64: 1394980.2 | N64: =IF((L64+M64)>0,L64+M64,"") -> 60067447 | O64: =IF(ISNUMBER(N64),(N64-N51)/N51,"") -> 0.11989219 | P64: =IF(ISNUMBER(N64),P63+N64,"") -> 3.4350102e+08 | Q64: =IF(ISNUMBER(N64),(P64-P51)/P51,"") -> -0.014205453 | R64: =IF(ISNUMBER(N64),N64+N63+N62+N61+N60+N59+N58+N56+N55+N54+N53+N52,"") -> 5.9186438e+08 | S64: =IF(ISNUMBER(R64),(R64-R51)/R51,"") -> -0.0218014 | U64: 1590860 | V64: =IF(ISNUMBER(U64),(U64-U51)/U51,"") -> 0.18217413 | W64: =IF(ISNUMBER(U64),W63+U64,"") -> 8468131.7 | X64: =IF(ISNUMBER(U64),(W64-W51)/W51,"") -> 0.056329266 | Y64: =IF(ISNUMBER(U64),U64+U63+U62+U61+U60+U59+U58+U56+U55+U54+U53+U52,"") -> 14795027 | Z64: =IF(ISNUMBER(Y64),(Y64-Y51)/Y51,"") -> 0.048437759 | AA64: =F64+N64+U64 -> 90447185 | AB64: =IF(ISNUMBER(AA64),(AA64-AA51)/AA51,"") -> 0.088353989 | AC64: =IF(ISNUMBER(AA64),AC63+AA64,"") -> 5.0744689e+08 | AD64: =IF(ISNUMBER(AA64),(AC64-AC51)/AC51,"") -> -0.038053805 | AE64: =IF(ISNUMBER(AA64),AA64+AA63+AA62+AA61+AA60+AA59+AA58+AA56+AA55+AA54+AA53+AA52,"") -> 8.8124073e+08 | AF64: =IF(ISNUMBER(AE64),(AE64-AE51)/AE51,"") -> -0.037252962
B65: 2020 | C65: august | D65: 14733841 | E65: 13837673 | F65: =IF((D65+E65)>0,D65+E65,"") -> 28571514 | G65: =IF(ISNUMBER(F65),(F65-F52)/F52,"") -> 0.026246239 | H65: =IF(ISNUMBER(F65),F65+H64,"") -> 1.8404925e+08 | I65: =IF(ISNUMBER(H65),(H65-H52)/H52,"") -> -0.074638266 | J65: =IF(ISNUMBER(F65),F65+F64+F63+F62+F61+F60+F59+F58+F56+F55+F54+F53,"") -> 2.7531203e+08 | K65: =IF(ISNUMBER(J65),(J65-J52)/J52,"") -> -0.068610076 | L65: 59595684 | M65: 1623912.7 | N65: =IF((L65+M65)>0,L65+M65,"") -> 61219597 | O65: =IF(ISNUMBER(N65),(N65-N52)/N52,"") -> 0.13127286 | P65: =IF(ISNUMBER(N65),P64+N65,"") -> 4.0472062e+08 | Q65: =IF(ISNUMBER(N65),(P65-P52)/P52,"") -> 0.0053507087 | R65: =IF(ISNUMBER(N65),N65+N64+N63+N62+N61+N60+N59+N58+N56+N55+N54+N53,"") -> 5.989683e+08 | S65: =IF(ISNUMBER(R65),(R65-R52)/R52,"") -> -0.0050884129 | U65: 1591740.5 | V65: =IF(ISNUMBER(U65),(U65-U52)/U52,"") -> 0.17395812 | W65: =IF(ISNUMBER(U65),W64+U65,"") -> 10059872 | X65: =IF(ISNUMBER(U65),(W65-W52)/W52,"") -> 0.073346182 | Y65: =IF(ISNUMBER(U65),U65+U64+U63+U62+U61+U60+U59+U58+U56+U55+U54+U53,"") -> 15030893 | Z65: =IF(ISNUMBER(Y65),(Y65-Y52)/Y52,"") -> 0.083733983 | AA65: =F65+N65+U65 -> 91382851 | AB65: =IF(ISNUMBER(AA65),(AA65-AA52)/AA52,"") -> 0.09687041 | AC65: =IF(ISNUMBER(AA65),AC64+AA65,"") -> 5.9882975e+08 | AD65: =IF(ISNUMBER(AA65),(AC65-AC52)/AC52,"") -> -0.01965132 | AE65: =IF(ISNUMBER(AA65),AA65+AA64+AA63+AA62+AA61+AA60+AA59+AA58+AA56+AA55+AA54+AA53,"") -> 8.8931123e+08 | AF65: =IF(ISNUMBER(AE65),(AE65-AE52)/AE52,"") -> -0.024336608
B66: 2020 | C66: september | D66: 12799297 | E66: 11971567 | F66: =IF((D66+E66)>0,D66+E66,"") -> 24770864 | G66: =IF(ISNUMBER(F66),(F66-F53)/F53,"") -> 0.027806744 | H66: =IF(ISNUMBER(F66),F66+H65,"") -> 2.0882012e+08 | I66: =IF(ISNUMBER(H66),(H66-H53)/H53,"") -> -0.063566289 | J66: =IF(ISNUMBER(F66),F66+F65+F64+F63+F62+F61+F60+F59+F58+F56+F55+F54,"") -> 2.7598219e+08 | K66: =IF(ISNUMBER(J66),(J66-J53)/J53,"") -> -0.064047802 | L66: 58533124 | M66: 1686125.7 | N66: =IF((L66+M66)>0,L66+M66,"") -> 60219250 | O66: =IF(ISNUMBER(N66),(N66-N53)/N53,"") -> 0.17623885 | P66: =IF(ISNUMBER(N66),P65+N66,"") -> 4.6493987e+08 | Q66: =IF(ISNUMBER(N66),(P66-P53)/P53,"") -> 0.024631401 | R66: =IF(ISNUMBER(N66),N66+N65+N64+N63+N62+N61+N60+N59+N58+N56+N55+N54,"") -> 6.0799111e+08 | S66: =IF(ISNUMBER(R66),(R66-R53)/R53,"") -> 0.0067810901 | U66: 1411281.8 | V66: =IF(ISNUMBER(U66),(U66-U53)/U53,"") -> 0.098164423 | W66: =IF(ISNUMBER(U66),W65+U66,"") -> 11471154 | X66: =IF(ISNUMBER(U66),(W66-W53)/W53,"") -> 0.076338856 | Y66: =IF(ISNUMBER(U66),U66+U65+U64+U63+U62+U61+U60+U59+U58+U56+U55+U54,"") -> 15157047 | Z66: =IF(ISNUMBER(Y66),(Y66-Y53)/Y53,"") -> 0.082606877 | AA66: =F66+N66+U66 -> 86401396 | AB66: =IF(ISNUMBER(AA66),(AA66-AA53)/AA53,"") -> 0.1282166 | AC66: =IF(ISNUMBER(AA66),AC65+AA66,"") -> 6.8523114e+08 | AD66: =IF(ISNUMBER(AA66),(AC66-AC53)/AC53,"") -> -0.0031779371 | AE66: =IF(ISNUMBER(AA66),AA66+AA65+AA64+AA63+AA62+AA61+AA60+AA59+AA58+AA56+AA55+AA54,"") -> 8.9913035e+08 | AF66: =IF(ISNUMBER(AE66),(AE66-AE53)/AE53,"") -> -0.014937069
B67: 2020 | C67: oktoober | D67: 12487642 | E67: 11509111 | F67: =IF((D67+E67)>0,D67+E67,"") -> 23996752 | G67: =IF(ISNUMBER(F67),(F67-F54)/F54,"") -> 0.035543991 | H67: =IF(ISNUMBER(F67),F67+H66,"") -> 2.3281687e+08 | I67: =IF(ISNUMBER(H67),(H67-H54)/H54,"") -> -0.054236524 | J67: =IF(ISNUMBER(F67),F67+F66+F65+F64+F63+F62+F61+F60+F59+F58+F56+F55,"") -> 2.7680586e+08 | K67: =IF(ISNUMBER(J67),(J67-J54)/J54,"") -> -0.057726434 | L67: 58115356 | M67: 1456221.4 | N67: =IF((L67+M67)>0,L67+M67,"") -> 59571577 | O67: =IF(ISNUMBER(N67),(N67-N54)/N54,"") -> 0.15696461 | P67: =IF(ISNUMBER(N67),P66+N67,"") -> 5.2451145e+08 | Q67: =IF(ISNUMBER(N67),(P67-P54)/P54,"") -> 0.038117283 | R67: =IF(ISNUMBER(N67),N67+N66+N65+N64+N63+N62+N61+N60+N59+N58+N56+N55,"") -> 6.1607314e+08 | S67: =IF(ISNUMBER(R67),(R67-R54)/R54,"") -> 0.021095593 | U67: 1417334.7 | V67: =IF(ISNUMBER(U67),(U67-U54)/U54,"") -> 0.1070177 | W67: =IF(ISNUMBER(U67),W66+U67,"") -> 12888489 | X67: =IF(ISNUMBER(U67),(W67-W54)/W54,"") -> 0.07962911 | Y67: =IF(ISNUMBER(U67),U67+U66+U65+U64+U63+U62+U61+U60+U59+U58+U56+U55,"") -> 15294063 | Z67: =IF(ISNUMBER(Y67),(Y67-Y54)/Y54,"") -> 0.083549801 | AA67: =F67+N67+U67 -> 84985664 | AB67: =IF(ISNUMBER(AA67),(AA67-AA54)/AA54,"") -> 0.1190725 | AC67: =IF(ISNUMBER(AA67),AC66+AA67,"") -> 7.7021681e+08 | AD67: =IF(ISNUMBER(AA67),(AC67-AC54)/AC54,"") -> 0.0089841817 | AE67: =IF(ISNUMBER(AA67),AA67+AA66+AA65+AA64+AA63+AA62+AA61+AA60+AA59+AA58+AA56+AA55,"") -> 9.0817306e+08 | AF67: =IF(ISNUMBER(AE67),(AE67-AE54)/AE54,"") -> -0.0033479421
B68: 2020 | C68: november | D68: 11505267 | E68: 10137986 | F68: =IF((D68+E68)>0,D68+E68,"") -> 21643253 | G68: =IF(ISNUMBER(F68),(F68-F55)/F55,"") -> -0.016373061 | H68: =IF(ISNUMBER(F68),F68+H67,"") -> 2.5446012e+08 | I68: =IF(ISNUMBER(H68),(H68-H55)/H55,"") -> -0.051129822 | J68: =IF(ISNUMBER(F68),F68+F67+F66+F65+F64+F63+F62+F61+F60+F59+F58+F56,"") -> 2.7644559e+08 | K68: =IF(ISNUMBER(J68),(J68-J55)/J55,"") -> -0.054368236 | L68: 55134143 | M68: 1269520 | N68: =IF((L68+M68)>0,L68+M68,"") -> 56403663 | O68: =IF(ISNUMBER(N68),(N68-N55)/N55,"") -> 0.1768236 | P68: =IF(ISNUMBER(N68),P67+N68,"") -> 5.8091511e+08 | Q68: =IF(ISNUMBER(N68),(P68-P55)/P55,"") -> 0.050135074 | R68: =IF(ISNUMBER(N68),N68+N67+N66+N65+N64+N63+N62+N61+N60+N59+N58+N56,"") -> 6.2454807e+08 | S68: =IF(ISNUMBER(R68),(R68-R55)/R55,"") -> 0.039952848 | U68: 1318618.7 | V68: =IF(ISNUMBER(U68),(U68-U55)/U55,"") -> 0.1147445 | W68: =IF(ISNUMBER(U68),W67+U68,"") -> 14207107 | X68: =IF(ISNUMBER(U68),(W68-W55)/W55,"") -> 0.082794899 | Y68: =IF(ISNUMBER(U68),U68+U67+U66+U65+U64+U63+U62+U61+U60+U59+U58+U56,"") -> 15429793 | Z68: =IF(ISNUMBER(Y68),(Y68-Y55)/Y55,"") -> 0.084765754 | AA68: =F68+N68+U68 -> 79365535 | AB68: =IF(ISNUMBER(AA68),(AA68-AA55)/AA55,"") -> 0.11601462 | AC68: =IF(ISNUMBER(AA68),AC67+AA68,"") -> 8.4958234e+08 | AD68: =IF(ISNUMBER(AA68),(AC68-AC55)/AC55,"") -> 0.01810548 | AE68: =IF(ISNUMBER(AA68),AA68+AA67+AA66+AA65+AA64+AA63+AA62+AA61+AA60+AA59+AA58+AA56,"") -> 9.1642346e+08 | AF68: =IF(ISNUMBER(AE68),(AE68-AE55)/AE55,"") -> 0.010258401
B69: 2020 | C69: detsember | D69: 11226070 | E69: 9939264.1 | F69: =IF((D69+E69)>0,D69+E69,"") -> 21165334 | G69: =IF(ISNUMBER(F69),(F69-F56)/F56,"") -> -0.037303543 | H69: =IF(ISNUMBER(F69),F69+H68,"") -> 2.7562546e+08 | I69: =IF(ISNUMBER(H69),(H69-H56)/H56,"") -> -0.050082192 | J69: =IF(ISNUMBER(F69),F69+F68+F67+F66+F65+F64+F63+F62+F61+F60+F59+F58,"") -> 2.7562546e+08 | K69: =IF(ISNUMBER(J69),(J69-J56)/J56,"") -> -0.050082192 | L69: 52385096 | M69: 1217120.9 | N69: =IF((L69+M69)>0,L69+M69,"") -> 53602217 | O69: =IF(ISNUMBER(N69),(N69-N56)/N56,"") -> 0.22847985 | P69: =IF(ISNUMBER(N69),P68+N69,"") -> 6.3451733e+08 | Q69: =IF(ISNUMBER(N69),(P69-P56)/P56,"") -> 0.063173822 | R69: =IF(ISNUMBER(N69),N69+N68+N67+N66+N65+N64+N63+N62+N61+N60+N59+N58,"") -> 6.3451733e+08 | S69: =IF(ISNUMBER(R69),(R69-R56)/R56,"") -> 0.063173822 | U69: 1323412.5 | V69: =IF(ISNUMBER(U69),(U69-U56)/U56,"") -> 0.082381298 | W69: =IF(ISNUMBER(U69),W68+U69,"") -> 15530520 | X69: =IF(ISNUMBER(U69),(W69-W56)/W56,"") -> 0.082759642 | Y69: =IF(ISNUMBER(U69),U69+U68+U67+U66+U65+U64+U63+U62+U60+U59+U58+U58,"") -> 15709882 | Z69: =IF(ISNUMBER(Y69),(Y69-Y56)/Y56,"") -> 0.093316436 | AA69: =F69+N69+U69 -> 76090963 | AB69: =IF(ISNUMBER(AA69),(AA69-AA56)/AA56,"") -> 0.13838553 | AC69: =IF(ISNUMBER(AA69),AC68+AA69,"") -> 9.256733e+08 | AD69: =IF(ISNUMBER(AA69),(AC69-AC56)/AC56,"") -> 0.027025396 | AE69: =IF(ISNUMBER(AA69),AA69+AA68+AA67+AA66+AA65+AA64+AA63+AA62+AA61+AA60+AA59+AA58,"") -> 9.256733e+08 | AF69: =IF(ISNUMBER(AE69),(AE69-AE56)/AE56,"") -> 0.027025396
B70: 2020 | C70: KOKKU | D70: =SUM(D58:D69) -> 1.4975414e+08 | E70: =SUM(E58:E69) -> 1.2587132e+08 | F70: =SUM(F58:F69) -> 2.7562546e+08 | L70: =SUM(L58:L69) -> 6.2079698e+08 | M70: =SUM(M58:M69) -> 13720349 | N70: =SUM(N58:N69) -> 6.3451733e+08 | T70: =SUM(T58:T69) -> 0 | U70: =SUM(U58:U69) -> 15530520 | AA70: =F70+N70+U70 -> 9.256733e+08
B71: 2021 | C71: jaanuar | D71: =IF(('MTA koond'!C27)>0,'MTA koond'!C27,"") -> 10477637 | E71: =IF(('MTA koond'!D27)>0,'MTA koond'!D27,"") -> 9093741.4 | F71: =IF((D71+E71)>0,D71+E71,"") -> 19571379 | G71: =IF(ISNUMBER(F71),(F71-F58)/F58,"") -> -0.032958697 | H71: =IF(F71>0,F71,"") -> 19571379 | I71: =IF(ISNUMBER(H71),(H71-H58)/H58,"") -> -0.032958697 | J71: =IF(ISNUMBER(F71),F71+F69+F68+F67+F66+F65+F64+F63+F62+F61+F60+F59,"") -> 2.7495843e+08 | K71: =IF(ISNUMBER(J71),(J71-J58)/J58,"") -> -0.046289278 | L71: =IF(('MTA koond'!E27)>0,'MTA koond'!E27,"") -> 52923165 | M71: =IF(('MTA koond'!F27)>0,'MTA koond'!F27,"") -> 618853.51 | N71: =IF((L71+M71)>0,L71+M71,"") -> 53542018 | O71: =IF(ISNUMBER(N71),(N71-N58)/N58,"") -> 0.23167256 | P71: =N71 -> 53542018 | Q71: =IF(ISNUMBER(N71),(P71-P58)/P58,"") -> 0.23167256 | R71: =IF(ISNUMBER(N71),N71+N69+N68+N67+N66+N65+N64+N63+N62+N61+N60+N59,"") -> 6.4458836e+08 | S71: =IF(ISNUMBER(R71),(R71-R58)/R58,"") -> 0.096641932 | U71: ='MTA jaemüük'!H50+'MTA jaemüük'!H51 -> 1237306.2 | V71: =IF(ISNUMBER(U71),(U71-U58)/U58,"") -> 0.092712692 | W71: =IF(ISNUMBER(U71),W70+U71,"") -> 1237306.2 | X71: =IF(ISNUMBER(U71),(W71-W58)/W58,"") -> 0.092712692 | Y71: =IF(ISNUMBER(U71),U71+U69+U68+U67+U66+U65+U64+U63+U62+U61+U60+U59,"") -> 15635501 | Z71: =IF(ISNUMBER(Y71),(Y71-Y58)/Y58,"") -> 0.089118889 | AA71: =F71+N71+U71 -> 74350703 | AB71: =IF(ISNUMBER(AA71),(AA71-AA58)/AA58,"") -> 0.14664916 | AC71: =IF(ISNUMBER(AA71),AA71,"") -> 74350703 | AD71: =IF(ISNUMBER(AA71),(AC71-AC58)/AC58,"") -> 0.14664916 | AE71: =IF(ISNUMBER(AA71),AA71+AA69+AA68+AA67+AA66+AA65+AA64+AA63+AA62+AA61+AA60+AA59,"") -> 9.3518229e+08 | AF71: =IF(ISNUMBER(AE71),(AE71-AE58)/AE58,"") -> 0.050243027 | AG71: =AA71/1000/450 -> 165.22378
B72: 2021 | C72: veebruar | D72: =IF(('MTA koond'!C28)>0,'MTA koond'!C28,"") -> 10427686 | E72: =IF(('MTA koond'!D28)>0,'MTA koond'!D28,"") -> 8887457.7 | F72: =IF((D72+E72)>0,D72+E72,"") -> 19315144 | G72: =IF(ISNUMBER(F72),(F72-F59)/F59,"") -> -0.051492064 | H72: =IF(ISNUMBER(F72),F72+H71,"") -> 38886522 | I72: =IF(ISNUMBER(H72),(H72-H59)/H59,"") -> -0.042253979 | J72: =IF(ISNUMBER(F72),F72+F71+F69+F68+F67+F66+F65+F64+F63+F62+F61+F60,"") -> 2.7390986e+08 | K72: =IF(ISNUMBER(J72),(J72-J59)/J59,"") -> -0.05202781 | L72: =IF(('MTA koond'!E28)>0,'MTA koond'!E28,"") -> 50721508 | M72: =IF(('MTA koond'!F28)>0,'MTA koond'!F28,"") -> 586144.21 | N72: =IF((L72+M72)>0,L72+M72,"") -> 51307652 | O72: =IF(ISNUMBER(N72),(N72-N59)/N59,"") -> 0.13906529 | P72: =IF(ISNUMBER(N72),P71+N72,"") -> 1.0484967e+08 | Q72: =IF(ISNUMBER(N72),(P72-P59)/P59,"") -> 0.18454624 | R72: =IF(ISNUMBER(N72),N72+N71+N69+N68+N67+N66+N65+N64+N63+N62+N61+N60,"") -> 6.5085237e+08 | S72: =IF(ISNUMBER(R72),(R72-R59)/R59,"") -> 0.10575786 | U72: ='MTA jaemüük'!H52+'MTA jaemüük'!H53 -> 1176864.8 | V72: =IF(ISNUMBER(U72),(U72-U59)/U59,"") -> 0.053073958 | W72: =IF(ISNUMBER(U72),W71+U72,"") -> 2414171 | X72: =IF(ISNUMBER(U72),(W72-W59)/W59,"") -> 0.073023465 | Y72: =IF(ISNUMBER(U72),U72+U71+U69+U68+U67+U66+U65+U64+U63+U62+U61+U60,"") -> 15694814 | Z72: =IF(ISNUMBER(Y72),(Y72-Y59)/Y59,"") -> 0.076447714 | AA72: =F72+N72+U72 -> 71799661 | AB72: =IF(ISNUMBER(AA72),(AA72-AA59)/AA59,"") -> 0.079289859 | AC72: =IF(ISNUMBER(AA72),AC71+AA72,"") -> 1.4615036e+08 | AD72: =IF(ISNUMBER(AA72),(AC72-AC59)/AC59,"") -> 0.11253797 | AE72: =IF(ISNUMBER(AA72),AA72+AA71+AA69+AA68+AA67+AA66+AA65+AA64+AA63+AA62+AA61+AA60,"") -> 9.4045704e+08 | AF72: =IF(ISNUMBER(AE72),(AE72-AE59)/AE59,"") -> 0.054175015 | AG72: =AA72/1000/450 -> 159.5548
B73: 2021 | C73: märts | D73: =IF(('MTA koond'!C29)>0,'MTA koond'!C29,"") -> 10178437 | E73: =IF(('MTA koond'!D29)>0,'MTA koond'!D29,"") -> 7859913.9 | F73: =IF((D73+E73)>0,D73+E73,"") -> 18038351 | G73: =IF(ISNUMBER(F73),(F73-F60)/F60,"") -> -0.051180012 | H73: =IF(ISNUMBER(F73),F73+H72,"") -> 56924874 | I73: =IF(ISNUMBER(H73),(H73-H60)/H60,"") -> -0.045100583 | J73: =IF(ISNUMBER(F73),F73+F72+F71+F69+F68+F67+F66+F65+F64+F63+F62+F61,"") -> 2.7293685e+08 | K73: =IF(ISNUMBER(J73),(J73-J60)/J60,"") -> -0.040643647 | L73: =IF(('MTA koond'!E29)>0,'MTA koond'!E29,"") -> 52642167 | M73: =IF(('MTA koond'!F29)>0,'MTA koond'!F29,"") -> 568561.67 | N73: =IF((L73+M73)>0,L73+M73,"") -> 53210729 | O73: =IF(ISNUMBER(N73),(N73-N60)/N60,"") -> 0.17507527 | P73: =IF(ISNUMBER(N73),P72+N73,"") -> 1.580604e+08 | Q73: =IF(ISNUMBER(N73),(P73-P60)/P60,"") -> 0.18134085 | R73: =IF(ISNUMBER(N73),N73+N72+N71+N69+N68+N67+N66+N65+N64+N63+N62+N61,"") -> 6.5878027e+08 | S73: =IF(ISNUMBER(R73),(R73-R60)/R60,"") -> 0.12373753 | U73: ='MTA jaemüük'!H53+'MTA jaemüük'!H54 -> 1133846.6 | V73: =IF(ISNUMBER(U73),(U73-U60)/U60,"") -> 0.095186938 | W73: =IF(ISNUMBER(U73),W72+U73,"") -> 3548017.5 | X73: =IF(ISNUMBER(U73),(W73-W60)/W60,"") -> 0.080008122 | Y73: =IF(ISNUMBER(U73),U73+U72+U71+U69+U68+U67+U66+U65+U64+U63+U62+U61,"") -> 15793361 | Z73: =IF(ISNUMBER(Y73),(Y73-Y60)/Y60,"") -> 0.081298488 | AA73: =F73+N73+U73 -> 72382927 | AB73: =IF(ISNUMBER(AA73),(AA73-AA60)/AA60,"") -> 0.10796732 | AC73: =IF(ISNUMBER(AA73),AC72+AA73,"") -> 2.1853329e+08 | AD73: =IF(ISNUMBER(AA73),(AC73-AC60)/AC60,"") -> 0.1110199 | AE73: =IF(ISNUMBER(AA73),AA73+AA72+AA71+AA69+AA68+AA67+AA66+AA65+AA64+AA63+AA62+AA61,"") -> 9.4751049e+08 | AF73: =IF(ISNUMBER(AE73),(AE73-AE60)/AE60,"") -> 0.070214629 | AG73: =AA73/1000/450 -> 160.85095
B74: 2021 | C74: aprill | D74: =IF(('MTA koond'!C30)>0,'MTA koond'!C30,"") -> 11535716 | E74: =IF(('MTA koond'!D30)>0,'MTA koond'!D30,"") -> 9005058.5 | F74: =IF((D74+E74)>0,D74+E74,"") -> 20540774 | G74: =IF(ISNUMBER(F74),(F74-F61)/F61,"") -> 0.25494929 | H74: =IF(ISNUMBER(F74),F74+H73,"") -> 77465648 | I74: =IF(ISNUMBER(H74),(H74-H61)/H61,"") -> 0.019535856 | J74: =IF(ISNUMBER(F74),F74+F73+F72+F71+F69+F68+F67+F66+F65+F64+F63+F62,"") -> 2.7710982e+08 | K74: =IF(ISNUMBER(J74),(J74-J61)/J61,"") -> -0.0023704566 | L74: =IF(('MTA koond'!E30)>0,'MTA koond'!E30,"") -> 53316630 | M74: =IF(('MTA koond'!F30)>0,'MTA koond'!F30,"") -> 843690.45 | N74: =IF((L74+M74)>0,L74+M74,"") -> 54160320 | O74: =IF(ISNUMBER(N74),(N74-N61)/N61,"") -> 0.28117957 | P74: =IF(ISNUMBER(N74),P73+N74,"") -> 2.1222072e+08 | Q74: =IF(ISNUMBER(N74),(P74-P61)/P61,"") -> 0.20531161 | R74: =IF(ISNUMBER(N74),N74+N73+N72+N71+N69+N68+N67+N66+N65+N64+N63+N62,"") -> 6.706668e+08 | S74: =IF(ISNUMBER(R74),(R74-R61)/R61,"") -> 0.15523141 | U74: ='MTA jaemüük'!H54+'MTA jaemüük'!H55 -> 1220283.3 | V74: =IF(ISNUMBER(U74),(U74-U61)/U61,"") -> 0.28051452 | W74: =IF(ISNUMBER(U74),W73+U74,"") -> 4768300.8 | X74: =IF(ISNUMBER(U74),(W74-W61)/W61,"") -> 0.12509281 | Y74: =IF(ISNUMBER(U74),U74+U73+U72+U71+U69+U68+U67+U66+U65+U64+U63+U62,"") -> 16060681 | Z74: =IF(ISNUMBER(Y74),(Y74-Y61)/Y61,"") -> 0.11033192 | AA74: =F74+N74+U74 -> 75921378 | AB74: =IF(ISNUMBER(AA74),(AA74-AA61)/AA61,"") -> 0.27396471 | AC74: =IF(ISNUMBER(AA74),AC73+AA74,"") -> 2.9445467e+08 | AD74: =IF(ISNUMBER(AA74),(AC74-AC61)/AC61,"") -> 0.14890901 | AE74: =IF(ISNUMBER(AA74),AA74+AA73+AA72+AA71+AA69+AA68+AA67+AA66+AA65+AA64+AA63+AA62,"") -> 9.638373e+08 | AF74: =IF(ISNUMBER(AE74),(AE74-AE61)/AE61,"") -> 0.10432944 | AG74: =AA74/1000/450 -> 168.71417
B75: 2021 | C75: mai | D75: =IF(('MTA koond'!C31)>0,'MTA koond'!C31,"") -> 13921024 | E75: =IF(('MTA koond'!D31)>0,'MTA koond'!D31,"") -> 11800758 | F75: =IF((D75+E75)>0,D75+E75,"") -> 25721783 | G75: =IF(ISNUMBER(F75),(F75-F62)/F62,"") -> 0.081555225 | H75: =IF(ISNUMBER(F75),F75+H74,"") -> 1.0318743e+08 | I75: =IF(ISNUMBER(H75),(H75-H62)/H62,"") -> 0.034320402 | J75: =IF(ISNUMBER(F75),F75+F74+F73+F72+F71+F69+F68+F67+F66+F65+F64+F63,"") -> 2.7904938e+08 | K75: =IF(ISNUMBER(J75),(J75-J62)/J62,"") -> 0.01405389 | L75: =IF(('MTA koond'!E31)>0,'MTA koond'!E31,"") -> 58472205 | M75: =IF(('MTA koond'!F31)>0,'MTA koond'!F31,"") -> 781226.22 | N75: =IF((L75+M75)>0,L75+M75,"") -> 59253431 | O75: =IF(ISNUMBER(N75),(N75-N62)/N62,"") -> 0.11057676 | P75: =IF(ISNUMBER(N75),P74+N75,"") -> 2.7147415e+08 | Q75: =IF(ISNUMBER(N75),(P75-P62)/P62,"") -> 0.18328062 | R75: =IF(ISNUMBER(N75),N75+N74+N73+N72+N71+N69+N68+N67+N66+N65+N64+N63,"") -> 6.7656648e+08 | S75: =IF(ISNUMBER(R75),(R75-R62)/R62,"") -> 0.16345788 | U75: ='MTA jaemüük'!H55+'MTA jaemüük'!H56 -> 1247001.9 | V75: =IF(ISNUMBER(U75),(U75-U62)/U62,"") -> 0.015239874 | W75: =IF(ISNUMBER(U75),W74+U75,"") -> 6015302.8 | X75: =IF(ISNUMBER(U75),(W75-W62)/W62,"") -> 0.1004093 | Y75: =IF(ISNUMBER(U75),U75+U74+U73+U72+U71+U69+U68+U67+U66+U65+U64+U63,"") -> 16079400 | Z75: =IF(ISNUMBER(Y75),(Y75-Y62)/Y62,"") -> 0.11619518 | AA75: =F75+N75+U75 -> 86222216 | AB75: =IF(ISNUMBER(AA75),(AA75-AA62)/AA62,"") -> 0.1002749 | AC75: =IF(ISNUMBER(AA75),AC74+AA75,"") -> 3.8067688e+08 | AD75: =IF(ISNUMBER(AA75),(AC75-AC62)/AC62,"") -> 0.13752064 | AE75: =IF(ISNUMBER(AA75),AA75+AA74+AA73+AA72+AA71+AA69+AA68+AA67+AA66+AA65+AA64+AA63,"") -> 9.7169526e+08 | AF75: =IF(ISNUMBER(AE75),(AE75-AE62)/AE62,"") -> 0.11547937 | AG75: =AA75/1000/450 -> 191.60492
B76: 2021 | C76: juuni | D76: =IF(('MTA koond'!C32)>0,'MTA koond'!C32,"") -> 15331906 | E76: =IF(('MTA koond'!D32)>0,'MTA koond'!D32,"") -> 12870354 | F76: =IF((D76+E76)>0,D76+E76,"") -> 28202259 | G76: =IF(ISNUMBER(F76),(F76-F63)/F63,"") -> 0.047423859 | H76: =IF(ISNUMBER(F76),F76+H75,"") -> 1.3138969e+08 | I76: =IF(ISNUMBER(H76),(H76-H63)/H63,"") -> 0.037105298 | J76: =IF(ISNUMBER(F76),F76+F75+F74+F73+F72+F71+F69+F68+F67+F66+F65+F64,"") -> 2.8032629e+08 | K76: =IF(ISNUMBER(J76),(J76-J63)/J63,"") -> 0.02340804 | L76: =IF(('MTA koond'!E32)>0,'MTA koond'!E32,"") -> 58275563 | M76: =IF(('MTA koond'!F32)>0,'MTA koond'!F32,"") -> 787827.25 | N76: =IF((L76+M76)>0,L76+M76,"") -> 59063390 | O76: =IF(ISNUMBER(N76),(N76-N63)/N63,"") -> 0.093592725 | P76: =IF(ISNUMBER(N76),P75+N76,"") -> 3.3053754e+08 | Q76: =IF(ISNUMBER(N76),(P76-P63)/P63,"") -> 0.16619049 | R76: =IF(ISNUMBER(N76),N76+N75+N74+N73+N72+N71+N69+N68+N67+N66+N65+N64,"") -> 6.8162129e+08 | S76: =IF(ISNUMBER(R76),(R76-R63)/R63,"") -> 0.16430133 | U76: ='MTA jaemüük'!H56+'MTA jaemüük'!H57 -> 1312645.7 | V76: =IF(ISNUMBER(U76),(U76-U63)/U63,"") -> -0.069605603 | W76: =IF(ISNUMBER(U76),W75+U76,"") -> 7327948.4 | X76: =IF(ISNUMBER(U76),(W76-W63)/W63,"") -> 0.06553133 | Y76: =IF(ISNUMBER(U76),U76+U75+U74+U73+U72+U71+U69+U68+U67+U66+U65+U64,"") -> 15981197 | Z76: =IF(ISNUMBER(Y76),(Y76-Y63)/Y63,"") -> 0.098373509 | AA76: =F76+N76+U76 -> 88578296 | AB76: =IF(ISNUMBER(AA76),(AA76-AA63)/AA63,"") -> 0.075700138 | AC76: =IF(ISNUMBER(AA76),AC75+AA76,"") -> 4.6925518e+08 | AD76: =IF(ISNUMBER(AA76),(AC76-AC63)/AC63,"") -> 0.12531297 | AE76: =IF(ISNUMBER(AA76),AA76+AA75+AA74+AA73+AA72+AA71+AA69+AA68+AA67+AA66+AA65+AA64,"") -> 9.7792877e+08 | AF76: =IF(ISNUMBER(AE76),(AE76-AE63)/AE63,"") -> 0.1190421 | AG76: =AA76/1000/450 -> 196.84066
B77: 2021 | C77: juuli | D77: =IF(('MTA koond'!C33)>0,'MTA koond'!C33,"") -> 16471827 | E77: =IF(('MTA koond'!D33)>0,'MTA koond'!D33,"") -> 12848351 | F77: =IF((D77+E77)>0,D77+E77,"") -> 29320178 | G77: =IF(ISNUMBER(F77),(F77-F64)/F64,"") -> 0.01845502 | H77: =IF(ISNUMBER(F77),F77+H76,"") -> 1.6070987e+08 | I77: =IF(ISNUMBER(H77),(H77-H64)/H64,"") -> 0.033651938 | J77: =IF(ISNUMBER(F77),F77+F76+F75+F74+F73+F72+F71+F69+F68+F67+F66+F65,"") -> 2.8085758e+08 | K77: =IF(ISNUMBER(J77),(J77-J64)/J64,"") -> 0.022857596 | L77: =IF(('MTA koond'!E33)>0,'MTA koond'!E33,"") -> 64064051 | M77: =IF(('MTA koond'!F33)>0,'MTA koond'!F33,"") -> 1018048.2 | N77: =IF((L77+M77)>0,L77+M77,"") -> 65082099 | O77: =IF(ISNUMBER(N77),(N77-N64)/N64,"") -> 0.083483694 | P77: =IF(ISNUMBER(N77),P76+N77,"") -> 3.9561964e+08 | Q77: =IF(ISNUMBER(N77),(P77-P64)/P64,"") -> 0.1517277 | R77: =IF(ISNUMBER(N77),N77+N76+N75+N74+N73+N72+N71+N69+N68+N67+N66+N65,"") -> 6.8663595e+08 | S77: =IF(ISNUMBER(R77),(R77-R64)/R64,"") -> 0.16012378 | U77: ='MTA jaemüük'!H57+'MTA jaemüük'!H58 -> 1405609.7 | V77: =IF(ISNUMBER(U77),(U77-U64)/U64,"") -> -0.11644665 | W77: =IF(ISNUMBER(U77),W76+U77,"") -> 8733558.1 | X77: =IF(ISNUMBER(U77),(W77-W64)/W64,"") -> 0.031344156 | Y77: =IF(ISNUMBER(U77),U77+U76+U75+U74+U73+U72+U71+U69+U68+U67+U66+U65,"") -> 15795946 | Z77: =IF(ISNUMBER(Y77),(Y77-Y64)/Y64,"") -> 0.067652384 | AA77: =F77+N77+U77 -> 95807887 | AB77: =IF(ISNUMBER(AA77),(AA77-AA64)/AA64,"") -> 0.059268857 | AC77: =IF(ISNUMBER(AA77),AC76+AA77,"") -> 5.6506307e+08 | AD77: =IF(ISNUMBER(AA77),(AC77-AC64)/AC64,"") -> 0.11354128 | AE77: =IF(ISNUMBER(AA77),AA77+AA76+AA75+AA74+AA73+AA72+AA71+AA69+AA68+AA67+AA66+AA65,"") -> 9.8328948e+08 | AF77: =IF(ISNUMBER(AE77),(AE77-AE64)/AE64,"") -> 0.11580122 | AG77: =AA77/1000/450 -> 212.90641
B78: 2021 | C78: august | D78: =IF(('MTA koond'!C34)>0,'MTA koond'!C34,"") -> 14968827 | E78: =IF(('MTA koond'!D34)>0,'MTA koond'!D34,"") -> 11571788 | F78: =IF((D78+E78)>0,D78+E78,"") -> 26540614 | G78: =IF(ISNUMBER(F78),(F78-F65)/F65,"") -> -0.071081265 | H78: =IF(ISNUMBER(F78),F78+H77,"") -> 1.8725048e+08 | I78: =IF(ISNUMBER(H78),(H78-H65)/H65,"") -> 0.017393322 | J78: =IF(ISNUMBER(F78),F78+F77+F76+F75+F74+F73+F72+F71+F69+F68+F67+F66,"") -> 2.7882669e+08 | K78: =IF(ISNUMBER(J78),(J78-J65)/J65,"") -> 0.012766072 | L78: =IF(('MTA koond'!E34)>0,'MTA koond'!E34,"") -> 62863471 | M78: =IF(('MTA koond'!F34)>0,'MTA koond'!F34,"") -> 942671.38 | N78: =IF((L78+M78)>0,L78+M78,"") -> 63806143 | O78: =IF(ISNUMBER(N78),(N78-N65)/N65,"") -> 0.042250293 | P78: =IF(ISNUMBER(N78),P77+N78,"") -> 4.5942578e+08 | Q78: =IF(ISNUMBER(N78),(P78-P65)/P65,"") -> 0.13516772 | R78: =IF(ISNUMBER(N78),N78+N77+N76+N75+N74+N73+N72+N71+N69+N68+N67+N66,"") -> 6.8922249e+08 | S78: =IF(ISNUMBER(R78),(R78-R65)/R65,"") -> 0.15068274 | U78: ='MTA jaemüük'!H58+'MTA jaemüük'!H59 -> 1521113.9 | V78: =IF(ISNUMBER(U78),(U78-U65)/U65,"") -> -0.044370653 | W78: =IF(ISNUMBER(U78),W77+U78,"") -> 10254672 | X78: =IF(ISNUMBER(U78),(W78-W65)/W65,"") -> 0.019364051 | Y78: =IF(ISNUMBER(U78),U78+U77+U76+U75+U74+U73+U72+U71+U69+U68+U67+U66,"") -> 15725320 | Z78: =IF(ISNUMBER(Y78),(Y78-Y65)/Y65,"") -> 0.046199974 | AA78: =F78+N78+U78 -> 91867871 | AB78: =IF(ISNUMBER(AA78),(AA78-AA65)/AA65,"") -> 0.0053075605 | AC78: =IF(ISNUMBER(AA78),AC77+AA78,"") -> 6.5693094e+08 | AD78: =IF(ISNUMBER(AA78),(AC78-AC65)/AC65,"") -> 0.097024559 | AE78: =IF(ISNUMBER(AA78),AA78+AA77+AA76+AA75+AA74+AA73+AA72+AA71+AA69+AA68+AA67+AA66,"") -> 9.837745e+08 | AF78: =IF(ISNUMBER(AE78),(AE78-AE65)/AE65,"") -> 0.10622071 | AG78: =AA78/1000/450 -> 204.15082
B79: 2021 | C79: september | D79: =IF(('MTA koond'!C35)>0,'MTA koond'!C35,"") -> 13608950 | E79: =IF(('MTA koond'!D35)>0,'MTA koond'!D35,"") -> 10683725 | F79: =IF((D79+E79)>0,D79+E79,"") -> 24292675 | G79: =IF(ISNUMBER(F79),(F79-F66)/F66,"") -> -0.019304503 | H79: =IF(ISNUMBER(F79),F79+H78,"") -> 2.1154316e+08 | I79: =IF(ISNUMBER(H79),(H79-H66)/H66,"") -> 0.013040116 | J79: =IF(ISNUMBER(F79),F79+F78+F77+F76+F75+F74+F73+F72+F71+F69+F68+F67,"") -> 2.783485e+08 | K79: =IF(ISNUMBER(J79),(J79-J66)/J66,"") -> 0.0085741106 | L79: =IF(('MTA koond'!E35)>0,'MTA koond'!E35,"") -> 61914270 | M79: =IF(('MTA koond'!F35)>0,'MTA koond'!F35,"") -> 827066.34 | N79: =IF((L79+M79)>0,L79+M79,"") -> 62741337 | O79: =IF(ISNUMBER(N79),(N79-N66)/N66,"") -> 0.041881734 | P79: =IF(ISNUMBER(N79),P78+N79,"") -> 5.2216712e+08 | Q79: =IF(ISNUMBER(N79),(P79-P66)/P66,"") -> 0.12308527 | R79: =IF(ISNUMBER(N79),N79+N78+N77+N76+N75+N74+N73+N72+N71+N69+N68+N67,"") -> 6.9174458e+08 | S79: =IF(ISNUMBER(R79),(R79-R66)/R66,"") -> 0.13775443 | U79: ='MTA jaemüük'!H59+'MTA jaemüük'!H60 -> 1593102.1 | V79: =IF(ISNUMBER(U79),(U79-U66)/U66,"") -> 0.12883342 | W79: =IF(ISNUMBER(U79),W78+U79,"") -> 11847774 | X79: =IF(ISNUMBER(U79),(W79-W66)/W66,"") -> 0.032831932 | Y79: =IF(ISNUMBER(U79),U79+U78+U77+U76+U75+U74+U73+U72+U71+U69+U68+U67,"") -> 15907140 | Z79: =IF(ISNUMBER(Y79),(Y79-Y66)/Y66,"") -> 0.049488089 | AA79: =F79+N79+U79 -> 88627114 | AB79: =IF(ISNUMBER(AA79),(AA79-AA66)/AA66,"") -> 0.025760205 | AC79: =IF(ISNUMBER(AA79),AC78+AA79,"") -> 7.4555805e+08 | AD79: =IF(ISNUMBER(AA79),(AC79-AC66)/AC66,"") -> 0.088038774 | AE79: =IF(ISNUMBER(AA79),AA79+AA78+AA77+AA76+AA75+AA74+AA73+AA72+AA71+AA69+AA68+AA67,"") -> 9.8600021e+08 | AF79: =IF(ISNUMBER(AE79),(AE79-AE66)/AE66,"") -> 0.096615431 | AG79: =AA79/1000/450 -> 196.94914
B80: 2021 | C80: oktoober | D80: =IF(('MTA koond'!C36)>0,'MTA koond'!C36,"") -> 13251613 | E80: =IF(('MTA koond'!D36)>0,'MTA koond'!D36,"") -> 9759605.8 | F80: =IF((D80+E80)>0,D80+E80,"") -> 23011219 | G80: =IF(ISNUMBER(F80),(F80-F67)/F67,"") -> -0.041069436 | H80: =IF(ISNUMBER(F80),F80+H79,"") -> 2.3455438e+08 | I80: =IF(ISNUMBER(H80),(H80-H67)/H67,"") -> 0.0074629711 | J80: =IF(ISNUMBER(F80),F80+F79+F78+F77+F76+F75+F74+F73+F72+F71+F69+F68,"") -> 2.7736296e+08 | K80: =IF(ISNUMBER(J80),(J80-J67)/J67,"") -> 0.002012619 | L80: =IF(('MTA koond'!E36)>0,'MTA koond'!E36,"") -> 59581934 | M80: =IF(('MTA koond'!F36)>0,'MTA koond'!F36,"") -> 648120.92 | N80: =IF((L80+M80)>0,L80+M80,"") -> 60230055 | O80: =IF(ISNUMBER(N80),(N80-N67)/N67,"") -> 0.011053557 | P80: =IF(ISNUMBER(N80),P79+N80,"") -> 5.8239718e+08 | Q80: =IF(ISNUMBER(N80),(P80-P67)/P67,"") -> 0.11036123 | R80: =IF(ISNUMBER(N80),N80+N79+N78+N77+N76+N75+N74+N73+N72+N71+N69+N68,"") -> 6.9240306e+08 | S80: =IF(ISNUMBER(R80),(R80-R67)/R67,"") -> 0.12389748 | U80: ='MTA jaemüük'!H60+'MTA jaemüük'!H61 -> 1646891.6 | V80: =IF(ISNUMBER(U80),(U80-U67)/U67,"") -> 0.16196382 | W80: =IF(ISNUMBER(U80),W79+U80,"") -> 13494666 | X80: =IF(ISNUMBER(U80),(W80-W67)/W67,"") -> 0.047032441 | Y80: =IF(ISNUMBER(U80),U80+U79+U78+U77+U76+U75+U74+U73+U72+U71+U69+U68,"") -> 16136697 | Z80: =IF(ISNUMBER(Y80),(Y80-Y67)/Y67,"") -> 0.055095464 | AA80: =F80+N80+U80 -> 84888166 | AB80: =IF(ISNUMBER(AA80),(AA80-AA67)/AA67,"") -> -0.0011472322 | AC80: =IF(ISNUMBER(AA80),AC79+AA80,"") -> 8.3044622e+08 | AD80: =IF(ISNUMBER(AA80),(AC80-AC67)/AC67,"") -> 0.078197997 | AE80: =IF(ISNUMBER(AA80),AA80+AA79+AA78+AA77+AA76+AA75+AA74+AA73+AA72+AA71+AA69+AA68,"") -> 9.8590272e+08 | AF80: =IF(ISNUMBER(AE80),(AE80-AE67)/AE67,"") -> 0.085589029 | AG80: =AA80/1000/450 -> 188.64037
B81: 2021 | C81: november | D81: =IF(('MTA koond'!C37)>0,'MTA koond'!C37,"") -> 12307626 | E81: =IF(('MTA koond'!D37)>0,'MTA koond'!D37,"") -> 8843378.4 | F81: =IF((D81+E81)>0,D81+E81,"") -> 21151005 | G81: =IF(ISNUMBER(F81),(F81-F68)/F68,"") -> -0.022743738 | H81: =IF(ISNUMBER(F81),F81+H80,"") -> 2.5570538e+08 | I81: =IF(ISNUMBER(H81),(H81-H68)/H68,"") -> 0.004893722 | J81: =IF(ISNUMBER(F81),F81+F80+F79+F78+F77+F76+F75+F74+F73+F72+F71+F69,"") -> 2.7687071e+08 | K81: =IF(ISNUMBER(J81),(J81-J68)/J68,"") -> 0.0015378115 | L81: =IF(('MTA koond'!E37)>0,'MTA koond'!E37,"") -> 58935673 | M81: =IF(('MTA koond'!F37)>0,'MTA koond'!F37,"") -> 550552.02 | N81: =IF((L81+M81)>0,L81+M81,"") -> 59486225 | O81: =IF(ISNUMBER(N81),(N81-N68)/N68,"") -> 0.054651806 | P81: =IF(ISNUMBER(N81),P80+N81,"") -> 6.418834e+08 | Q81: =IF(ISNUMBER(N81),(P81-P68)/P68,"") -> 0.10495215 | R81: =IF(ISNUMBER(N81),N81+N80+N79+N78+N77+N76+N75+N74+N73+N72+N71+N69,"") -> 6.9548562e+08 | S81: =IF(ISNUMBER(R81),(R81-R68)/R68,"") -> 0.1135822 | U81: ='MTA jaemüük'!H61+'MTA jaemüük'!H62 -> 1732988.1 | V81: =IF(ISNUMBER(U81),(U81-U68)/U68,"") -> 0.31424505 | W81: =IF(ISNUMBER(U81),W80+U81,"") -> 15227654 | X81: =IF(ISNUMBER(U81),(W81-W68)/W68,"") -> 0.071833517 | Y81: =IF(ISNUMBER(U81),U81+U80+U79+U78+U77+U76+U75+U74+U73+U72+U71+U69,"") -> 16551066 | Z81: =IF(ISNUMBER(Y81),(Y81-Y68)/Y68,"") -> 0.072669343 | AA81: =F81+N81+U81 -> 82370218 | AB81: =IF(ISNUMBER(AA81),(AA81-AA68)/AA68,"") -> 0.037858788 | AC81: =IF(ISNUMBER(AA81),AC80+AA81,"") -> 9.1281644e+08 | AD81: =IF(ISNUMBER(AA81),(AC81-AC68)/AC68,"") -> 0.074429624 | AE81: =IF(ISNUMBER(AA81),AA81+AA80+AA79+AA78+AA77+AA76+AA75+AA74+AA73+AA72+AA71+AA69,"") -> 9.889074e+08 | AF81: =IF(ISNUMBER(AE81),(AE81-AE68)/AE68,"") -> 0.079094372 | AG81: =AA81/1000/450 -> 183.04493
B82: 2021 | C82: detsember | D82: =IF(('MTA koond'!C38)>0,'MTA koond'!C38,"") -> 13244256 | E82: =IF(('MTA koond'!D38)>0,'MTA koond'!D38,"") -> 9937804.3 | F82: =IF((D82+E82)>0,D82+E82,"") -> 23182061 | G82: =IF(ISNUMBER(F82),(F82-F69)/F69,"") -> 0.095284442 | H82: =IF(ISNUMBER(F82),F82+H81,"") -> 2.7888744e+08 | I82: =IF(ISNUMBER(H82),(H82-H69)/H69,"") -> 0.011834843 | J82: =IF(ISNUMBER(F82),F82+F81+F80+F79+F78+F77+F76+F75+F74+F73+F72+F71,"") -> 2.7888744e+08 | K82: =IF(ISNUMBER(J82),(J82-J69)/J69,"") -> 0.011834843 | L82: =IF(('MTA koond'!E38)>0,'MTA koond'!E38,"") -> 59612359 | M82: =IF(('MTA koond'!F38)>0,'MTA koond'!F38,"") -> 616813.94 | N82: =IF((L82+M82)>0,L82+M82,"") -> 60229173 | O82: =IF(ISNUMBER(N82),(N82-N69)/N69,"") -> 0.12363213 | P82: =IF(ISNUMBER(N82),P81+N82,"") -> 7.0211257e+08 | Q82: =IF(ISNUMBER(N82),(P82-P69)/P69,"") -> 0.10653018 | R82: =IF(ISNUMBER(N82),N82+N81+N80+N79+N78+N77+N76+N75+N74+N73+N72+N71,"") -> 7.0211257e+08 | S82: =IF(ISNUMBER(R82),(R82-R69)/R69,"") -> 0.10653018 | U82: ='MTA jaemüük'!H62+'MTA jaemüük'!H63 -> 1817887.8 | V82: =IF(ISNUMBER(U82),(U82-U69)/U69,"") -> 0.37363664 | W82: =IF(ISNUMBER(U82),W81+U82,"") -> 17045542 | X82: =IF(ISNUMBER(U82),(W82-W69)/W69,"") -> 0.097551266 | Y82: =IF(ISNUMBER(U82),U82+U81+U80+U79+U78+U77+U76+U75+U73+U72+U71+U71,"") -> 17062565 | Z82: =IF(ISNUMBER(Y82),(Y82-Y69)/Y69,"") -> 0.086103943 | AA82: =F82+N82+U82 -> 85229122 | AB82: =IF(ISNUMBER(AA82),(AA82-AA69)/AA69,"") -> 0.12009519 | AC82: =IF(ISNUMBER(AA82),AC81+AA82,"") -> 9.9804556e+08 | AD82: =IF(ISNUMBER(AA82),(AC82-AC69)/AC69,"") -> 0.078183364 | AE82: =IF(ISNUMBER(AA82),AA82+AA81+AA80+AA79+AA78+AA77+AA76+AA75+AA74+AA73+AA72+AA71,"") -> 9.9804556e+08 | AF82: =IF(ISNUMBER(AE82),(AE82-AE69)/AE69,"") -> 0.078183364 | AG82: =AA82/1000/450 -> 189.39805
B83: 2021 | C83: KOKKU | D83: =SUM(D71:D82) -> 1.5572551e+08 | E83: =SUM(E71:E82) -> 1.2316194e+08 | F83: =SUM(F71:F82) -> 2.7888744e+08 | L83: =SUM(L71:L82) -> 6.93323e+08 | M83: =SUM(M71:M82) -> 8789576 | N83: =SUM(N71:N82) -> 7.0211257e+08 | T83: =SUM(T71:T82) -> 0 | U83: =SUM(U71:U82) -> 17045542 | AA83: =F83+N83+U83 -> 9.9804556e+08 | AG83: =AA83/1000/450 -> 2217.879
B85: Viimati uuendatud | C85: 44568

Sheet diislikütus_maakond
A1: maakond | B1: 2016 | N1: 2017 | Z1: 2018
B2: 1 | C2: 2 | D2: 3 | E2: 4 | F2: 5 | G2: 6 | H2: 7 | I2: 8 | J2: 9 | K2: 10 | L2: 11 | M2: 12 | N2: 1 | O2: 2 | P2: 3 | Q2: 4 | R2: 5 | S2: 6 | T2: 7 | U2: 8 | V2: 9 | W2: 10 | X2: 11 | Y2: 12 | Z2: 1 | AA2: 2 | AB2: 3 | AC2: 4 | AD2: 5 | AE2: 6 | AF2: 7 | AG2: 8 | AH2: 9 | AI2: 10 | AJ2: 11 | AK2: 12 | AL2: 2016 | AM2: 2017 | AN2: 2018
A3: HARJU MAAKOND | B3: 19543127 | C3: 15900601 | D3: 17610138 | E3: 18425659 | F3: 19522909 | G3: 18401701 | H3: 19261151 | I3: 19839739 | J3: 18984718 | K3: 20220028 | L3: 18906615 | M3: 17527751 | N3: 17789649 | O3: 15801078 | P3: 18248226 | Q3: 18240592 | R3: 20071514 | S3: 19315641 | T3: 19435710 | U3: 20288824 | V3: 19467224 | W3: 20087663 | X3: 19409271 | Y3: 18352932 | Z3: 18176413 | AA3: 17616406 | AB3: 18705964 | AC3: 19076788 | AD3: 20636824 | AE3: 21044012 | AF3: 20940756 | AG3: 23266139 | AH3: 19489960 | AI3: 20959409 | AJ3: 20932203 | AL3: =SUM(B3:M3)/AL$19 -> 0.3904107 | AM3: =SUM(N3:Y3)/AM$19 -> 0.39297007 | AN3: =SUM(Z3:AK3)/AN$19 -> 0.41174887
A4: HIIU MAAKOND | B4: 323346.12 | C4: 230385.79 | D4: 292971.56 | E4: 293190.25 | F4: 328809.87 | G4: 357055.31 | H4: 409220.45 | I4: 386656.47 | J4: 314209.25 | K4: 329042.52 | L4: 323687.5 | M4: 282767.38 | N4: 286047 | O4: 249180 | P4: 288891 | Q4: 306254 | R4: 347477 | S4: 327569 | T4: 392019 | U4: 371650 | V4: 335685 | W4: 322436 | X4: 294006 | Y4: 280897 | Z4: 319181 | AA4: 310703 | AB4: 312933 | AC4: 407492 | AD4: 792310 | AE4: 443370 | AF4: 556222 | AG4: 512553 | AH4: 422564 | AI4: 492108 | AJ4: 373921 | AL4: =SUM(B4:M4)/$AL$19 -> 0.0067430428 | AM4: =SUM(N4:Y4)/AM$19 -> 0.0065962955 | AN4: =SUM(Z4:AK4)/AN$19 -> 0.009216522
A5: IDA-VIRU MAAKOND | B5: 3066393.8 | C5: 2476344.6 | D5: 2622509.4 | E5: 2609431 | F5: 2839564.4 | G5: 2708185.4 | H5: 2841896.6 | I5: 3114125.5 | J5: 2877547.7 | K5: 2756142 | L5: 3033552.9 | M5: 2754065.4 | N5: 2831788 | O5: 2380740 | P5: 2790599 | Q5: 2696075 | R5: 3106800 | S5: 2862002 | T5: 3105291 | U5: 3337380 | V5: 3054626 | W5: 3045834 | X5: 2646332 | Y5: 2502331 | Z5: 2558623 | AA5: 2430054 | AB5: 2516814 | AC5: 2474879 | AD5: 2792065 | AE5: 2731826 | AF5: 2845193 | AG5: 2988196 | AH5: 2587321 | AI5: 2741955 | AJ5: 2653976 | AL5: =SUM(B5:M5)/$AL$19 -> 0.058697704 | AM5: =SUM(N5:Y5)/AM$19 -> 0.059610932 | AN5: =SUM(Z5:AK5)/AN$19 -> 0.054666644
A6: JARVA MAAKOND | B6: 2215506.5 | C6: 1998323.3 | D6: 2023181.4 | E6: 1922063.3 | F6: 1897034.4 | G6: 2037891.6 | H6: 2121227.9 | I6: 2295454.6 | J6: 2282797.9 | K6: 2122771.2 | L6: 2126301.7 | M6: 1951476.4 | N6: 2065544 | O6: 1815038 | P6: 2067389 | Q6: 1986342 | R6: 2387124 | S6: 2089294 | T6: 2162099 | U6: 2473484 | V6: 2340112 | W6: 2171283 | X6: 2060990 | Y6: 1920852 | Z6: 2043073 | AA6: 1965584 | AB6: 2236458 | AC6: 1989296 | AD6: 2296399 | AE6: 2297121 | AF6: 2355373 | AG6: 2485573 | AH6: 2330532 | AI6: 2454774 | AJ6: 2391842 | AL6: =SUM(B6:M6)/$AL$19 -> 0.043534205 | AM6: =SUM(N6:Y6)/AM$19 -> 0.044308655 | AN6: =SUM(Z6:AK6)/AN$19 -> 0.046323568
A7: JOGEVA MAAKOND | B7: 1692653.8 | C7: 1716286.4 | D7: 1612633.6 | E7: 1570267.8 | F7: 1766355.6 | G7: 1646805.9 | H7: 1717684.3 | I7: 1776443.3 | J7: 1759756.8 | K7: 1783498 | L7: 1714803.5 | M7: 1568366.8 | N7: 1705323 | O7: 1557664 | P7: 1641865 | Q7: 1511251 | R7: 1864322 | S7: 1744921 | T7: 1819199 | U7: 2030198 | V7: 1777261 | W7: 1710889 | X7: 1661478 | Y7: 1549977 | Z7: 1549856 | AA7: 1631756 | AB7: 1849145 | AC7: 1596021 | AD7: 1945459 | AE7: 2028980 | AF7: 2068907 | AG7: 2158168 | AH7: 1866971 | AI7: 1911426 | AJ7: 1862782 | AL7: =SUM(B7:M7)/$AL$19 -> 0.03540273 | AM7: =SUM(N7:Y7)/AM$19 -> 0.035694507 | AN7: =SUM(Z7:AK7)/AN$19 -> 0.038163808
A8: LAANE MAAKOND | B8: 851984.31 | C8: 715882.62 | D8: 837294.49 | E8: 839623.23 | F8: 985809.31 | G8: 954681.99 | H8: 1116937 | I8: 1151146.7 | J8: 1015939 | K8: 1024974.9 | L8: 986223.87 | M8: 896274.06 | N8: 914336 | O8: 802047 | P8: 896178 | Q8: 913268 | R8: 1073060 | S8: 1069686 | T8: 1220847 | U8: 1257544 | V8: 1120899 | W8: 1036676 | X8: 648217 | Y8: 607611 | Z8: 630100 | AA8: 630736 | AB8: 680955 | AC8: 661868 | AD8: 728804 | AE8: 753837 | AF8: 879679 | AG8: 808558 | AH8: 685318 | AI8: 709521 | AJ8: 698203 | AL8: =SUM(B8:M8)/$AL$19 -> 0.01981588 | AM8: =SUM(N8:Y8)/AM$19 -> 0.020056124 | AN8: =SUM(Z8:AK8)/AN$19 -> 0.014668517
A9: LAANE-VIRU MAAKOND | B9: 2638903.2 | C9: 2130632.5 | D9: 2362276.2 | E9: 2185349.1 | F9: 2456122.2 | G9: 2315733.3 | H9: 2310050.2 | I9: 2453834.7 | J9: 2340570.8 | K9: 2389948.6 | L9: 2393256.7 | M9: 2092274 | N9: 2021386 | O9: 1815515 | P9: 2384954 | Q9: 2354959 | R9: 2730704 | S9: 2455688 | T9: 2651570 | U9: 2844053 | V9: 2721500 | W9: 2665134 | X9: 2569155 | Y9: 2566310 | Z9: 4178128 | AA9: 2592627 | AB9: 2778791 | AC9: 2582045 | AD9: 2988417 | AE9: 3065755 | AF9: 3022473 | AG9: 3246724 | AH9: 2955387 | AI9: 3159355 | AJ9: 2902271 | AL9: =SUM(B9:M9)/$AL$19 -> 0.048890054 | AM9: =SUM(N9:Y9)/AM$19 -> 0.051667035 | AN9: =SUM(Z9:AK9)/AN$19 -> 0.062406008
A10: PARNU MAAKOND | B10: 6240960.1 | C10: 3854626.8 | D10: 3930807.2 | E10: 3836647.3 | F10: 3996678.3 | G10: 3755794.1 | H10: 3989484.4 | I10: 4629655.6 | J10: 6096421.9 | K10: 4100409.9 | L10: 3444192.6 | M10: 3264247.1 | N10: 3446059 | O10: 2990359 | P10: 3217374 | Q10: 3111303 | R10: 3641917 | S10: 3493515 | T10: 3710012 | U10: 3763417 | V10: 3298293 | W10: 3349742 | X10: 3280951 | Y10: 3224568 | Z10: 3362970 | AA10: 3265469 | AB10: 3628652 | AC10: 3349904 | AD10: 3901850 | AE10: 3870676 | AF10: 4200402 | AG10: 4172439 | AH10: 3722302 | AI10: 3867468 | AJ10: 3703533 | AL10: =SUM(B10:M10)/$AL$19 -> 0.089074709 | AM10: =SUM(N10:Y10)/AM$19 -> 0.070311317 | AN10: =SUM(Z10:AK10)/AN$19 -> 0.076526594
A11: POLVA MAAKOND | B11: 872946.79 | C11: 706778.45 | D11: 712021.51 | E11: 756150.4 | F11: 937409.43 | G11: 826030.48 | H11: 857113.13 | I11: 906650.06 | J11: 901679.5 | K11: 852364.57 | L11: 815892.44 | M11: 726222.23 | N11: 781266 | O11: 675542 | P11: 726185 | Q11: 721337 | R11: 901684 | S11: 824699 | T11: 3891361 | U11: 4757218 | V11: 2844728 | W11: 3291133 | X11: 760241 | Y11: 688610 | Z11: 704125 | AA11: 678989 | AB11: 771646 | AC11: 703322 | AD11: 881803 | AE11: 806286 | AF11: 889515 | AG11: 893413 | AH11: 813607 | AI11: 825976 | AJ11: 796218 | AL11: =SUM(B11:M11)/$AL$19 -> 0.017193602 | AM11: =SUM(N11:Y11)/AM$19 -> 0.036197033 | AN11: =SUM(Z11:AK11)/AN$19 -> 0.016341505
A12: RAPLA MAAKOND | B12: 1791238.9 | C12: 1504873.6 | D12: 1652814.3 | E12: 1623362.8 | F12: 1768056.7 | G12: 1645809.7 | H12: 1760411.3 | I12: 2007352 | J12: 1847730.4 | K12: 1769224 | L12: 1644566.5 | M12: 1513432.6 | N12: 1582274 | O12: 1371778 | P12: 1509153 | Q12: 1506251 | R12: 1824242 | S12: 1715501 | T12: 1816194 | U12: 1874405 | V12: 1817790 | W12: 1808591 | X12: 1658207 | Y12: 1521378 | Z12: 1547268 | AA12: 1547945 | AB12: 1747657 | AC12: 1602953 | AD12: 1939499 | AE12: 1888449 | AF12: 1942871 | AG12: 2079741 | AH12: 1763393 | AI12: 1815562 | AJ12: 1781125 | AL12: =SUM(B12:M12)/$AL$19 -> 0.035756864 | AM12: =SUM(N12:Y12)/AM$19 -> 0.034708069 | AN12: =SUM(Z12:AK12)/AN$19 -> 0.036648015
A13: SAARE MAAKOND | B13: 1141140.8 | C13: 783608.63 | D13: 965877.6 | E13: 1046100.8 | F13: 1156516.9 | G13: 1095017.8 | H13: 1244439.3 | I13: 1282463.8 | J13: 1141856.9 | K13: 1132135.2 | L13: 1038541.4 | M13: 967056.31 | N13: 957671 | O13: 875468 | P13: 990820 | Q13: 1031803 | R13: 1202993 | S13: 1139848 | T13: 1335850 | U13: 1349808 | V13: 1156597 | W13: 1194540 | X13: 1063835 | Y13: 1004779 | Z13: 973554 | AA13: 936723 | AB13: 1002370 | AC13: 1028694 | AD13: 1249340 | AE13: 1308978 | AF13: 1503475 | AG13: 1377952 | AH13: 1160642 | AI13: 1256813 | AJ13: 1164925 | AL13: =SUM(B13:M13)/$AL$19 -> 0.022634059 | AM13: =SUM(N13:Y13)/AM$19 -> 0.023081176 | AN13: =SUM(Z13:AK13)/AN$19 -> 0.02416942
A14: TARTU MAAKOND | B14: 7001347.6 | C14: 7318194.5 | D14: 7742351.9 | E14: 6086265.9 | F14: 6711169.4 | G14: 6231821.7 | H14: 6689733.4 | I14: 7366448.8 | J14: 7150013.9 | K14: 6979176.5 | L14: 7129419.2 | M14: 6278716.9 | N14: 6279732 | O14: 7440238 | P14: 9107006 | Q14: 7637308 | R14: 7465819 | S14: 6343930 | T14: 6239532 | U14: 6802015 | V14: 6606556 | W14: 6561088 | X14: 6152399 | Y14: 5886806 | Z14: 5757577 | AA14: 5506604 | AB14: 5808326 | AC14: 5702559 | AD14: 6505361 | AE14: 6224929 | AF14: 6345638 | AG14: 6517325 | AH14: 6176380 | AI14: 6412604 | AJ14: 6177936 | AL14: =SUM(B14:M14)/$AL$19 -> 0.14401883 | AM14: =SUM(N14:Y14)/AM$19 -> 0.14316845 | AN14: =SUM(Z14:AK14)/AN$19 -> 0.12516867
A15: VALGA MAAKOND | B15: 1300110.3 | C15: 1294880.7 | D15: 1027963.7 | E15: 872262.54 | F15: 959300.81 | G15: 856679.68 | H15: 944802.6 | I15: 1004309.5 | J15: 915336.1 | K15: 842572.64 | L15: 825741.5 | M15: 757403.13 | N15: 816300 | O15: 662006 | P15: 726672 | Q15: 735375 | R15: 808825 | S15: 736550 | T15: 822298 | U15: 832582 | V15: 710292 | W15: 702705 | X15: 645793 | Y15: 664030 | Z15: 690342 | AA15: 648717 | AB15: 677186 | AC15: 628862 | AD15: 720965 | AE15: 748069 | AF15: 837326 | AG15: 803789 | AH15: 712586 | AI15: 724258 | AJ15: 700873 | AL15: =SUM(B15:M15)/$AL$19 -> 0.02020707 | AM15: =SUM(N15:Y15)/AM$19 -> 0.015377192 | AN15: =SUM(Z15:AK15)/AN$19 -> 0.014715862
... A17: VORU MAAKOND | B17: 1550436 | C17: 1142195.1 | D17: 1230037 | E17: 1106294.3 | F17: 1252687.7 | G17: 1191115.5 | H17: 1268417.2 | I17: 1289726 | J17: 1309661.3 | K17: 1254595.2 | L17: 1211225.7 | M17: 1128013 | N17: 1262735 | O17: 1070855 | P17: 1171393 | Q17: 1159676 | R17: 1326923 | S17: 1231602 | T17: 1267222 | U17: 1362541 | V17: 1248184 | W17: 1340849 | X17: 1091182 | Y17: 1266836 | Z17: 1207661 | AA17: 1242741 | AB17: 1355735 | AC17: 1206504 | AD17: 1566576 | AE17: 1439217 | AF17: 1525965 | AG17: 1586962 | AH17: 1433028 | AI17: 1505445 | AJ17: 1428076 | AL17: =SUM(B17:M17)/$AL$19 -> 0.026012508 | AM17: =SUM(N17:Y17)/AM$19 -> 0.025676568 | AN17: =SUM(Z17:AK17)/AN$19 -> 0.028894702
AL18: =SUM(AL3:AL17) -> 1 | AM18: =SUM(AM3:AM17) -> 1 | AN18: =SUM(AN3:AN17) -> 1
N19: Muutus võrreldes eelmise aasta sama kuuga 2017 vs 2016 | Z19: Muutus võrreldes eelmise aasta sama kuuga 2018 vs 2017 | AL19: =SUM(B3:M17) -> 5.7412397e+08 | AM19: =SUM(N3:Y17) -> 576400951 | AN19: =SUM(Z3:AK17) -> 536358185
A20: Maakond | N20: 1 | O20: 2 | P20: 3 | Q20: 4 | R20: 5 | S20: 6 | T20: 7 | U20: 8 | V20: 9 | W20: 10 | X20: 11 | Y20: 12 | Z20: 1 | AA20: 2 | AB20: 3 | AC20: 4 | AD20: 5 | AE20: 6 | AF20: 7 | AG20: 8 | AH20: 9 | AI20: 10 | AJ20: 11 | AK20: 12
A21: HARJU MAAKOND | N21: =(N3-B3) -> -1753478.3 | O21: =(O3-C3) -> -99523.47 | P21: =(P3-D3) -> 638087.57 | Q21: =(Q3-E3) -> -185067.47 | R21: =(R3-F3) -> 548604.96 | S21: =(S3-G3) -> 913940.43 | T21: =(T3-H3) -> 174559.31 | U21: =(U3-I3) -> 449085.17 | ... AJ21: =(AJ3-X3) -> 1522932
A22: HIIU MAAKOND | N22: =(N4-B4) -> -37299.12 | O22: =(O4-C4) -> 18794.21 | P22: =(P4-D4) -> -4080.56 | Q22: =(Q4-E4) -> 13063.75 | R22: =(R4-F4) -> 18667.13 | S22: =(S4-G4) -> -29486.31 | T22: =(T4-H4) -> -17201.45 | U22: =(U4-I4) -> -15006.47 | ... AJ22: =(AJ4-X4) -> 79915
A23: IDA-VIRU MAAKOND | N23: =(N5-B5) -> -234605.81 | O23: =(O5-C5) -> -95604.58 | P23: =(P5-D5) -> 168089.62 | Q23: =(Q5-E5) -> 86643.98 | R23: =(R5-F5) -> 267235.63 | S23: =(S5-G5) -> 153816.64 | T23: =(T5-H5) -> 263394.39 | U23: =(U5-I5) -> 223254.5 | ... AJ23: =(AJ5-X5) -> 7644
A24: JARVA MAAKOND | N24: =(N6-B6) -> -149962.45 | O24: =(O6-C6) -> -183285.28 | P24: =(P6-D6) -> 44207.57 | Q24: =(Q6-E6) -> 64278.69 | R24: =(R6-F6) -> 490089.61 | S24: =(S6-G6) -> 51402.35 | T24: =(T6-H6) -> 40871.11 | U24: =(U6-I6) -> 178029.41 | ... AJ24: =(AJ6-X6) -> 330852
A25: JOGEVA MAAKOND | N25: =(N7-B7) -> 12669.23 | O25: =(O7-C7) -> -158622.39 | P25: =(P7-D7) -> 29231.41 | Q25: =(Q7-E7) -> -59016.85 | R25: =(R7-F7) -> 97966.38 | S25: =(S7-G7) -> 98115.07 | T25: =(T7-H7) -> 101514.7 | U25: =(U7-I7) -> 253754.66 | ... AJ25: =(AJ7-X7) -> 201304
A26: LAANE MAAKOND | N26: =(N8-B8) -> 62351.69 | O26: =(O8-C8) -> 86164.38 | P26: =(P8-D8) -> 58883.51 | Q26: =(Q8-E8) -> 73644.77 | R26: =(R8-F8) -> 87250.69 | S26: =(S8-G8) -> 115004.01 | T26: =(T8-H8) -> 103909.98 | U26: =(U8-I8) -> 106397.33 | ... AJ26: =(AJ8-X8) -> 49986
A27: LAANE-VIRU MAAKOND | N27: =(N9-B9) -> -617517.19 | O27: =(O9-C9) -> -315117.48 | P27: =(P9-D9) -> 22677.81 | Q27: =(Q9-E9) -> 169609.9 | R27: =(R9-F9) -> 274581.77 | S27: =(S9-G9) -> 139954.71 | T27: =(T9-H9) -> 341519.85 | U27: =(U9-I9) -> 390218.26 | ... AJ27: =(AJ9-X9) -> 333116
A28: PARNU MAAKOND | N28: =(N10-B10) -> -2794901.1 | O28: =(O10-C10) -> -864267.8 | P28: =(P10-D10) -> -713433.18 | Q28: =(Q10-E10) -> -725344.28 | R28: =(R10-F10) -> -354761.31 | S28: =(S10-G10) -> -262279.13 | T28: =(T10-H10) -> -279472.41 | U28: =(U10-I10) -> -866238.62 | ... AJ28: =(AJ10-X10) -> 422582
A29: POLVA MAAKOND | N29: =(N11-B11) -> -91680.79 | O29: =(O11-C11) -> -31236.45 | P29: =(P11-D11) -> 14163.49 | Q29: =(Q11-E11) -> -34813.4 | R29: =(R11-F11) -> -35725.43 | S29: =(S11-G11) -> -1331.48 | T29: =(T11-H11) -> 3034247.9 | U29: =(U11-I11) -> 3850567.9 | ... AJ29: =(AJ11-X11) -> 35977
A30: RAPLA MAAKOND | N30: =(N12-B12) -> -208964.85 | O30: =(O12-C12) -> -133095.62 | P30: =(P12-D12) -> -143661.31 | Q30: =(Q12-E12) -> -117111.75 | R30: =(R12-F12) -> 56185.28 | S30: =(S12-G12) -> 69691.32 | T30: =(T12-H12) -> 55782.7 | U30: =(U12-I12) -> -132947 | ... AJ30: =(AJ12-X12) -> 122918
A31: SAARE MAAKOND | N31: =(N13-B13) -> -183469.82 | O31: =(O13-C13) -> 91859.37 | P31: =(P13-D13) -> 24942.4 | Q31: =(Q13-E13) -> -14297.79 | R31: =(R13-F13) -> 46476.15 | S31: =(S13-G13) -> 44830.2 | T31: =(T13-H13) -> 91410.68 | U31: =(U13-I13) -> 67344.17 | ... AJ31: =(AJ13-X13) -> 101090
A32: TARTU MAAKOND | N32: =(N14-B14) -> -721615.6 | O32: =(O14-C14) -> 122043.47 | P32: =(P14-D14) -> 1364654.1 | Q32: =(Q14-E14) -> 1551042.1 | R32: =(R14-F14) -> 754649.61 | S32: =(S14-G14) -> 112108.31 | T32: =(T14-H14) -> -450201.39 | U32: =(U14-I14) -> -564433.77 | ... AJ32: =(AJ14-X14) -> 25537
... A35: VORU MAAKOND | N35: =(N17-B17) -> -287701 | O35: =(O17-C17) -> -71340.12 | P35: =(P17-D17) -> -58644 | Q35: =(Q17-E17) -> 53381.72 | R35: =(R17-F17) -> 74235.28 | S35: =(S17-G17) -> 40486.5 | T35: =(T17-H17) -> -1195.21 | U35: =(U17-I17) -> 72815.02 | ... AJ35: =(AJ17-X17) -> 336894

Sheet mootoribensiin_maakond
A1: maakond | B1: 2016 | N1: 2017 | Z1: 2018
B2: 1 | C2: 2 | D2: 3 | E2: 4 | F2: 5 | G2: 6 | H2: 7 | I2: 8 | J2: 9 | K2: 10 | L2: 11 | M2: 12 | N2: 1 | O2: 2 | P2: 3 | Q2: 4 | R2: 5 | S2: 6 | T2: 7 | U2: 8 | V2: 9 | W2: 10 | X2: 11 | Y2: 12 | Z2: 1 | AA2: 2 | AB2: 3 | AC2: 4 | AD2: 5 | AE2: 6 | AF2: 7 | AG2: 8 | AH2: 9 | AI2: 10 | AJ2: 11 | AK2: 12 | AL2: 2016 | AM2: 2017 | AN2: 2018
A3: HARJU MAAKOND | B3: 12990802 | C3: 10432163 | D3: 12144437 | E3: 12764856 | F3: 14183148 | G3: 13704464 | H3: 14510476 | I3: 14199260 | J3: 13450522 | K3: 13194048 | L3: 12125658 | M3: 12397761 | N3: 11885889 | O3: 10845361 | P3: 12246745 | Q3: 12639858 | R3: 13793073 | S3: 13931880 | T3: 14120230 | U3: 14173331 | V3: 13185060 | W3: 12967226 | X3: 12061480 | Y3: 12844101 | Z3: 11241161 | AA3: 11102025 | AB3: 12158318 | AC3: 12104163 | AD3: 13877555 | AE3: 13419222 | AF3: 13702725 | AG3: 13508143 | AH3: 12221901 | AI3: 12251983 | AJ3: 11991878 | AL3: =SUM(B3:M3)/AL$19 -> 0.48554415 | AM3: =SUM(N3:Y3)/AM$19 -> 0.48897788 | AN3: =SUM(Z3:AK3)/AN$19 -> 0.4927529
A4: HIIU MAAKOND | B4: 158877.73 | C4: 115717.18 | D4: 143961.75 | E4: 156134.12 | F4: 207092.1 | G4: 233805.33 | H4: 300036.61 | I4: 250191.29 | J4: 181715.67 | K4: 159240.14 | L4: 139102.75 | M4: 147377.81 | N4: 134986 | O4: 122261 | P4: 140516 | Q4: 154064 | R4: 193509 | S4: 236574 | T4: 283834 | U4: 246394 | V4: 173366 | W4: 154013 | X4: 135847 | Y4: 156114 | Z4: 123646.79 | AA4: 126510.51 | AB4: 137279.76 | AC4: 148711.28 | AD4: 271303.2 | AE4: 189053.73 | AF4: 292576.43 | AG4: 243753.31 | AH4: 168267.32 | AI4: 154957.29 | AJ4: 147599.34 | AL4: =SUM(B4:M4)/$AL$19 -> 0.0068221481 | AM4: =SUM(N4:Y4)/AM$19 -> 0.006737456 | AN4: =SUM(Z4:AK4)/AN$19 -> 0.0071763004
A5: IDA-VIRU MAAKOND | B5: 1271233.9 | C5: 969420.11 | D5: 1143818 | E5: 1235103.7 | F5: 1452539 | G5: 1440053 | H5: 1592479.5 | I5: 1502304.3 | J5: 1332019 | K5: 1218216.5 | L5: 1137509.7 | M5: 1146848.4 | N5: 1135672 | O5: 973187 | P5: 1167149 | Q5: 1181236 | R5: 1389451 | S5: 1442684 | T5: 1527884 | U5: 1528878 | V5: 1318145 | W5: 1257203 | X5: 1099639 | Y5: 1141250 | Z5: 1025646.3 | AA5: 1000860.2 | AB5: 1080200.1 | AC5: 1120699.2 | AD5: 1316529.9 | AE5: 1262638.9 | AF5: 1386397.5 | AG5: 1339440.4 | AH5: 1155392.2 | AI5: 1133230.9 | AJ5: 1078310.2 | AL5: =SUM(B5:M5)/$AL$19 -> 0.048031181 | AM5: =SUM(N5:Y5)/AM$19 -> 0.047927239 | AN5: =SUM(Z5:AK5)/AN$19 -> 0.046200268
A6: JARVA MAAKOND | B6: 679841.57 | C6: 551565.59 | D6: 653214.56 | E6: 674375.45 | F6: 757488.22 | G6: 864645.93 | H6: 959407.83 | I6: 894066.78 | J6: 774677.17 | K6: 707687.43 | L6: 614377.6 | M6: 675588.68 | N6: 642443 | O6: 556360 | P6: 639732 | Q6: 689228 | R6: 824544 | S6: 872133 | T6: 923101 | U6: 885285 | V6: 765419 | W6: 712314 | X6: 630443 | Y6: 710444 | Z6: 565322.39 | AA6: 556754.78 | AB6: 640823.97 | AC6: 674668.45 | AD6: 831200.47 | AE6: 839143.03 | AF6: 867587.24 | AG6: 825295.53 | AH6: 705370.04 | AI6: 682040.4 | AJ6: 649648.37 | AL6: =SUM(B6:M6)/$AL$19 -> 0.027394123 | AM6: =SUM(N6:Y6)/AM$19 -> 0.027978815 | AN6: =SUM(Z6:AK6)/AN$19 -> 0.028072043
A7: JOGEVA MAAKOND | B7: 614782.3 | C7: 456251.3 | D7: 560202.94 | E7: 615209.94 | F7: 778446.28 | G7: 787585.7 | H7: 884398.67 | I7: 798926.29 | J7: 711362.3 | K7: 636223.05 | L7: 540931.93 | M7: 590993.82 | N7: 552452 | O7: 507107 | P7: 583754 | Q7: 617773 | R7: 726076 | S7: 807028 | T7: 871678 | U7: 825692 | V7: 693757 | W7: 621249 | X7: 576892 | Y7: 618241 | Z7: 501504.84 | AA7: 508296.63 | AB7: 572053.53 | AC7: 602522.54 | AD7: 778319.26 | AE7: 818157.72 | AF7: 858203.61 | AG7: 808244.32 | AH7: 673015.54 | AI7: 624869.98 | AJ7: 583528.86 | AL7: =SUM(B7:M7)/$AL$19 -> 0.024807348 | AM7: =SUM(N7:Y7)/AM$19 -> 0.025292823 | AN7: =SUM(Z7:AK7)/AN$19 -> 0.026248516
A8: LAANE MAAKOND | B8: 485541.53 | C8: 381653.6 | D8: 467568.66 | E8: 510185.29 | F8: 645585.63 | G8: 747788.5 | H8: 920545.4 | I8: 821063.26 | J8: 665003.38 | K8: 610707.45 | L8: 526596.38 | M8: 567331.31 | N8: 458269 | O8: 420838 | P8: 469531 | Q8: 529957 | R8: 631766 | S8: 729435 | T8: 858334 | U8: 763730 | V8: 594780 | W8: 539776 | X8: 389852 | Y8: 424952 | Z8: 351202.95 | AA8: 356215.37 | AB8: 394079.65 | AC8: 425835.19 | AD8: 534821.99 | AE8: 524407.04 | AF8: 643903.14 | AG8: 586111.16 | AH8: 432594.66 | AI8: 410399.47 | AJ8: 386357.78 | AL8: =SUM(B8:M8)/$AL$19 -> 0.02286096 | AM8: =SUM(N8:Y8)/AM$19 -> 0.0215298 | AN8: =SUM(Z8:AK8)/AN$19 -> 0.018072486
A9: LAANE-VIRU MAAKOND | B9: 1207012.9 | C9: 921166.27 | D9: 1071097.6 | E9: 1140094.1 | F9: 1369734.6 | G9: 1374177.9 | H9: 1520886.3 | I9: 1392216.9 | J9: 1224167.5 | K9: 1162579 | L9: 1052366.3 | M9: 1091269.5 | N9: 934753 | O9: 869354 | P9: 1049451 | Q9: 1107562 | R9: 1272007 | S9: 1396443 | T9: 1476545 | U9: 1405596 | V9: 1240606 | W9: 1171873 | X9: 1051070 | Y9: 1194528 | Z9: 1015153.9 | AA9: 995796.39 | AB9: 1055998.8 | AC9: 1098268.3 | AD9: 1358369.6 | AE9: 1363782.3 | AF9: 1446612.9 | AG9: 1328193.1 | AH9: 1142006 | AI9: 1099684.1 | AJ9: 1044089.3 | AL9: =SUM(B9:M9)/$AL$19 -> 0.045185755 | AM9: =SUM(N9:Y9)/AM$19 -> 0.04478973 | AN9: =SUM(Z9:AK9)/AN$19 -> 0.046374366
A10: PARNU MAAKOND | B10: 1768562 | C10: 1290088.4 | D10: 1546561.8 | E10: 1637635.2 | F10: 1969110.4 | G10: 2059156.5 | H10: 2469204.1 | I10: 2196152.2 | J10: 2128854.9 | K10: 1709360 | L10: 1517947.4 | M10: 1631911.9 | N10: 1514194 | O10: 1361277 | P10: 1532644 | Q10: 1619448 | R10: 1878765 | S10: 2070570 | T10: 2352264 | U10: 2101958 | V10: 1738707 | W10: 1656456 | X10: 1527046 | Y10: 1795209 | Z10: 1449082.6 | AA10: 1464853.6 | AB10: 1591398.8 | AC10: 1669490.6 | AD10: 2047799.2 | AE10: 2086520.3 | AF10: 2450718.6 | AG10: 2214030.1 | AH10: 1751066.5 | AI10: 1644651.6 | AJ10: 1574208.2 | AL10: =SUM(B10:M10)/$AL$19 -> 0.068196659 | AM10: =SUM(N10:Y10)/AM$19 -> 0.066849081 | AN10: =SUM(Z10:AK10)/AN$19 -> 0.071430741
A11: POLVA MAAKOND | B11: 419905.01 | C11: 305865.48 | D11: 376293.4 | E11: 418235.09 | F11: 529744.31 | G11: 516922.88 | H11: 591902.94 | I11: 547517.33 | J11: 470052.74 | K11: 390595.19 | L11: 374797.33 | M11: 383033.13 | N11: 382816 | O11: 329910 | P11: 375330 | Q11: 388896 | R11: 494863 | S11: 532030 | T11: 591671 | U11: 557243 | V11: 468868 | W11: 541500 | X11: 329736 | Y11: 363242 | Z11: 305253.32 | AA11: 310011.06 | AB11: 342466.64 | AC11: 364492.91 | AD11: 471378.94 | AE11: 453647.02 | AF11: 460290.09 | AG11: 440835.28 | AH11: 378161.16 | AI11: 343878.46 | AJ11: 343092.38 | AL11: =SUM(B11:M11)/$AL$19 -> 0.01656308 | AM11: =SUM(N11:Y11)/AM$19 -> 0.016930281 | AN11: =SUM(Z11:AK11)/AN$19 -> 0.015091088
A12: RAPLA MAAKOND | B12: 695860.9 | C12: 544949.97 | D12: 641165.61 | E12: 703924.15 | F12: 870271.86 | G12: 858834.56 | H12: 993868.92 | I12: 897458.74 | J12: 779458.29 | K12: 735188.53 | L12: 650442.18 | M12: 688225.09 | N12: 628131 | O12: 573556 | P12: 649067 | Q12: 691961 | R12: 848762 | S12: 911356 | T12: 986382 | U12: 925719 | V12: 788428 | W12: 721325 | X12: 647142 | Y12: 717488 | Z12: 595618.38 | AA12: 608699.21 | AB12: 654750.7 | AC12: 688604.28 | AD12: 882352.69 | AE12: 871710.58 | AF12: 942032.51 | AG12: 889519.48 | AH12: 744341.94 | AI12: 713062.11 | AJ12: 664217.91 | AL12: =SUM(B12:M12)/$AL$19 -> 0.028180188 | AM12: =SUM(N12:Y12)/AM$19 -> 0.028730709 | AN12: =SUM(Z12:AK12)/AN$19 -> 0.029565766
A13: SAARE MAAKOND | B13: 683082.67 | C13: 508105.26 | D13: 619898.9 | E13: 662575.12 | F13: 833141.9 | G13: 899905.53 | H13: 1074568.9 | I13: 938993.66 | J13: 749083.7 | K13: 700191.46 | L13: 599384.95 | M13: 630693.28 | N13: 604118 | O13: 539473 | P13: 625036 | Q13: 679619 | R13: 804986 | S13: 914276 | T13: 1059321 | U13: 956037 | V13: 720268 | W13: 704873 | X13: 600262 | Y13: 679546 | Z13: 545387.06 | AA13: 546295.22 | AB13: 594490.76 | AC13: 655442.62 | AD13: 824082.6 | AE13: 863812.14 | AF13: 1047189.4 | AG13: 908433.7 | AH13: 689975.35 | AI13: 672718.71 | AJ13: 597711.04 | AL13: =SUM(B13:M13)/$AL$19 -> 0.027682432 | AM13: =SUM(N13:Y13)/AM$19 -> 0.028093775 | AN13: =SUM(Z13:AK13)/AN$19 -> 0.028457723
A14: TARTU MAAKOND | B14: 3217925.1 | C14: 2490760 | D14: 3220784.8 | E14: 3070815.8 | F14: 3549429.8 | G14: 3455514 | H14: 3796170.8 | I14: 3600199.9 | J14: 3611513 | K14: 3181579.8 | L14: 3017059.2 | M14: 3064559.1 | N14: 2937757 | O14: 2594100 | P14: 2889122 | Q14: 2976119 | R14: 3621713 | S14: 3529077 | T14: 3552580 | U14: 3573569 | V14: 3231357 | W14: 3109965 | X14: 2821499 | Y14: 3116867 | Z14: 2632062.5 | AA14: 2654654.9 | AB14: 2810169.2 | AC14: 2813265.6 | AD14: 3328168.1 | AE14: 3262179.1 | AF14: 3313419.4 | AG14: 3158482.7 | AH14: 2921553.1 | AI14: 2831578.4 | AJ14: 2752533.6 | AL14: =SUM(B14:M14)/$AL$19 -> 0.12216962 | AM14: =SUM(N14:Y14)/AM$19 -> 0.11996913 | AN14: =SUM(Z14:AK14)/AN$19 -> 0.11632337
A15: VALGA MAAKOND | B15: 457441.34 | C15: 333235.11 | D15: 375072.71 | E15: 405210.33 | F15: 518313.77 | G15: 550178.64 | H15: 638157.47 | I15: 554575.08 | J15: 458825.88 | K15: 431317.07 | L15: 377435.04 | M15: 391970.27 | N15: 371640 | O15: 316859 | P15: 357584 | Q15: 360920 | R15: 457508 | S15: 511483 | T15: 550683 | U15: 509613 | V15: 401991 | W15: 394809 | X15: 325937 | Y15: 365995 | Z15: 291801.6 | AA15: 293756.62 | AB15: 327972.87 | AC15: 303715.97 | AD15: 404633.08 | AE15: 396186.86 | AF15: 477185.46 | AG15: 420764.92 | AH15: 346837.48 | AI15: 294919.34 | AJ15: 275827.35 | AL15: =SUM(B15:M15)/$AL$19 -> 0.017082125 | AM15: =SUM(N15:Y15)/AM$19 -> 0.015567657 | AN15: =SUM(Z15:AK15)/AN$19 -> 0.013730419
... A17: VORU MAAKOND | B17: 581218.8 | C17: 409952.43 | D17: 494302.27 | E17: 512675.02 | F17: 658584.81 | G17: 676231.86 | H17: 765656.07 | I17: 700539.47 | J17: 593822.28 | K17: 545804.93 | L17: 490107.99 | M17: 520763.84 | N17: 564164 | O17: 481984 | P17: 536267 | Q17: 556003 | R17: 593292 | S17: 677097 | T17: 721378 | U17: 701736 | V17: 557322 | W17: 529335 | X17: 510666 | Y17: 553881 | Z17: 439423.63 | AA17: 475031.52 | AB17: 505218.05 | AC17: 523051.04 | AD17: 672274.66 | AE17: 675911.46 | AF17: 718622.11 | AG17: 669470.07 | AH17: 568775 | AI17: 534433.18 | AJ17: 488917.73 | AL17: =SUM(B17:M17)/$AL$19 -> 0.021617032 | AM17: =SUM(N17:Y17)/AM$19 -> 0.02207318 | AN17: =SUM(Z17:AK17)/AN$19 -> 0.02246066
AL18: =SUM(AL3:AL17) -> 1 | AM18: =SUM(AM3:AM17) -> 1 | AN18: =SUM(AN3:AN17) -> 1
N19: Muutus võrreldes eelmise aasta sama kuuga 2017 vs 2016 | Z19: Muutus võrreldes eelmise aasta sama kuuga 2018 vs 2017 | AL19: =SUM(B3:M17) -> 3.2149001e+08 | AM19: =SUM(N3:Y17) -> 316362436 | AN19: =SUM(Z3:AK17) -> 2.79205e+08
A20: Maakond | N20: 1 | O20: 2 | P20: 3 | Q20: 4 | R20: 5 | S20: 6 | T20: 7 | U20: 8 | V20: 9 | W20: 10 | X20: 11 | Y20: 12 | Z20: 1 | AA20: 2 | AB20: 3 | AC20: 4 | AD20: 5 | AE20: 6 | AF20: 7 | AG20: 8 | AH20: 9 | AI20: 10 | AJ20: 11 | AK20: 12
A21: HARJU MAAKOND | N21: =(N3-B3) -> -1104912.7 | O21: =(O3-C3) -> 413197.57 | P21: =(P3-D3) -> 102308.02 | Q21: =(Q3-E3) -> -124997.84 | R21: =(R3-F3) -> -390075.08 | S21: =(S3-G3) -> 227415.77 | T21: =(T3-H3) -> -390246.1 | U21: =(U3-I3) -> -25929.12 | ... Y21: =(Y3-M3) -> 446340.34 | Z21: =Z3-N3 -> -644727.87 | AA21: =AA3-O3 -> 256664.26 | AB21: =AB3-P3 -> -88426.79 | AC21: =AC3-Q3 -> -535695.14 | AD21: =AD3-R3 -> 84482.42 | AE21: =AE3-S3 -> -512657.86 | AF21: =AF3-T3 -> -417504.93 | AG21: =AG3-U3 -> -665187.93 | ... AJ21: =AJ3-X3 -> -69602.4
A22: HIIU MAAKOND | N22: =(N4-B4) -> -23891.73 | O22: =(O4-C4) -> 6543.82 | P22: =(P4-D4) -> -3445.75 | Q22: =(Q4-E4) -> -2070.12 | R22: =(R4-F4) -> -13583.1 | S22: =(S4-G4) -> 2768.67 | T22: =(T4-H4) -> -16202.61 | U22: =(U4-I4) -> -3797.29 | ... Y22: =(Y4-M4) -> 8736.19 | Z22: =Z4-N4 -> -11339.21 | AA22: =AA4-O4 -> 4249.51 | AB22: =AB4-P4 -> -3236.24 | AC22: =AC4-Q4 -> -5352.72 | AD22: =AD4-R4 -> 77794.2 | AE22: =AE4-S4 -> -47520.27 | AF22: =AF4-T4 -> 8742.43 | AG22: =AG4-U4 -> -2640.69 | ... AJ22: =AJ4-X4 -> 11752.34
A23: IDA-VIRU MAAKOND | N23: =(N5-B5) -> -135561.85 | O23: =(O5-C5) -> 3766.89 | P23: =(P5-D5) -> 23331.02 | Q23: =(Q5-E5) -> -53867.69 | R23: =(R5-F5) -> -63088.02 | S23: =(S5-G5) -> 2631.02 | T23: =(T5-H5) -> -64595.52 | U23: =(U5-I5) -> 26573.73 | ... Y23: =(Y5-M5) -> -5598.35 | Z23: =Z5-N5 -> -110025.68 | AA23: =AA5-O5 -> 27673.15 | AB23: =AB5-P5 -> -86948.86 | AC23: =AC5-Q5 -> -60536.807 | AD23: =AD5-R5 -> -72921.13 | AE23: =AE5-S5 -> -180045.08 | AF23: =AF5-T5 -> -141486.48 | AG23: =AG5-U5 -> -189437.61 | ... AJ23: =AJ5-X5 -> -21328.79
A24: JARVA MAAKOND | N24: =(N6-B6) -> -37398.57 | O24: =(O6-C6) -> 4794.41 | P24: =(P6-D6) -> -13482.56 | Q24: =(Q6-E6) -> 14852.55 | R24: =(R6-F6) -> 67055.78 | S24: =(S6-G6) -> 7487.07 | T24: =(T6-H6) -> -36306.83 | U24: =(U6-I6) -> -8781.78 | ... Y24: =(Y6-M6) -> 34855.32 | Z24: =Z6-N6 -> -77120.61 | AA24: =AA6-O6 -> 394.78 | AB24: =AB6-P6 -> 1091.97 | AC24: =AC6-Q6 -> -14559.548 | AD24: =AD6-R6 -> 6656.47 | AE24: =AE6-S6 -> -32989.97 | AF24: =AF6-T6 -> -55513.76 | AG24: =AG6-U6 -> -59989.47 | ... AJ24: =AJ6-X6 -> 19205.37
A25: JOGEVA MAAKOND | N25: =(N7-B7) -> -62330.3 | O25: =(O7-C7) -> 50855.7 | P25: =(P7-D7) -> 23551.06 | Q25: =(Q7-E7) -> 2563.06 | R25: =(R7-F7) -> -52370.28 | S25: =(S7-G7) -> 19442.3 | T25: =(T7-H7) -> -12720.67 | U25: =(U7-I7) -> 26765.71 | ... Y25: =(Y7-M7) -> 27247.18 | Z25: =Z7-N7 -> -50947.16 | AA25: =AA7-O7 -> 1189.63 | AB25: =AB7-P7 -> -11700.47 | AC25: =AC7-Q7 -> -15250.458 | AD25: =AD7-R7 -> 52243.26 | AE25: =AE7-S7 -> 11129.72 | AF25: =AF7-T7 -> -13474.39 | AG25: =AG7-U7 -> -17447.68 | ... AJ25: =AJ7-X7 -> 6636.86
A26: LAANE MAAKOND | N26: =(N8-B8) -> -27272.53 | O26: =(O8-C8) -> 39184.4 | P26: =(P8-D8) -> 1962.34 | Q26: =(Q8-E8) -> 19771.71 | R26: =(R8-F8) -> -13819.63 | S26: =(S8-G8) -> -18353.5 | T26: =(T8-H8) -> -62211.4 | U26: =(U8-I8) -> -57333.26 | ... Y26: =(Y8-M8) -> -142379.31 | Z26: =Z8-N8 -> -107066.05 | AA26: =AA8-O8 -> -64622.63 | AB26: =AB8-P8 -> -75451.35 | AC26: =AC8-Q8 -> -104121.81 | AD26: =AD8-R8 -> -96944.01 | AE26: =AE8-S8 -> -205027.96 | AF26: =AF8-T8 -> -214430.86 | AG26: =AG8-U8 -> -177618.84 | ... AJ26: =AJ8-X8 -> -3494.22
A27: LAANE-VIRU MAAKOND | N27: =(N9-B9) -> -272259.95 | O27: =(O9-C9) -> -51812.27 | P27: =(P9-D9) -> -21646.55 | Q27: =(Q9-E9) -> -32532.06 | R27: =(R9-F9) -> -97727.65 | S27: =(S9-G9) -> 22265.12 | T27: =(T9-H9) -> -44341.28 | U27: =(U9-I9) -> 13379.11 | ... Y27: =(Y9-M9) -> 103258.54 | Z27: =Z9-N9 -> 80400.89 | AA27: =AA9-O9 -> 126442.39 | AB27: =AB9-P9 -> 6547.8 | AC27: =AC9-Q9 -> -9293.6541 | AD27: =AD9-R9 -> 86362.59 | AE27: =AE9-S9 -> -32660.72 | AF27: =AF9-T9 -> -29932.06 | AG27: =AG9-U9 -> -77402.85 | ... AJ27: =AJ9-X9 -> -6980.67
A28: PARNU MAAKOND | N28: =(N10-B10) -> -254367.97 | O28: =(O10-C10) -> 71188.6 | P28: =(P10-D10) -> -13917.85 | Q28: =(Q10-E10) -> -18187.23 | R28: =(R10-F10) -> -90345.44 | S28: =(S10-G10) -> 11413.55 | T28: =(T10-H10) -> -116940.06 | U28: =(U10-I10) -> -94194.15 | ... Y28: =(Y10-M10) -> 163297.05 | Z28: =Z10-N10 -> -65111.39 | AA28: =AA10-O10 -> 103576.58 | AB28: =AB10-P10 -> 58754.78 | AC28: =AC10-Q10 -> 50042.568 | AD28: =AD10-R10 -> 169034.24 | AE28: =AE10-S10 -> 15950.27 | AF28: =AF10-T10 -> 98454.59 | AG28: =AG10-U10 -> 112072.09 | ... AJ28: =AJ10-X10 -> 47162.16
A29: POLVA MAAKOND | N29: =(N11-B11) -> -37089.01 | O29: =(O11-C11) -> 24044.52 | P29: =(P11-D11) -> -963.4 | Q29: =(Q11-E11) -> -29339.09 | R29: =(R11-F11) -> -34881.31 | S29: =(S11-G11) -> 15107.12 | T29: =(T11-H11) -> -231.94 | U29: =(U11-I11) -> 9725.67 | ... Y29: =(Y11-M11) -> -19791.13 | Z29: =Z11-N11 -> -77562.68 | AA29: =AA11-O11 -> -19898.94 | AB29: =AB11-P11 -> -32863.36 | AC29: =AC11-Q11 -> -24403.085 | AD29: =AD11-R11 -> -23484.06 | AE29: =AE11-S11 -> -78382.98 | AF29: =AF11-T11 -> -131380.91 | AG29: =AG11-U11 -> -116407.72 | ... AJ29: =AJ11-X11 -> 13356.38
A30: RAPLA MAAKOND | N30: =(N12-B12) -> -67729.9 | O30: =(O12-C12) -> 28606.03 | P30: =(P12-D12) -> 7901.39 | Q30: =(Q12-E12) -> -11963.15 | R30: =(R12-F12) -> -21509.86 | S30: =(S12-G12) -> 52521.44 | T30: =(T12-H12) -> -7486.92 | U30: =(U12-I12) -> 28260.26 | ... Y30: =(Y12-M12) -> 29262.91 | Z30: =Z12-N12 -> -32512.62 | AA30: =AA12-O12 -> 35143.21 | AB30: =AB12-P12 -> 5683.7 | AC30: =AC12-Q12 -> -3356.7214 | AD30: =AD12-R12 -> 33590.69 | AE30: =AE12-S12 -> -39645.42 | AF30: =AF12-T12 -> -44349.49 | AG30: =AG12-U12 -> -36199.52 | ... AJ30: =AJ12-X12 -> 17075.91
A31: SAARE MAAKOND | N31: =(N13-B13) -> -78964.67 | O31: =(O13-C13) -> 31367.74 | P31: =(P13-D13) -> 5137.1 | Q31: =(Q13-E13) -> 17043.88 | R31: =(R13-F13) -> -28155.9 | S31: =(S13-G13) -> 14370.47 | T31: =(T13-H13) -> -15247.95 | U31: =(U13-I13) -> 17043.34 | ... Y31: =(Y13-M13) -> 48852.72 | Z31: =Z13-N13 -> -58730.94 | AA31: =AA13-O13 -> 6822.22 | AB31: =AB13-P13 -> -30545.24 | AC31: =AC13-Q13 -> -24176.38 | AD31: =AD13-R13 -> 19096.6 | AE31: =AE13-S13 -> -50463.86 | AF31: =AF13-T13 -> -12131.56 | AG31: =AG13-U13 -> -47603.3 | ... AJ31: =AJ13-X13 -> -2550.96
A32: TARTU MAAKOND | N32: =(N14-B14) -> -280168.06 | O32: =(O14-C14) -> 103340.02 | P32: =(P14-D14) -> -331662.84 | Q32: =(Q14-E14) -> -94696.82 | R32: =(R14-F14) -> 72283.2 | S32: =(S14-G14) -> 73563.04 | T32: =(T14-H14) -> -243590.8 | U32: =(U14-I14) -> -26630.89 | ... Y32: =(Y14-M14) -> 52307.94 | Z32: =Z14-N14 -> -305694.45 | AA32: =AA14-O14 -> 60554.87 | AB32: =AB14-P14 -> -78952.85 | AC32: =AC14-Q14 -> -162853.37 | AD32: =AD14-R14 -> -293544.85 | AE32: =AE14-S14 -> -266897.9 | AF32: =AF14-T14 -> -239160.62 | AG32: =AG14-U14 -> -415086.29 | ... AJ32: =AJ14-X14 -> -68965.36
... A35: VORU MAAKOND | N35: =(N17-B17) -> -17054.8 | O35: =(O17-C17) -> 72031.57 | P35: =(P17-D17) -> 41964.73 | Q35: =(Q17-E17) -> 43327.98 | R35: =(R17-F17) -> -65292.81 | S35: =(S17-G17) -> 865.14 | T35: =(T17-H17) -> -44278.07 | U35: =(U17-I17) -> 1196.53 | ... Y35: =(Y17-M17) -> 33117.16 | Z35: =Z17-N17 -> -124740.37 | AA35: =AA17-O17 -> -6952.48 | AB35: =AB17-P17 -> -31048.95 | AC35: =AC17-Q17 -> -32951.96 | AD35: =AD17-R17 -> 78982.66 | AE35: =AE17-S17 -> -1185.54 | AF35: =AF17-T17 -> -2755.89 | AG35: =AG17-U17 -> -32265.93 | ... AJ35: =AJ17-X17 -> -21748.27

Sheet MTA jaemüük
A1: Aasta | B1: Kuu | C1: Aruande-periood | D1: Bensiin oktaani-arvuga < 98 (liitrites) | E1: Bensiin oktaani-arvuga ≥ 98 (liitrites) | F1: Diislikütus (liitrites) | G1: Eriots-tarbeline diislikütus (liitrites) | H1: Mootori-vedelgaas (LPG) (liitrites) | I1: Esitamata aruannete arv
A2: 2019
L3: Jaemüük
B4: 02 | C4: 1 | D4: 9400113.5 | E4: 1786405.5 | F4: 24024138 | G4: 438901.35 | H4: 493674.13 | L4: https://www.emta.ee/media/1728/download
C5: 2 | D5: 7192895.9 | E5: 1345175.5 | F5: 19422876 | G5: 338549.07 | H5: 409953.63
B6: 03 | C6: 1 | D6: 9644407.3 | E6: 1805013.1 | F6: 24025803 | G6: 407280.9 | H6: 503715.27
C7: 2 | D7: 9916710 | E7: 2088174.6 | F7: 22791171 | G7: 421212.74 | H7: 527882.86
B8: 04 | C8: 1 | D8: 7907730.7 | E8: 3519134.7 | F8: 23657208 | G8: 523768.3 | H8: 533568.11
C9: 2 | D9: 7623839.8 | E9: 4048823.4 | F9: 23096550 | G9: 689025.47 | H9: 560560.13 | L9: 2020 vs 2019 | N9: Bensiin | O9: Diislikütus | P9: sh EDK | Q9: LPG
B10: 05 | C10: 1 | D10: 7821494.6 | E10: 4817358.4 | F10: 24645898 | G10: 519929.76 | H10: 574525.56
C11: 2 | D11: 8029530.1 | E11: 5700086.3 | F11: 26731488 | G11: 490495.8 | H11: 712969.09
B12: 06 | C12: 1 | D12: 8332868 | E12: 5975558.8 | F12: 25301128 | G12: 514360.56 | H12: 607702.59 | L12: 02 | M12: 1 | N12: =(D28+E28)/(D4+E4)-1 -> -0.05424329 | O12: =(F28+G4)/(F4+G28)-1 -> -0.060909747 | P12: =G28/G4-1 -> -0.13725233 | Q12: =H28/H4-1 -> 0.17373884
C13: 2 | D13: 8166340.3 | E13: 5718107.5 | F13: 23742660 | G13: 530197.21 | H13: 658537.75 | M13: 2 | N13: =(D29+E29)/(D5+E5)-1 -> 0.14592486 | O13: =(F29+G5)/(F5+G29)-1 -> 0.12313214 | P13: =G29/G5-1 -> -0.010069551 | Q13: =H29/H5-1 -> 0.31260543
B14: 07 | C14: 1 | D14: 7760027.4 | E14: 5470792.9 | F14: 25085549 | G14: 524896.72 | H14: 638985.69 | L14: 03 | M14: 1 | N14: =(D30+E30)/(D6+E6)-1 -> -0.0065327873 | O14: =(F30+G6)/(F6+G30)-1 -> -0.039852553 | P14: =G30/G6-1 -> -0.054194806 | Q14: =H30/H6-1 -> 0.15102904
C15: 2 | D15: 8854033.1 | E15: 6037193.4 | F15: 27379099 | G15: 647266.99 | H15: 712197 | M15: 2 | N15: =(D31+E31)/(D7+E7)-1 -> -0.36386489 | O15: =(F31+G7)/(F7+G31)-1 -> -0.060969147 | P15: =G31/G7-1 -> 0.085196586 | Q15: =H31/H7-1 -> -0.13710274
B16: 08 | C16: 1 | D16: 8101969.1 | E16: 5475948.2 | F16: 26047671 | G16: 611475.47 | H16: 663040.43 | L16: 04 | M16: 1 | N16: =(D32+E32)/(D8+E8)-1 -> -0.31424559 | O16: =(F32+G8)/(F8+G32)-1 -> -0.1702096 | P16: =G32/G8-1 -> -0.14888922 | Q16: =H32/H8-1 -> -0.16171615
C17: 2 | D17: 8244611 | E17: 6018269.2 | F17: 26706211 | G17: 750319.14 | H17: 697224.23 | M17: 2 | N17: =(D33+E33)/(D9+E9)-1 -> -0.26907951 | O17: =(F33+G9)/(F9+G33)-1 -> -0.047661953 | P17: =G33/G9-1 -> -0.22343253 | Q17: =H33/H9-1 -> -0.097899239
B18: 09 | C18: 1 | D18: 7373297.2 | E18: 5343877 | F18: 25309301 | G18: 541243.59 | H18: 628756.15 | L18: 05 | M18: 1 | N18: =(D34+E34)/(D10+E10)-1 -> -0.10948293 | O18: =(F34+G10)/(F10+G34)-1 -> 0.049106727 | P18: =G34/G10-1 -> 0.0996752 | Q18: =H34/H10-1 -> -0.0052343885
C19: 2 | D19: 6717976.4 | E19: 4665551.4 | F19: 24836526 | G19: 509377.01 | H19: 667155.68 | M19: 2 | N19: =(D35+E35)/(D11+E11)-1 -> -0.087585275 | O19: =(F35+G11)/(F11+G35)-1 -> -0.0099628661 | P19: =G35/G11-1 -> -0.10742712 | Q19: =H35/H11-1 -> -0.07883134
B20: 10 | C20: 1 | D20: 7024351.1 | E20: 4721399.6 | F20: 25026023 | G20: 446488.64 | H20: 637459.94 | L20: 06 | M20: 1 | N20: =(D36+E36)/(D12+E12)-1 -> -0.075340186 | O20: =(F36+G12)/(F12+G36)-1 -> 0.099890403 | P20: =G36/G12-1 -> -0.20200209 | Q20: =H36/H12-1 -> 0.12232212
C21: 2 | D21: 6880637.5 | E21: 4546699.8 | F21: 25524863 | G21: 492166.97 | H21: 646051.03 | M21: 2 | N21: =(D37+E37)/(D13+E13)-1 -> -0.0136498 | O21: =(F37+G13)/(F13+G37)-1 -> 0.076702242 | P21: =G37/G13-1 -> -0.27435814 | Q21: =H37/H13-1 -> 0.10671042
B22: 11 | C22: 1 | D22: 6971027.1 | E22: 4635002.3 | F22: 24324294 | G22: 390946.87 | H22: 613728.08 | L22: 07 | M22: 1 | N22: =(D38+E38)/(D14+E14)-1 -> 0.046687478 | O22: =(F38+G14)/(F14+G38)-1 -> 0.11461635 | P22: =G38/G14-1 -> 0.38267622 | Q22: =H38/H14-1 -> 0.1695104
C23: 2 | D23: 6315443 | E23: 4082045.6 | F23: 22824969 | G23: 388523.21 | H23: 585966.24 | M23: 2 | N23: =(D39+E39)/(D15+E15)-1 -> 0.0032984636 | O23: =(F39+G15)/(F15+G39)-1 -> 0.10790678 | P23: =G39/G15-1 -> 0.033913406 | Q23: =H39/H15-1 -> 0.18444699
B24: 12 | C24: 1 | D24: 6512296.5 | E24: 4190553.3 | F24: 22994150 | G24: 385409.12 | H24: 595396.86 | L24: 08 | M24: 1 | N24: =(D40+E40)/(D16+E16)-1 -> 0.074603182 | O24: =(F40+G16)/(F16+G40)-1 -> 0.11518588 | P24: =G40/G16-1 -> 0.31828997 | Q24: =H40/H16-1 -> 0.19401253
C25: 2 | D25: 6904633.8 | E25: 4377986.1 | F25: 19875487 | G25: 377917.55 | H25: 628781.44 | M25: 2 | N25: =(D41+E41)/(D17+E17)-1 -> -0.019788401 | O25: =(F41+G17)/(F17+G41)-1 -> 0.12667147 | P25: =G41/G17-1 -> 0.089950484 | Q25: =H41/H17-1 -> 0.14749581
A26: 2020 | B26: 01 | C26: 1 | D26: 6067856.6 | E26: 3717620.2 | F26: 19932008 | G26: 351603.88 | H26: 535529.19 | L26: 09 | M26: 1 | N26: =(D42+E42)/(D18+E18)-1 -> 0.026006872 | O26: =(F42+G18)/(F18+G42)-1 -> 0.16804059 | P26: =G42/G18-1 -> 0.55712369 | Q26: =H42/H18-1 -> 0.1608587
C27: 2 | D27: 6482995.7 | E27: 3969937.6 | F27: 22808225 | G27: 379147.15 | H27: 596796.09 | M27: 2 | N27: =(D43+E43)/(D19+E19)-1 -> 0.029817482 | O27: =(F43+G19)/(F19+G43)-1 -> 0.13073203 | P27: =G43/G19-1 -> 0.65563511 | Q27: =H43/H19-1 -> 0.021328043
B28: 02 | C28: 1 | D28: 6337765.7 | E28: 4241959.6 | F28: 22477530 | G28: 378661.12 | H28: 579444.5 | L28: 10 | M28: 1 | N28: =(D44+E44)/(D20+E20)-1 -> 0.024549478 | O28: =(F44+G20)/(F20+G44)-1 -> 0.14003111 | P28: =G44/G20-1 -> 0.6618774 | Q28: =H44/H20-1 -> 0.098303197
C29: 2 | D29: 5876382.7 | E29: 3907605.6 | F29: 21852314 | G29: 335140.03 | H29: 538107.36 | M29: 2 | N29: =(D45+E45)/(D21+E21)-1 -> 0.046844858 | O29: =(F45+G21)/(F21+G45)-1 -> 0.131048 | P29: =G45/G21-1 -> 0.45115793 | Q29: =H45/H21-1 -> 0.11014512
B30: 03 | C30: 1 | D30: 6698011.7 | E30: 4676612.1 | F30: 23030889 | G30: 385208.39 | H30: 579790.9 | L30: 11 | M30: 1 | N30: =(D46+E46)/(D22+E22)-1 -> -0.028668387 | O30: =(F46+G22)/(F22+G46)-1 -> 0.11858558 | P30: =G46/G22-1 -> 0.65965463 | Q30: =H46/H22-1 -> 0.1214711
C31: 2 | D31: 4304789.4 | E31: 3331939.2 | F31: 21409630 | G31: 457098.62 | H31: 455508.67 | M31: 2 | N31: =(D47+E47)/(D23+E23)-1 -> -0.0026486014 | O31: =(F47+G23)/(F23+G47)-1 -> 0.19335688 | P31: =G47/G23-1 -> 0.59754468 | Q31: =H47/H23-1 -> 0.075728193
B32: 04 | C32: 1 | D32: 4395425.8 | E32: 3440597.6 | F32: 19476664 | G32: 445784.85 | H32: 447281.53 | L32: 12 | M32: 1 | N32: =(D48+E48)/(D24+E24)-1 -> -0.058383488 | O32: =(F48+G24)/(F24+G48)-1 -> 0.19364754 | P32: =G48/G24-1 -> 0.74025052 | Q32: =H48/H24-1 -> 0.098441953
C33: 2 | D33: 4718514.4 | E33: 3813274.2 | F33: 21816270 | G33: 535074.76 | H33: 505681.72 | M33: 2 | N33: =(D49+E49)/(D25+E25)-1 -> -0.017306814 | O33: =(F49+G25)/(F25+G49)-1 -> 0.2193245 | P33: =G49/G25-1 -> 0.44585094 | Q33: =H49/H25-1 -> 0.064604531
B34: 05 | C34: 1 | D34: 5965776.7 | E34: 5289337.6 | F34: 25936079 | G34: 571753.86 | H34: 571518.27 | M34: Kokku | N34: =SUM(D28:E49)/SUM(D4:E25)-1 -> -0.04729571 | O34: =SUM(F28:G49)/SUM(F4:G25)-1 -> 0.08585785 | P34: =SUM(G28:G49)/SUM(G4:G25)-1 -> 0.18737583 | Q34: =SUM(H28:H49)/SUM(H4:H25)-1 -> 0.082747525
C35: 2 | D35: 6538663.6 | E35: 5988440.6 | F35: 26408111 | G35: 437803.25 | H35: 656764.78
B36: 06 | C36: 1 | D36: 6972543.7 | E36: 6257883.6 | F36: 27765567 | G36: 410458.65 | H36: 682038.06
C37: 2 | D37: 7245343.4 | E37: 6449584.6 | F37: 25447822 | G37: 384733.29 | H37: 728810.59
B38: 07 | C38: 1 | D38: 7429817.6 | E38: 6418716.2 | F38: 28244813 | G38: 725762.21 | H38: 747300.41
C39: 2 | D39: 7968135.3 | E39: 6972209.4 | F39: 30427654 | G39: 669218.02 | H39: 843559.59 | L39: 2021 vs 2020 | N39: Bensiin | O39: Diislikütus | P39: sh EDK | Q39: LPG
B40: 08 | C40: 1 | D40: 7535747 | E40: 7055126 | F40: 29335473 | G40: 806101.98 | H40: 791678.58 | L40: 01 | M40: 1 | N40: =(D50+E50)/(D26+E26)-1 -> -0.036621729 | O40: =(F50+G50)/(F26+G26)-1 -> 0.27332313 | P40: =G50/G26-1 -> -0.1435693 | Q40: =H50/H26-1 -> 0.10418861
C41: 2 | D41: 7198093.6 | E41: 6782547 | F41: 30260211 | G41: 817810.71 | H41: 800061.88 | M41: 2 | N41: =(D51+E51)/(D27+E27)-1 -> -0.029529562 | O41: =(F51+G51)/(F27+G27)-1 -> 0.19523791 | P41: =G51/G27-1 -> -0.16198987 | Q41: =H51/H27-1 -> 0.082414891
B42: 09 | C42: 1 | D42: 6758047.9 | E42: 6289860.2 | F42: 30005452 | G42: 842783.22 | H42: 729897.05 | L42: 02 | M42: 1 | N42: =(D52+E52)/(D28+E28)-1 -> 0.046922153 | O42: =(F52+G52)/(F28+G28)-1 -> 0.2884242 | P42: =G52/G28-1 -> -0.10504352 | Q42: =H52/H28-1 -> 0.13682536
C43: 2 | D43: 6041249.4 | E43: 5681706.5 | F43: 28527673 | G43: 843342.46 | H43: 681384.8 | M43: 2 | N43: =(D53+E53)/(D29+E29)-1 -> -0.15791036 | O43: =(F53+G53)/(F29+G29)-1 -> -0.014590773 | P43: =G53/G29-1 -> -0.26222188 | Q43: =H53/H29-1 -> -0.037111182
B44: 10 | C44: 1 | D44: 6248151.7 | E44: 5785951 | F44: 28929869 | G44: 742009.38 | H44: 700124.29 | L44: 03 | M44: 1 | N44: =(D54+E54)/(D30+E30)-1 -> -0.19803205 | O44: =(F54+G54)/(F30+G30)-1 -> 0.14772776 | P44: =G54/G30-1 -> -0.26720861 | Q44: =H54/H30-1 -> 0.06195011
C45: 2 | D45: 6239489.8 | E45: 5723159.6 | F45: 29185486 | G45: 714212 | H45: 717210.4 | M45: 2 | N45: =(D55+E55)/(D31+E31)-1 -> 0.16755064 | O45: =(F55+G55)/(F31+G31)-1 -> 0.20436048 | P45: =G55/G31-1 -> -0.37369254 | Q45: =H55/H31-1 -> 0.32725084
B46: 11 | C46: 1 | D46: 5965235.6 | E46: 5308067.6 | F46: 27543637 | G46: 648836.78 | H46: 688278.31 | L46: 04 | M46: 1 | N46: =(D56+E56)/(D32+E32)-1 -> 0.28347052 | O46: =(F56+G56)/(F32+G32)-1 -> 0.29979739 | P46: =G56/G32-1 -> -0.17717372 | Q46: =H56/H32-1 -> 0.43629374
C47: 2 | D47: 5540031.1 | E47: 4829918.8 | F47: 27590507 | G47: 620683.19 | H47: 630340.4 | M47: 2 | N47: =(D57+E57)/(D33+E33)-1 -> 0.22875395 | O47: =(F57+G57)/(F33+G33)-1 -> 0.26458492 | P47: =G57/G33-1 -> -0.10874706 | Q47: =H57/H33-1 -> 0.32537522
B48: 12 | C48: 1 | D48: 5379567.5 | E48: 4698412.6 | F48: 27862091 | G48: 670708.42 | H48: 654008.89 | L48: 05 | M48: 1 | N48: =(D58+E58)/(D34+E34)-1 -> 0.13276611 | O48: =(F58+G58)/(F34+G34)-1 -> 0.10143445 | P48: =G58/G34-1 -> -0.26957496 | Q48: =H58/H34-1 -> 0.28673343
C49: 2 | D49: 5846502.3 | E49: 5240851.5 | F49: 24523005 | G49: 546412.44 | H49: 669403.57 | M49: 2 | N49: =(D59+E59)/(D35+E35)-1 -> 0.035544247 | O49: =(F59+G59)/(F35+G35)-1 -> 0.11960393 | P49: =G59/G35-1 -> -0.16948338 | Q49: =H59/H35-1 -> 0.19635257
A50: 2021 | B50: 01 | C50: 1 | D50: 5001975.2 | E50: 4425140.6 | F50: 25526468 | G50: 301124.35 | H50: 591325.23 | L50: 06 | M50: 1 | N50: =(D60+E60)/(D36+E36)-1 -> 0.067225332 | O50: =(F60+G60)/(F36+G36)-1 -> 0.10450102 | P50: =G60/G36-1 -> -0.042883591 | Q50: =H60/H36-1 -> 0.18377542
C51: 2 | D51: 5475661.9 | E51: 4668600.8 | F51: 27396697 | G51: 317729.16 | H51: 645980.98 | M51: 2 | N51: =(D61+E61)/(D37+E37)-1 -> 0.028294006 | O51: =(F61+G61)/(F37+G37)-1 -> 0.08169485 | P51: =G61/G37-1 -> 0.026608683 | Q51: =H61/H37-1 -> 0.15189289
B52: 02 | C52: 1 | D52: 5903033.7 | E52: 5173115.2 | F52: 29109584 | G52: 338885.22 | H52: 658727.2 | L52: 07 | M52: 1 | N52: =(D62+E62)/(D38+E38)-1 -> 0.065075511 | O52: =(F62+G62)/(F38+G38)-1 -> 0.11222267 | P52: =G62/G38-1 -> -0.39422093 | Q52: =H62/H38-1 -> 0.19560537
C53: 2 | D53: 4524652.6 | E53: 3714342.5 | F53: 21616463 | G53: 247258.98 | H53: 518137.56 | M53: 2 | N53: =(D63+E63)/(D39+E39)-1 -> -0.024758538 | O53: =(F63+G63)/(F39+G39)-1 -> 0.056709786 | P53: =G63/G39-1 -> -0.13571276 | Q53: =H63/H39-1 -> 0.095846069
B54: 03 | C54: 1 | D54: 5093689.8 | E54: 4028394 | F54: 26593028 | G54: 282277.39 | H54: 615709.01 | L54: 08 | M54: 1 | N54: =(D64+E64)/(D40+E40)-1 -> -0.091055423 | O54: =(F64+G64)/(F40+G40)-1 -> 0.02457541 | P54: =G64/G40-1 -> -0.41278552 | Q54: =H64/H40-1 -> 0.058669554
C55: 2 | D55: 5084747.6 | E55: 3831519.8 | F55: 26049139 | G55: 286284.28 | H55: 604574.27 | M55: 2 | N55: =(D65+E65)/(D41+E41)-1 -> -0.050235268 | O55: =(F65+G65)/(F41+G41)-1 -> 0.059392595 | P55: =G65/G41-1 -> -0.42613049 | Q55: =H65/H41-1 -> 0.11129021
B56: 04 | C56: 1 | D56: 5657209.7 | E56: 4400095.3 | F56: 25528343 | G56: 366803.49 | H56: 642427.66 | L56: 09 | M56: 1 | N56: =(D66+E66)/(D42+E42)-1 -> -0.024414711 | O56: =(F66+G66)/(F42+G42)-1 -> 0.032229877 | P56: =G66/G42-1 -> -0.48048648 | Q56: =H66/H42-1 -> 0.10729404
C57: 2 | D57: 5878505.9 | E57: 4604963.2 | F57: 27788287 | G57: 476886.96 | H57: 670218.02 | M57: 2 | N57: =(D67+E67)/(D43+E43)-1 -> -0.013616729 | O57: =(F67+G67)/(F43+G43)-1 -> 0.052019034 | P57: =G67/G43-1 -> -0.53846855 | Q57: =H67/H43-1 -> 0.15984014
B58: 05 | C58: 1 | D58: 6965619.8 | E58: 5783792.2 | F58: 28779017 | G58: 417623.34 | H58: 735391.67 | L58: 10 | M58: 1 | N58: =(D68+E68)/(D44+E44)-1 -> -0.022754998 | O58: =(F68+G68)/(F44+G44)-1 -> 0.031641399 | P58: =G68/G44-1 -> -0.53141907 | Q58: =H68/H44-1 -> 0.13366502
C59: 2 | D59: 6955404.6 | E59: 6016966.2 | F59: 29693189 | G59: 363602.88 | H59: 785722.23 | M59: 2 | N59: =(D69+E69)/(D45+E45)-1 -> -0.059493267 | O59: =(F69+G69)/(F45+G45)-1 -> -0.0093774155 | P59: =G69/G45-1 -> -0.57935533 | Q59: =H69/H45-1 -> 0.10283819
B60: 06 | C60: 1 | D60: 7617923.3 | E60: 6501923.8 | F60: 30727592 | G60: 392856.71 | H60: 807379.89 | L60: 11 | M60: 1 | N60: =(D70+E70)/(D46+E46)-1 -> -0.057459672 | O60: =(F70+G70)/(F46+G46)-1 -> 0.038462516 | P60: =G70/G46-1 -> -0.61480995 | Q60: =H70/H46-1 -> 0.081691572
C61: 2 | D61: 7713982.2 | E61: 6368430.1 | F61: 27547971 | G61: 394970.54 | H61: 839511.74 | M61: 2 | N61: =(D71+E71)/(D47+E47)-1 -> 0.014996393 | O61: =(F71+G71)/(F47+G47)-1 -> 0.070830354 | P61: =G71/G47-1 -> -0.51565219 | Q61: =H71/H47-1 -> 0.14451806
B62: 07 | C62: 1 | D62: 8245169.7 | E62: 6504564.6 | F62: 31782079 | G62: 439651.56 | H62: 893476.38 | L62: 12 | M62: 1 | N62: =(D72+E72)/(D48+E48)-1 -> 0.12476382 | O62: =(F72+G72)/(F48+G48)-1 -> 0.10984198 | P62: =G72/G48-1 -> -0.53984085 | Q62: =H72/H48-1 -> 0.16089083
C63: 2 | D63: 8226657.3 | E63: 6343786.3 | F63: 32281972 | G63: 578396.6 | H63: 924411.46 | M63: 2 | N63: =(D73+E73)/(D49+E49)-1 -> 0.068488812 | O63: =(F73+G73)/(F49+G49)-1 -> 0.13932741 | P63: =G73/G49-1 -> -0.4359914 | Q63: =H73/H49-1 -> 0.19035731
B64: 08 | C64: 1 | D64: 7457182.1 | E64: 5805112.9 | F64: 30408962 | G64: 473354.75 | H64: 838126.01 | M64: Kokku | N64: =SUM(D50:E73)/SUM(D26:E49)-1 -> 0.011834843 | O64: =SUM(E50:F73)/SUM(E26:F49)-1 -> 0.093510299 | P64: =SUM(F50:G73)/SUM(F26:G49)-1 -> 0.10653734 | Q64: =SUM(G50:H73)/SUM(G26:H49)-1 -> -0.088745656
C65: 2 | D65: 7511644.6 | E65: 5766674.8 | F65: 32454510 | G65: 469316.63 | H65: 889100.94
B66: 09 | C66: 1 | D66: 7087556.3 | E66: 5641790.9 | F66: 31404633 | G66: 437837.27 | H66: 808210.65
C67: 2 | D67: 6521393.8 | E67: 5041933.9 | F67: 30509638 | G67: 389229.07 | H67: 790297.44
B68: 10 | C68: 1 | D68: 6699688.9 | E68: 5060577.9 | F68: 30263047 | G68: 347691.44 | H68: 793706.42
C69: 2 | D69: 6551924.3 | E69: 4699027.9 | F69: 29318887 | G69: 300429.47 | H69: 790967.02 | L69: 2022 vs 2021 | N69: Bensiin | O69: Diislikütus | P69: sh EDK | Q69: LPG
B70: 11 | C70: 1 | D70: 6159225.1 | E70: 4466317.8 | F70: 29026901 | G70: 249925.47 | H70: 744504.85 | L70: 01 | M70: 1 | N70: =(D74+E74)/(D50+E50)-1 -> 0.023802836 | O70: =(E74+F74)/(E50+F50)-1 -> 0.010404079 | P70: =(F74+G74)/(F50+G50)-1 -> 0.023210368 | Q70: =(G74+H74)/(G50+H50)-1 -> 0.032960728
C71: 2 | D71: 6148401.2 | E71: 4377060.6 | F71: 29908772 | G71: 300626.54 | H71: 721435.97 | M71: 2 | N71: =(D75+E75)/(D51+E51)-1 -> -0.04625014 | O71: =(E75+F75)/(E51+F51)-1 -> 0.0080333801 | P71: =(F75+G75)/(F51+G51)-1 -> 0.032161861 | Q71: =(G75+H75)/(G51+H51)-1 -> 0.039286285
B72: 12 | C72: 1 | D72: 6503545.3 | E72: 4831802.1 | F72: 31358266 | G72: 308632.62 | H72: 759232.92 | L72: 02 | M72: 1 | N72: =(D76+E76)/(D52+E52)-1 -> -0.13182443 | O72: =(E76+F76)/(E52+F52)-1 -> -0.067963135 | P72: =(F76+G76)/(F52+G52)-1 -> -0.042039462 | Q72: =(G76+H76)/(G52+H52)-1 -> -0.022125514
C73: 2 | D73: 6740711.2 | E73: 5106002.2 | F73: 28254093 | G73: 308181.32 | H73: 796829.43 | M73: 2 | N73: =(D77+E77)/(D53+E53)-1 -> 0.030093175 | O73: =(E77+F77)/(E53+F53)-1 -> 0.031033934 | P73: =(F77+G77)/(F53+G53)-1 -> 0.042836833 | Q73: =(G77+H77)/(G53+H53)-1 -> 0.14899832
A74: 2022 | B74: 01 | C74: 1 | D74: 5562480.7 | E74: 4089027.1 | F74: 26174200 | G74: 252859.93 | H74: 669005.44 | L74: 03 | M74: 1 | N74: =(D78+E78)/(D54+E54)-1 -> 0.19549607 | O74: =(E78+F78)/(E54+F54)-1 -> 0.10395916 | P74: =(F78+G78)/(F54+G54)-1 -> 0.11593326 | Q74: =(G78+H78)/(G54+H54)-1 -> 0.59743407
C75: 2 | D75: 5652657.1 | E75: 4022432.1 | F75: 28300459 | G75: 305315.24 | H75: 696255.49 | M75: 2 | N75: =(D79+E79)/(D55+E55)-1 -> 0.079222467 | O75: =(E79+F79)/(E55+F55)-1 -> 0.057563111 | P75: =(F79+G79)/(F55+G55)-1 -> 0.065732087 | Q75: =(G79+H79)/(G55+H55)-1 -> 0.16446301
B76: 02 | C76: 1 | D76: 5567785.1 | E76: 4048256.7 | F76: 27904483 | G76: 305988.64 | H76: 669551.09 | L76: 04 | M76: 1 | N76: =(D80+E80)/(D56+E56)-1 -> 0.075491122 | O76: =(E80+F80)/(E56+F56)-1 -> 0.059195216 | P76: =(F80+G80)/(F56+G56)-1 -> 0.071151934 | Q76: =(G80+H80)/(G56+H56)-1 -> -0.015611502
C77: 2 | D77: 4878693.4 | E77: 3608239.2 | F77: 22508680 | G77: 291613.76 | H77: 587825.59 | M77: 2 | N77: =(D81+E81)/(D57+E57)-1 -> 0.0053818648 | O77: =(E81+F81)/(E57+F57)-1 -> -0.028442279 | P77: =(F81+G81)/(F57+G57)-1 -> -0.019199239 | Q77: =(G81+H81)/(G57+H57)-1 -> -0.010845735
B78: 03 | C78: 1 | D78: 6450896.7 | E78: 4454518.6 | F78: 29350281 | G78: 640766.21 | H78: 793707.86 | L78: 05 | M78: 1 | N78: =(D82+E82)/(D58+E58)-1 -> -0.068938047 | O78: =(E82+F82)/(E58+F58)-1 -> -0.017029766 | P78: =(F82+G82)/(F58+G58)-1 -> 0.022194031 | Q78: =(G82+H82)/(G58+H58)-1 -> 0.094755132
C79: 2 | D79: 5848730 | E79: 3773906.1 | F79: 27826777 | G79: 239729.15 | H79: 797642.68 | M79: 2 | N79: =(D83+E83)/(D59+E59)-1 -> -0.051417701 | O79: =(E83+F83)/(E59+F59)-1 -> 0.021053123 | P79: =(F83+G83)/(F59+G59)-1 -> 0.067196707 | Q79: =(G83+H83)/(G59+H59)-1 -> 0.056586261
B80: 04 | C80: 1 | D80: 6641373.1 | E80: 4175169.1 | F80: 27524890 | G80: 212746.61 | H80: 780728.92 | L80: 06 | M80: 1 | N80: =(D84+E84)/(D60+E60)-1 -> -0.087435676 | O80: =(E84+F84)/(E60+F60)-1 -> -0.070127881 | P80: =(F84+G84)/(F60+G60)-1 -> -0.032795693 | Q80: =(G84+H84)/(G60+H60)-1 -> 0.064869173
C81: 2 | D81: 6459266.8 | E81: 4080622.9 | F81: 27391289 | G81: 331214.71 | H81: 803449.07 | M81: 2 | N81: =(D85+E85)/(D61+E61)-1 -> -0.10458509 | O81: =(E85+F85)/(E61+F61)-1 -> -0.074931029 | P81: =(F85+G85)/(F61+G61)-1 -> -0.03183511 | Q81: =(G85+H85)/(G61+H61)-1 -> 0.054269714
B82: 05 | C82: 1 | D82: 7327864.4 | E82: 4542628.1 | F82: 29431584 | G82: 413046.88 | H82: 849222.22 | L82: 07 | M82: 1 | N82: =(D86+E86)/(D62+E62)-1 -> -0.089708897 | O82: =(E86+F86)/(E62+F62)-1 -> -0.082595909 | P82: =(F86+G86)/(F62+G62)-1 -> -0.051071318 | Q82: =(G86+H86)/(G62+H62)-1 -> 0.043081618
C83: 2 | D83: 7614298.8 | E83: 4691062.4 | F83: 31770903 | G83: 305606.27 | H83: 908754.85 | M83: 2 | N83: =(D87+E87)/(D63+E63)-1 -> -0.073671272 | O83: =(E87+F87)/(E63+F63)-1 -> -0.10459115 | P83: =(F87+G87)/(F63+G63)-1 -> -0.088866827 | Q83: =(G87+H87)/(G63+H63)-1 -> -0.020675893
B84: 06 | C84: 1 | D84: 8014251.3 | E84: 4871017.4 | F84: 29747671 | G84: 352160.7 | H84: 925934.26 | L84: 08 | M84: 1 | N84: =(D88+E88)/(D64+E64)-1 -> 0.019001182 | O84: =(E88+F88)/(E64+F64)-1 -> 0.017420064 | P84: =(F88+G88)/(F64+G64)-1 -> 0.040785589 | Q84: =(G88+H88)/(G64+H64)-1 -> 0.16711484
C85: 2 | D85: 7923808.5 | E85: 4685793.4 | F85: 26689217 | G85: 364158.07 | H85: 937319.2 | M85: 2 | N85: =(D89+E89)/(D65+E65)-1 -> -0.028200656 | O85: =(E89+F89)/(E65+F65)-1 -> -0.020674586 | P85: =(F89+G89)/(F65+G65)-1 -> 0.00036636176 | Q85: =(G89+H89)/(G65+H65)-1 -> 0.1556367
B86: 07 | C86: 1 | D86: 8500727.8 | E86: 4925824.1 | F86: 30198499 | G86: 377624.93 | H86: 1012936.3 | L86: 09 | M86: 1 | N86: =(D90+E90)/(D66+E66)-1 -> -0.070779705 | O86: =(E90+F90)/(E66+F66)-1 -> -0.056114228 | P86: =(F90+G90)/(F66+G66)-1 -> -0.030303785 | Q86: =(G90+H90)/(G66+H66)-1 -> 0.13066411
C87: 2 | D87: 8421391.1 | E87: 5075629.3 | F87: 29510216 | G87: 429955.58 | H87: 1041780.6 | M87: 2 | N87: =(D91+E91)/(D67+E67)-1 -> -0.04897323 | O87: =(E91+F91)/(E67+F67)-1 -> -0.052973992 | P87: =(F91+G91)/(F67+G67)-1 -> -0.034462104 | Q87: =(G91+H91)/(G67+H67)-1 -> 0.10018691
B88: 08 | C88: 1 | D88: 8283122 | E88: 5231172.3 | F88: 31613754 | G88: 528116.15 | H88: 1002532.5 | L88: 10 | M88: 1 | N88: =(D92+E92)/(D68+E68)-1 -> -0.050427637 | O88: =(E92+F92)/(E68+F68)-1 -> -0.053839492 | P88: =(F92+G92)/(F68+G68)-1 -> -0.036250064 | Q88: =(G92+H92)/(G68+H68)-1 -> 0.11164581
C89: 2 | D89: 7886659.2 | E89: 5017202.9 | F89: 32413774 | G89: 522113.86 | H89: 1047723.3 | M89: 2 | N89: =(D93+E93)/(D69+E69)-1 -> -0.05550117 | O89: =(E93+F93)/(E69+F69)-1 -> 0.0027492957 | P89: =(F93+G93)/(F69+G69)-1 -> 0.030370431 | Q89: =(G93+H93)/(G69+H69)-1 -> 0.17214325
B90: 09 | C90: 1 | D90: 7267679.4 | E90: 4560688.3 | F90: 30406904 | G90: 470618.76 | H90: 938242.91 | L90: 11 | M90: 1 | N90: =(D94+E94)/(D70+E70)-1 -> 0.026298911 | O90: =(E94+F94)/(E70+F70)-1 -> -0.00016511226 | P90: =(F94+G94)/(F70+G70)-1 -> 0.017610404 | Q90: =(G94+H94)/(G70+H70)-1 -> 0.16980176
C91: 2 | D91: 6766144.7 | E91: 4230889.4 | F91: 29437373 | G91: 396653.39 | H91: 901046.24 | M91: 2 | N91: =(D95+E95)/(D71+E71)-1 -> -0.035449927 | O91: =(E95+F95)/(E71+F71)-1 -> -0.015588746 | P91: =(F95+G95)/(F71+G71)-1 -> 0.0072991793 | Q91: =(G95+H95)/(G71+H71)-1 -> 0.19409106
B92: 10 | C92: 1 | D92: 6913693.5 | E92: 4253530.9 | F92: 29168288 | G92: 332809.23 | H92: 936020.92 | L92: 12 | M92: 1 | N92: =(D96+E96)/(D72+E72)-1 -> 0.024004572 | O92: =(E96+F96)/(E72+F72)-1 -> 0.028548244 | P92: =(F96+G96)/(F72+G72)-1 -> 0.05212172 | Q92: =(G96+H96)/(G72+H72)-1 -> 0.248474
C93: 2 | D93: 6713772.1 | E93: 3912739.2 | F93: 30198701 | G93: 320166.79 | H93: 959106.24 | M93: 2 | N93: =(D97+E97)/(D73+E73)-1 -> -0.15212244 | O93: =(E97+F97)/(E73+F73)-1 -> -0.11897315 | P93: =(F97+G97)/(F73+G73)-1 -> -0.087757405 | Q93: =(G97+H97)/(G73+H73)-1 -> 0.20450474
B94: 11 | C94: 1 | D94: 6950700.7 | E94: 3954282.4 | F94: 29533407 | G94: 258997 | H94: 904289.34 | M94: Kokku | N94: =SUM(D74:E97)/SUM(D50:E73)-1 -> -0.033104639 | O94: =SUM(E74:F97)/SUM(E50:F73)-1 -> -0.020597644 | P94: =SUM(F74:G97)/SUM(F50:G73)-1 -> 0.0034745735 | Q94: =SUM(G74:H97)/SUM(G50:H73)-1 -> 0.11423699
C95: 2 | D95: 6512867.8 | E95: 3639467.1 | F95: 30111892 | G95: 318010.03 | H95: 902425.68
B96: 12 | C96: 1 | D96: 7304995.9 | E96: 4302451.7 | F96: 32920779 | G96: 396652.53 | H96: 936549.83
C97: 2 | D97: 6332659.9 | E97: 3711902.6 | F97: 25679238 | G97: 376486.09 | H97: 954504.6
A98: 2023 | B98: 01 | C98: 1 | D98: 5999907.9 | E98: 3414278.5 | F98: 26229275 | G98: 80600.544 | H98: 823292.41
C99: 2 | D99: 6161672.1 | E99: 3453689.7 | F99: 29503201 | G99: 95558.888 | H99: 888807.64
B100: 02 | C100: 1 | D100: 6563894.8 | E100: 3697478.2 | F100: 29515825 | G100: 98756.217 | H100: 885421.86
...

Sheet MTA koond
C1: Müük tanklatest | G1: Hulgimüük lõpptarbijale | M1: Jae | O1: Hulgi | Q1: Kokku
A2: Aasta | B2: Kuu | C2: Bensiini oktaaniarvuga < 98 jaemüük (liitrites) | D2: Bensiini oktaaniarvuga ≥ 98 jaemüük (liitrites) | E2: Diislikütuse jaemüük (liitrites) | F2: Eriotstarbelise diislikütuse jaemüük (liitrites) | G2: Bensiini oktaaniarvuga < 98 hulgimüük (liitrites) | H2: Bensiini oktaaniarvuga ≥ 98 hulgimüük (liitrites) | I2: Diislikütuse hulgimüük (liitrites) | J2: Eriotstarbelise diislikütuse hulgimüük (liitrites) | M2: Bensiin | N2: Diisel | O2: Bensiin | P2: Diisel | Q2: Bensiin | R2: Diisel
A3: 2019 | B3: 1 | L3: 1
B4: 2 | C4: 16593009 | D4: 3131581 | E4: 43447014 | F4: 777450.42 | G4: 52324.35 | H4: 8036 | I4: 12990060 | J4: 2056132.2 | L4: 2 | M4: =C4+D4 -> 19724590 | N4: =E4+F4 -> 44224465 | O4: =G4+H4 -> 60360.35 | P4: =I4+J4 -> 15046192 | Q4: =M4+O4 -> 19784951 | R4: =N4+P4 -> 59270657
B5: 3 | C5: 19561117 | D5: 3893187.7 | E5: 46816974 | F5: 828493.63 | G5: 58377.06 | H5: 8992 | I5: 13525866 | J5: 4326852.6 | L5: 3 | M5: =C5+D5 -> 23454305 | N5: =E5+F5 -> 47645468 | O5: =G5+H5 -> 67369.06 | P5: =I5+J5 -> 17852718 | Q5: =M5+O5 -> 23521674 | R5: =N5+P5 -> 65498186 | V5: Jae + hulgimüük
B6: 4 | C6: 15531571 | D6: 7567958.1 | E6: 46753758 | F6: 1212793.8 | G6: 48768.3 | H6: 20324 | I6: 12941775 | J6: 7935094.7 | L6: 4 | M6: =C6+D6 -> 23099529 | N6: =E6+F6 -> 47966552 | O6: =G6+H6 -> 69092.3 | P6: =I6+J6 -> 20876870 | Q6: =M6+O6 -> 23168621 | R6: =N6+P6 -> 68843422 | V6: 2020 vs 2019
B7: 5 | C7: 15851025 | D7: 10517445 | E7: 51377386 | F7: 1010425.6 | G7: 40814.39 | H7: 33865 | I7: 13529992 | J7: 5685335 | L7: 5 | M7: =C7+D7 -> 26368469 | N7: =E7+F7 -> 52387812 | O7: =G7+H7 -> 74679.39 | P7: =I7+J7 -> 19215327 | Q7: =M7+O7 -> 26443149 | R7: =N7+P7 -> 71603138 | V7: =Q2 -> Bensiin | W7: =R2 -> Diisel | AB7: Jae | AD7: Hulgi | AF7: Kokku
B8: 6 | C8: 16499208 | D8: 11693666 | E8: 49043788 | F8: 1044557.8 | G8: 58708.74 | H8: 29049.83 | I8: 11664261 | J8: 5455963.4 | L8: 6 | M8: =C8+D8 -> 28192875 | N8: =E8+F8 -> 50088346 | O8: =G8+H8 -> 87758.57 | P8: =I8+J8 -> 17120225 | Q8: =M8+O8 -> 28280633 | R8: =N8+P8 -> 67208571 | AB8: Bensiin | AC8: Diisel | AD8: Bensiin | AE8: Diisel | AF8: Bensiin | AG8: Diisel | AI8: Jaemüük kokku | AJ8: Hulgimüük kokku
B9: 7 | C9: 16614060 | D9: 11507986 | E9: 52464648 | F9: 1172163.7 | G9: 37929.11 | H9: 32574.38 | I9: 12872592 | J9: 8346721.2 | L9: 7 | M9: =C9+D9 -> 28122047 | N9: =E9+F9 -> 53636812 | O9: =G9+H9 -> 70503.49 | P9: =I9+J9 -> 21219313 | Q9: =M9+O9 -> 28192550 | R9: =N9+P9 -> 74856125 | U9: 2 | V9: =(Q16/Q4)-1 -> 0.031987042 | W9: =(R16/R4)-1 -> -0.020451028 | AA9: 2020 | AB9: =SUM(M15:M26) -> 2.7562546e+08 | AC9: =SUM(N15:N26) -> 6.3451733e+08 | AD9: =SUM(O15:O26) -> 660958.44 | AE9: =SUM(P15:P26) -> 2.2017864e+08 | AF9: =SUM(Q15:Q26) -> 2.7628642e+08 | AG9: =SUM(R15:R26) -> 8.5469597e+08 | AI9: =AB9+AC9 -> 9.1014278e+08 | AJ9: =AD9+AE9 -> 2.208396e+08 | AK9: =AI9/(AI9+AJ9) -> 0.80473648 | AL9: =AJ9/(AJ9+AI9) -> 0.19526352
B10: 8 | C10: 16346580 | D10: 11494217 | E10: 52753882 | F10: 1361794.6 | G10: 34526.76 | H10: 43977.72 | I10: 12188023 | J10: 13906717 | L10: 8 | M10: =C10+D10 -> 27840798 | N10: =E10+F10 -> 54115677 | O10: =G10+H10 -> 78504.48 | P10: =I10+J10 -> 26094740 | Q10: =M10+O10 -> 27919302 | R10: =N10+P10 -> 80210417 | U10: 3 | V10: =(Q17/Q5)-1 -> -0.18956425 | W10: =(R17/R5)-1 -> -0.015710733 | X10: Eriolukord kehtis 13.03-17.05 | AA10: 2021 | AB10: =SUM(M27:M38) -> 2.7888744e+08 | AC10: =SUM(N27:N38) -> 7.0211257e+08 | AD10: =SUM(O27:O38) -> 741379.52 | AE10: =SUM(P27:P38) -> 2.2609685e+08 | AF10: =SUM(Q27:Q38) -> 2.7962882e+08 | AG10: =SUM(R27:R38) -> 9.2820942e+08 | AI10: =AB10+AC10 -> 9.8100002e+08 | AJ10: =AD10+AE10 -> 2.2683823e+08 | AK10: =AI10/(AI10+AJ10) -> 0.81219486 | AL10: =AJ10/(AJ10+AI10) -> 0.18780514
B11: 9 | C11: 14091274 | D11: 10009428 | E11: 50145826 | F11: 1050620.6 | G11: 29313.14 | H11: 36391.9 | I11: 12737963 | J11: 8512790 | L11: 9 | M11: =C11+D11 -> 24100702 | N11: =E11+F11 -> 51196447 | O11: =G11+H11 -> 65705.04 | P11: =I11+J11 -> 21250753 | Q11: =M11+O11 -> 24166407 | R11: =N11+P11 -> 72447200 | U11: 4 | V11: =(Q18/Q6)-1 -> -0.29172824 | W11: =(R18/R6)-1 -> -0.11498812
B12: 10 | C12: 13904989 | D12: 9268099.5 | E12: 50550886 | F12: 938655.61 | G12: 23997.52 | H12: 26325 | I12: 13080693 | J12: 5142223.9 | L12: 10 | M12: =C12+D12 -> 23173088 | N12: =E12+F12 -> 51489541 | O12: =G12+H12 -> 50322.52 | P12: =I12+J12 -> 18222917 | Q12: =M12+O12 -> 23223411 | R12: =N12+P12 -> 69712459 | U12: 5 | V12: =(Q19/Q7)-1 -> -0.098946227 | W12: =(R19/R7)-1 -> 0.061635899 | X12: Diisli aktsiisi langetati 25% 01.05
B13: 11 | C13: 13286470 | D13: 8717047.9 | E13: 47149262 | F13: 779470.08 | G13: 28791.05 | H13: 17112.17 | I13: 13365713 | J13: 3695525.1 | L13: 11 | M13: =C13+D13 -> 22003518 | N13: =E13+F13 -> 47928732 | O13: =G13+H13 -> 45903.22 | P13: =I13+J13 -> 17061238 | Q13: =M13+O13 -> 22049421 | R13: =N13+P13 -> 64989970 | U13: 6 | V13: =(Q20/Q8)-1 -> -0.0453058 | W13: =(R20/R8)-1 -> 0.048582623
B14: 12 | C14: 13416930 | D14: 8568539.4 | E14: 42869637 | F14: 763326.67 | G14: 26519.42 | H14: 36647 | I14: 11427864 | J14: 2639507.3 | L14: 12 | M14: =C14+D14 -> 21985470 | N14: =E14+F14 -> 43632964 | O14: =G14+H14 -> 63166.42 | P14: =I14+J14 -> 14067372 | Q14: =M14+O14 -> 22048636 | R14: =N14+P14 -> 57700335 | U14: 7 | V14: =(Q21/Q9)-1 -> 0.024106874 | W14: =(R21/R9)-1 -> 0.057733626
A15: 2020 | B15: 1 | C15: 12550852 | D15: 7687557.9 | E15: 42740233 | F15: 730751.03 | G15: 23416.381 | H15: 22113 | I15: 12554954 | J15: 2312518.7 | L15: 1 | M15: =C15+D15 -> 20238410 | N15: =E15+F15 -> 43470984 | O15: =G15+H15 -> 45529.381 | P15: =I15+J15 -> 14867473 | Q15: =M15+O15 -> 20283940 | R15: =N15+P15 -> 58338457 | U15: 8 | V15: =(Q22/Q10)-1 -> 0.025848915 | W15: =(R22/R10)-1 -> 0.079745655
B16: 2 | C16: 12214148 | D16: 8149565.2 | E16: 44329844 | F16: 713801.15 | G16: 17790.132 | H16: 36309 | I16: 10724986 | J16: 2289880.3 | L16: 2 | M16: =C16+D16 -> 20363714 | N16: =E16+F16 -> 45043645 | O16: =G16+H16 -> 54099.132 | P16: =I16+J16 -> 13014866 | Q16: =M16+O16 -> 20417813 | R16: =N16+P16 -> 58058511 | U16: 9 | V16: =(Q23/Q11)-1 -> 0.027729828 | W16: =(R23/R11)-1 -> 0.13831199
B17: 3 | C17: 11002801 | D17: 8008551.3 | E17: 44440519 | F17: 842307.01 | G17: 16827 | H17: 34626.21 | I17: 12541006 | J17: 6645329.1 | L17: 3 | M17: =C17+D17 -> 19011352 | N17: =E17+F17 -> 45282826 | O17: =G17+H17 -> 51453.21 | P17: =I17+J17 -> 19186335 | Q17: =M17+O17 -> 19062806 | R17: =N17+P17 -> 64469161 | U17: 10 | V17: =(Q24/Q12)-1 -> 0.03514556 | W17: =(R24/R12)-1 -> 0.10248099
B18: 4 | C18: 9113940.2 | D18: 7253871.8 | E18: 41292934 | F18: 980859.61 | G18: 14687 | H18: 27181.01 | I18: 10840354 | J18: 7813099 | L18: 4 | M18: =C18+D18 -> 16367812 | N18: =E18+F18 -> 42273793 | O18: =G18+H18 -> 41868.01 | P18: =I18+J18 -> 18653453 | Q18: =M18+O18 -> 16409680 | R18: =N18+P18 -> 60927246 | U18: 11 | V18: =(Q25/Q13)-1 -> -0.015913237 | W18: =(R25/R13)-1 -> 0.10681467 | X18: Teine laine
B19: 5 | C19: 12504440 | D19: 11277778 | E19: 52344190 | F19: 1009557.1 | G19: 10002 | H19: 34478.47 | I19: 12831570 | J19: 9831144.6 | L19: 5 | M19: =C19+D19 -> 23782219 | N19: =E19+F19 -> 53353747 | O19: =G19+H19 -> 44480.47 | P19: =I19+J19 -> 22662715 | Q19: =M19+O19 -> 23826699 | R19: =N19+P19 -> 76016462 | U19: 12 | V19: =(Q26/Q14)-1 -> -0.03856816 | W19: =(R26/R14)-1 -> 0.20227502
B20: 6 | C20: 14217887 | D20: 12707468 | E20: 53213388 | F20: 795191.94 | G20: 21885 | H20: 52116.33 | I20: 10686408 | J20: 5778751 | L20: 6 | M20: =C20+D20 -> 26925355 | N20: =E20+F20 -> 54008580 | O20: =G20+H20 -> 74001.33 | P20: =I20+J20 -> 16465159 | Q20: =M20+O20 -> 26999357 | R20: =N20+P20 -> 70473739 | U20: Kokku | V20: =(SUM(Q16:Q26)/SUM(Q4:Q14))-1 -> -0.047605425 | W20: =(SUM(R16:R26)/SUM(R4:R14))-1 -> 0.058506796
B21: 7 | C21: 15397953 | D21: 13390926 | E21: 58672466 | F21: 1394980.2 | G21: 35179 | H21: 48126.95 | I21: 10904831 | J21: 8205562.4 | L21: 7 | M21: =C21+D21 -> 28788879 | N21: =E21+F21 -> 60067447 | O21: =G21+H21 -> 83305.95 | P21: =I21+J21 -> 19110394 | Q21: =M21+O21 -> 28872185 | R21: =N21+P21 -> 79177840
B22: 8 | C22: 14733841 | D22: 13837673 | E22: 59595684 | F22: 1623912.7 | G22: 18107 | H22: 51364.91 | I22: 10821402 | J22: 14565850 | L22: 8 | M22: =C22+D22 -> 28571514 | N22: =E22+F22 -> 61219597 | O22: =G22+H22 -> 69471.91 | P22: =I22+J22 -> 25387252 | Q22: =M22+O22 -> 28640986 | R22: =N22+P22 -> 86606849 | U22: Kütused kokku | V22: =(SUM(Q16:R26)/SUM(Q4:R14))-1 -> 0.030574432
B23: 9 | C23: 12799297 | D23: 11971567 | E23: 58533124 | F23: 1686125.7 | G23: 17519 | H23: 48154.3 | I23: 10998581 | J23: 11249685 | L23: 9 | M23: =C23+D23 -> 24770864 | N23: =E23+F23 -> 60219250 | O23: =G23+H23 -> 65673.3 | P23: =I23+J23 -> 22248266 | Q23: =M23+O23 -> 24836537 | R23: =N23+P23 -> 82467517
B24: 10 | C24: 12487642 | D24: 11509111 | E24: 58115356 | F24: 1456221.4 | G24: 9550 | H24: 33308.25 | I24: 10913681 | J24: 6371401.8 | L24: 10 | M24: =C24+D24 -> 23996752 | N24: =E24+F24 -> 59571577 | O24: =G24+H24 -> 42858.25 | P24: =I24+J24 -> 17285083 | Q24: =M24+O24 -> 24039610 | R24: =N24+P24 -> 76856661 | V24: Jae + hulgimüük
B25: 11 | C25: 11505267 | D25: 10137986 | E25: 55134143 | F25: 1269520 | G25: 19287 | H25: 36003.5 | I25: 11106944 | J25: 4421244.3 | L25: 11 | M25: =C25+D25 -> 21643253 | N25: =E25+F25 -> 56403663 | O25: =G25+H25 -> 55290.5 | P25: =I25+J25 -> 15528189 | Q25: =M25+O25 -> 21698544 | R25: =N25+P25 -> 71931852 | V25: 2021 vs 2020
B26: 12 | C26: 11226070 | D26: 9939264.1 | E26: 52385096 | F26: 1217120.9 | G26: 9572 | H26: 23355 | I26: 11217829 | J26: 4551625.5 | L26: 12 | M26: =C26+D26 -> 21165334 | N26: =E26+F26 -> 53602217 | O26: =G26+H26 -> 32927 | P26: =I26+J26 -> 15769455 | Q26: =M26+O26 -> 21198261 | R26: =N26+P26 -> 69371672 | V26: =V7 -> Bensiin | W26: =W7 -> Diisel
A27: 2021 | B27: 1 | C27: 10477637 | D27: 9093741.4 | E27: 52923165 | F27: 618853.51 | G27: 14038.83 | H27: 30837.77 | I27: 11264701 | J27: 3963060.5 | L27: 1 | M27: =C27+D27 -> 19571379 | N27: =E27+F27 -> 53542018 | O27: =G27+H27 -> 44876.6 | P27: =I27+J27 -> 15227761 | Q27: =M27+O27 -> 19616255 | R27: =N27+P27 -> 68769780 | U27: 1 | V27: =(Q27/Q15)-1 -> -0.0329169 | W27: =(R27/R15)-1 -> 0.17880697
B28: 2 | C28: 10427686 | D28: 8887457.7 | E28: 50721508 | F28: 586144.21 | G28: 15242.75 | H28: 35630.44 | I28: 12088616 | J28: 3672991 | L28: =L27+1 -> 2 | M28: =C28+D28 -> 19315144 | N28: =E28+F28 -> 51307652 | O28: =G28+H28 -> 50873.19 | P28: =I28+J28 -> 15761607 | Q28: =M28+O28 -> 19366017 | R28: =N28+P28 -> 67069259 | U28: =U27+1 -> 2 | V28: =(Q28/Q16)-1 -> -0.051513627 | W28: =(R28/R16)-1 -> 0.15520116
B29: 3 | C29: 10178437 | D29: 7859913.9 | E29: 52642167 | F29: 568561.67 | G29: 35154.23 | H29: 36399.13 | I29: 11521271 | J29: 5016787.2 | L29: =L28+1 -> 3 | M29: =C29+D29 -> 18038351 | N29: =E29+F29 -> 53210729 | O29: =G29+H29 -> 71553.36 | P29: =I29+J29 -> 16538058 | Q29: =M29+O29 -> 18109905 | R29: =N29+P29 -> 69748787 | U29: =U28+1 -> 3 | V29: =(Q29/Q17)-1 -> -0.049987452 | W29: =(R29/R17)-1 -> 0.081893815
B30: 4 | C30: 11535716 | D30: 9005058.5 | E30: 53316630 | F30: 843690.45 | G30: 22379.78 | H30: 26866.62 | I30: 11183570 | J30: 9463791.9 | L30: =L29+1 -> 4 | M30: =C30+D30 -> 20540774 | N30: =E30+F30 -> 54160320 | O30: =G30+H30 -> 49246.4 | P30: =I30+J30 -> 20647362 | Q30: =M30+O30 -> 20590020 | R30: =N30+P30 -> 74807682 | U30: =U29+1 -> 4 | V30: =(Q30/Q18)-1 -> 0.25474844 | W30: =(R30/R18)-1 -> 0.22781985
B31: 5 | C31: 13921024 | D31: 11800758 | E31: 58472205 | F31: 781226.22 | G31: 26532.53 | H31: 43971.17 | I31: 11047240 | J31: 7907189 | L31: =L30+1 -> 5 | M31: =C31+D31 -> 25721783 | N31: =E31+F31 -> 59253431 | O31: =G31+H31 -> 70503.7 | P31: =I31+J31 -> 18954429 | Q31: =M31+O31 -> 25792286 | R31: =N31+P31 -> 78207860 | U31: =U30+1 -> 5 | V31: =(Q31/Q19)-1 -> 0.082495163 | W31: =(R31/R19)-1 -> 0.028827945 | X31: Piirangute leevendamine
B32: 6 | C32: 15331906 | D32: 12870354 | E32: 58275563 | F32: 787827.25 | G32: 19562.96 | H32: 57857.56 | I32: 10871033 | J32: 8007487.8 | L32: =L31+1 -> 6 | M32: =C32+D32 -> 28202259 | N32: =E32+F32 -> 59063390 | O32: =G32+H32 -> 77420.52 | P32: =I32+J32 -> 18878521 | Q32: =M32+O32 -> 28279680 | R32: =N32+P32 -> 77941912 | U32: =U31+1 -> 6 | V32: =(Q32/Q20)-1 -> 0.047420516 | W32: =(R32/R20)-1 -> 0.105971
B33: 7 | C33: 16471827 | D33: 12848351 | E33: 64064051 | F33: 1018048.2 | G33: 26889.57 | H33: 79982.3 | I33: 11217209 | J33: 12169494 | L33: =L32+1 -> 7 | M33: =C33+D33 -> 29320178 | N33: =E33+F33 -> 65082099 | O33: =G33+H33 -> 106871.87 | P33: =I33+J33 -> 23386703 | Q33: =M33+O33 -> 29427050 | R33: =N33+P33 -> 88468802 | U33: =U32+1 -> 7 | V33: =(Q33/Q21)-1 -> 0.019217986 | W33: =(R33/R21)-1 -> 0.11734296
B34: 8 | C34: 14968827 | D34: 11571788 | E34: 62863471 | F34: 942671.38 | G34: 20135.37 | H34: 47786.41 | I34: 11122212 | J34: 12511617 | L34: =L33+1 -> 8 | M34: =C34+D34 -> 26540614 | N34: =E34+F34 -> 63806143 | O34: =G34+H34 -> 67921.78 | P34: =I34+J34 -> 23633828 | Q34: =M34+O34 -> 26608536 | R34: =N34+P34 -> 87439971 | U34: =U33+1 -> 8 | V34: =(Q34/Q22)-1 -> -0.070962973 | W34: =(R34/R22)-1 -> 0.0096195864 | X34: Uued piirangud
B35: 9 | C35: 13608950 | D35: 10683725 | E35: 61914270 | F35: 827066.34 | G35: 11675.71 | H35: 41968.39 | I35: 11469019 | J35: 10118837 | L35: =L34+1 -> 9 | M35: =C35+D35 -> 24292675 | N35: =E35+F35 -> 62741337 | O35: =G35+H35 -> 53644.1 | P35: =I35+J35 -> 21587856 | Q35: =M35+O35 -> 24346319 | R35: =N35+P35 -> 84329193 | U35: =U34+1 -> 9 | V35: =(Q35/Q23)-1 -> -0.019737793 | W35: =(R35/R23)-1 -> 0.022574659
B36: 10 | C36: 13251613 | D36: 9759605.8 | E36: 59581934 | F36: 648120.92 | G36: 5800 | H36: 32279.14 | I36: 10898043 | J36: 6081592.8 | L36: =L35+1 -> 10 | M36: =C36+D36 -> 23011219 | N36: =E36+F36 -> 60230055 | O36: =G36+H36 -> 38079.14 | P36: =I36+J36 -> 16979636 | Q36: =M36+O36 -> 23049298 | R36: =N36+P36 -> 77209691 | U36: =U35+1 -> 10 | V36: =(Q36/Q24)-1 -> -0.041195018 | W36: =(R36/R24)-1 -> 0.0045933684
B37: 11 | C37: 12307626 | D37: 8843378.4 | E37: 58935673 | F37: 550552.02 | G37: 18704 | H37: 40024.31 | I37: 11896394 | J37: 5136751 | L37: =L36+1 -> 11 | M37: =C37+D37 -> 21151005 | N37: =E37+F37 -> 59486225 | O37: =G37+H37 -> 58728.31 | P37: =I37+J37 -> 17033145 | Q37: =M37+O37 -> 21209733 | R37: =N37+P37 -> 76519371 | U37: =U36+1 -> 11 | V37: =(Q37/Q25)-1 -> -0.022527349 | W37: =(R37/R25)-1 -> 0.063775904
B38: 12 | C38: 13244256 | D38: 9937804.3 | E38: 59612359 | F38: 616813.94 | G38: 13311.19 | H38: 38349.36 | I38: 12618246 | J38: 4849694.7 | L38: =L37+1 -> 12 | M38: =C38+D38 -> 23182061 | N38: =E38+F38 -> 60229173 | O38: =G38+H38 -> 51660.55 | P38: =I38+J38 -> 17467941 | Q38: =M38+O38 -> 23233721 | R38: =N38+P38 -> 77697114 | S38: =SUM(Q27:Q38)/365 -> 766106.36 | T38: =SUM(R27:R38)/365 -> 2543039.5 | U38: =U37+1 -> 12 | V38: =(Q38/Q26)-1 -> 0.096020168 | W38: =(R38/R26)-1 -> 0.12001213
A39: 2022 | B39: 1 | C39: 11215138 | D39: 8111459.2 | E39: 54474659 | F39: 558175.17 | G39: 24300 | H39: 39283.61 | I39: 14186497 | J39: 3979710.4 | L39: 1 | M39: =C39+D39 -> 19326597 | N39: =E39+F39 -> 55032834 | O39: =G39+H39 -> 63583.61 | P39: =I39+J39 -> 18166207 | Q39: =M39+O39 -> 19390181 | R39: =N39+P39 -> 73199041 | U39: Kokku | V39: =(SUM(Q27:Q38)/SUM(Q15:Q26))-1 -> 0.01209761 | W39: =(SUM(R27:R38)/SUM(R15:R26))-1 -> 0.086011235
B40: 2 | C40: 10446479 | D40: 7656495.9 | E40: 50413164 | F40: 597602.39 | G40: 10706 | H40: 41020.71 | I40: 10231013 | J40: 4758287.2 | L40: =L39+1 -> 2 | M40: =C40+D40 -> 18102974 | N40: =E40+F40 -> 51010766 | O40: =G40+H40 -> 51726.71 | P40: =I40+J40 -> 14989300 | Q40: =M40+O40 -> 18154701 | R40: =N40+P40 -> 66000066
B41: 3 | C41: 12299627 | D41: 8228424.6 | E41: 57177058 | F41: 880495.36 | G41: 23803 | H41: 69089.41 | I41: 13183545 | J41: 11468932 | L41: =L40+1 -> 3 | M41: =C41+D41 -> 20528051 | N41: =E41+F41 -> 58057553 | O41: =G41+H41 -> 92892.41 | P41: =I41+J41 -> 24652477 | Q41: =M41+O41 -> 20620944 | R41: =N41+P41 -> 82710030 | U41: Kütused kokku | V41: =(SUM(Q27:R38)/SUM(Q15:R26))-1 -> 0.067954958
B42: 4 | C42: 13100640 | D42: 8255791.9 | E42: 54916179 | F42: 543961.32 | G42: 16999 | H42: 34755.13 | I42: 9259911.3 | J42: 5236062.2 | L42: =L41+1 -> 4 | M42: =C42+D42 -> 21356432 | N42: =E42+F42 -> 55460140 | O42: =G42+H42 -> 51754.13 | P42: =I42+J42 -> 14495974 | Q42: =M42+O42 -> 21408186 | R42: =N42+P42 -> 69956114
B43: 5 | C43: 14942163 | D43: 9233690.5 | E43: 61202487 | F43: 718653.15 | G43: 31607 | H43: 51880.46 | I43: 11011506 | J43: 6790087 | L43: =L42+1 -> 5 | M43: =C43+D43 -> 24175854 | N43: =E43+F43 -> 61921140 | O43: =G43+H43 -> 83487.46 | P43: =I43+J43 -> 17801593 | Q43: =M43+O43 -> 24259341 | R43: =N43+P43 -> 79722733 | V43: Jae + hulgimüük
B44: 6 | C44: 15938060 | D44: 9556810.8 | E44: 56436888 | F44: 716318.77 | G44: 15400 | H44: 62713.68 | I44: 9527495.9 | J44: 7862589.8 | L44: =L43+1 -> 6 | M44: =C44+D44 -> 25494871 | N44: =E44+F44 -> 57153207 | O44: =G44+H44 -> 78113.68 | P44: =I44+J44 -> 17390086 | Q44: =M44+O44 -> 25572984 | R44: =N44+P44 -> 74543293 | V44: 2022 vs 2021
B45: 7 | C45: 16922119 | D45: 10001453 | E45: 59708716 | F45: 807580.51 | G45: 25219.16 | H45: 71966.63 | I45: 9797682.9 | J45: 8556708.2 | L45: =L44+1 -> 7 | M45: =C45+D45 -> 26923572 | N45: =E45+F45 -> 60516296 | O45: =G45+H45 -> 97185.79 | P45: =I45+J45 -> 18354391 | Q45: =M45+O45 -> 27020758 | R45: =N45+P45 -> 78870687 | V45: =V26 -> Bensiin | W45: =W26 -> Diisel
B46: 8 | C46: 16169781 | D46: 10248375 | E46: 64027528 | F46: 1050230 | G46: 24165.61 | H46: 57894.4 | I46: 11126547 | J46: 16139943 | L46: =L45+1 -> 8 | M46: =C46+D46 -> 26418156 | N46: =E46+F46 -> 65077758 | O46: =G46+H46 -> 82060.01 | P46: =I46+J46 -> 27266491 | Q46: =(M46+O46) -> 26500216 | R46: =(N46+P46) -> 92344249 | U46: 1 | V46: =(Q39/Q27)-1 -> -0.011524854 | W46: =(R39/R27)-1 -> 0.064407088
B47: 9 | C47: 14033824 | D47: 8791577.8 | E47: 59844277 | F47: 867272.15 | G47: 18510.81 | H47: 43503.37 | I47: 10343065 | J47: 10471102 | L47: =L46+1 -> 9 | M47: =C47+D47 -> 22825402 | N47: =E47+F47 -> 60711549 | O47: =G47+H47 -> 62014.18 | P47: =I47+J47 -> 20814167 | Q47: =(M47+O47) -> 22887416 | R47: =(N47+P47) -> 81525716 | U47: =U46+1 -> 2 | V47: =(Q40/Q28)-1 -> -0.062548536 | W47: =(R40/R28)-1 -> -0.015941627 | X47: 24.02 algas Ukraina sõda
B48: 10 | C48: 13627466 | D48: 8166270 | E48: 59366989 | F48: 652976.02 | G48: 16779.42 | H48: 37911.92 | I48: 9774893.7 | J48: 6082156.2 | L48: =L47+1 -> 10 | M48: =C48+D48 -> 21793736 | N48: =E48+F48 -> 60019965 | O48: =G48+H48 -> 54691.34 | P48: =I48+J48 -> 15857050 | Q48: =(M48+O48) -> 21848427 | R48: =(N48+P48) -> 75877015 | U48: =U47+1 -> 3 | V48: =(Q41/Q29)-1 -> 0.13865558 | W48: =(R41/R29)-1 -> 0.1858275
B49: 11 | C49: 13463569 | D49: 7593749.5 | E49: 59645299 | F49: 577007.03 | G49: 11910.57 | H49: 47571.51 | I49: 11669159 | J49: 6568152.5 | L49: =L48+1 -> 11 | M49: =C49+D49 -> 21057318 | N49: =E49+F49 -> 60222306 | O49: =G49+H49 -> 59482.08 | P49: =I49+J49 -> 18237312 | Q49: =(M49+O49) -> 21116800 | R49: =(N49+P49) -> 78459618 | U49: =U48+1 -> 4 | V49: =(Q42/Q30)-1 -> 0.039736026 | W49: =(R42/R30)-1 -> -0.064853882
B50: 12 | C50: 13637656 | D50: 8014354.3 | E50: 58600017 | F50: 773138.62 | G50: 34473.44 | H50: 45571.89 | I50: 14816657 | J50: 6451297.2 | L50: =L49+1 -> 12 | M50: =C50+D50 -> 21652010 | N50: =E50+F50 -> 59373155 | O50: =G50+H50 -> 80045.33 | P50: =I50+J50 -> 21267954 | Q50: =(M50+O50) -> 21732055 | R50: =(N50+P50) -> 80641109 | S50: =SUM(Q39:Q50)/365 -> 741128.79 | T50: =SUM(R39:R50)/365 -> 2558492.2 | U50: =U49+1 -> 5 | V50: =(Q43/Q31)-1 -> -0.059434253 | W50: =(R43/R31)-1 -> 0.019369827
A51: 2023 | B51: 1 | C51: 12161580 | D51: 6867968.2 | E51: 55732476 | F51: 176159.43 | G51: 22251.18 | H51: 47961.19 | I51: 9375158.6 | J51: 3613430.6 | L51: 1 | M51: =C51+D51 -> 19029548 | N51: =E51+F51 -> 55908636 | O51: =G51+H51 -> 70212.37 | P51: =I51+J51 -> 12988589 | Q51: =(M51+O51) -> 19099761 | R51: =(N51+P51) -> 68897225 | U51: =U50+1 -> 6 | V51: =(Q44/Q32)-1 -> -0.095711677 | W51: =(R44/R32)-1 -> -0.043604507
B52: 2 | C52: 11866926 | D52: 6699403.8 | E52: 53486346 | F52: 182506.72 | G52: 18575.22 | H52: 29497.15 | I52: 8592313 | J52: 3763582.5 | L52: 2 | M52: =C52+D52 -> 18566330 | N52: =E52+F52 -> 53668853 | O52: =G52+H52 -> 48072.37 | P52: =I52+J52 -> 12355896 | Q52: =(M52+O52) -> 18614402 | R52: =(N52+P52) -> 66024748 | U52: =U51+1 -> 7 | V52: =(Q45/Q33)-1 -> -0.081771418 | W52: =(R45/R33)-1 -> -0.10849152
B53: 3 | C53: 13140107 | D53: 7368935.4 | E53: 59955127 | F53: 197692.83 | G53: 18225.83 | H53: 36655.52 | I53: 10110829 | J53: 4966393.6 | L53: 3 | M53: =C53+D53 -> 20509042 | N53: =E53+F53 -> 60152820 | O53: =G53+H53 -> 54881.35 | P53: =I53+J53 -> 15077222 | Q53: =(M53+O53) -> 20563923 | R53: =(N53+P53) -> 75230042 | U53: =U52+1 -> 8 | V53: =(Q46/Q34)-1 -> -0.0040708672 | W53: =(R46/R34)-1 -> 0.056087365
B54: 4 | C54: 13842407 | D54: 8160793.7 | E54: 57321670 | F54: 384235.83 | G54: 16536.03 | H54: 56499.1 | I54: 9087923.8 | J54: 9121953.6 | L54: 4 | M54: =C54+D54 -> 22003201 | N54: =E54+F54 -> 57705905 | O54: =G54+H54 -> 73035.13 | P54: =I54+J54 -> 18209877 | Q54: =(M54+O54) -> 22076236 | R54: =(N54+P54) -> 75915783 | U54: =U53+1 -> 9 | V54: =(Q47/Q35)-1 -> -0.059922934 | W54: =(R47/R35)-1 -> -0.033244434
B55: 5 | C55: 15351495 | D55: 9641809.5 | E55: 63343273 | F55: 358531.77 | G55: 27039.39 | H55: 77711.33 | I55: 10128424 | J55: 8603053.8 | L55: 5 | M55: =C55+D55 -> 24993305 | N55: =E55+F55 -> 63701805 | O55: =G55+H55 -> 104750.72 | P55: =I55+J55 -> 18731477 | Q55: =(M55+O55) -> 25098056 | R55: =(N55+P55) -> 82433282 | U55: =U54+1 -> 10 | V55: =(Q48/Q36)-1 -> -0.052100123 | W55: =(R48/R36)-1 -> -0.017260479
B56: 6 | C56: 15935912 | D56: 9670213.7 | E56: 60442918 | F56: 262859.25 | G56: 28926.6 | H56: 54501.62 | I56: 9629675.2 | J56: 6139607.6 | L56: 6 | M56: =C56+D56 -> 25606125 | N56: =E56+F56 -> 60705778 | O56: =G56+H56 -> 83428.22 | P56: =I56+J56 -> 15769283 | Q56: =(M56+O56) -> 25689554 | R56: =(N56+P56) -> 76475061 | U56: =U55+1 -> 11 | V56: =(Q49/Q37)-1 -> -0.0043816142 | W56: =(R49/R37)-1 -> 0.025356284
B57: 7 | C57: 16534626 | D57: 10026521 | E57: 61506918 | F57: 343411.98 | G57: 20012.7 | H57: 75118.62 | I57: 9057667.3 | J57: 9331535.5 | L57: 7 | M57: =C57+D57 -> 26561146 | N57: =E57+F57 -> 61850330 | O57: =G57+H57 -> 95131.32 | P57: =I57+J57 -> 18389203 | Q57: =(M57+O57) -> 26656278 | R57: =(N57+P57) -> 80239533 | U57: =U56+1 -> 12 | V57: =(Q50/Q38)-1 -> -0.064633037 | W57: =(R50/R38)-1 -> 0.037890668
B58: 8 | C58: 16797495 | D58: 9911246.8 | E58: 66072890 | F58: 563810.33 | G58: 25017.36 | H58: 52037.52 | I58: 9755477.5 | J58: 14156045 | L58: 8 | M58: =C58+D58 -> 26708742 | N58: =E58+F58 -> 66636700 | O58: =G58+H58 -> 77054.88 | P58: =I58+J58 -> 23911523 | Q58: =(M58+O58) -> 26785797 | R58: =(N58+P58) -> 90548223 | U58: Kokku | V58: =(SUM(Q39:Q50)/SUM(Q27:Q38))-1 -> -0.032603259 | W58: =(SUM(R39:R50)/SUM(R27:R38))-1 -> 0.0060764833
B59: 9 | C59: 14825342 | D59: 8726311.1 | E59: 60893801 | F59: 441525.34 | G59: 12810.75 | H59: 51132.41 | I59: 8831671.5 | J59: 11822398 | L59: 9 | M59: =C59+D59 -> 23551653 | N59: =E59+F59 -> 61335326 | O59: =G59+H59 -> 63943.16 | P59: =I59+J59 -> 20654070 | Q59: =(M59+O59) -> 23615596 | R59: =(N59+P59) -> 81989396
B60: 10 | C60: 14310652 | D60: 7983043.6 | E60: 61644855 | F60: 304313.1 | G60: 20171.1 | H60: 48475 | I60: 9653657.2 | J60: 6272713.2 | L60: 10 | M60: =C60+D60 -> 22293695 | N60: =E60+F60 -> 61949168 | O60: =G60+H60 -> 68646.1 | P60: =I60+J60 -> 15926370 | Q60: =(M60+O60) -> 22362341 | R60: =(N60+P60) -> 77875539 | U60: Kütused kokku | V60: =(SUM(Q39:R50)/SUM(Q27:R38))-1 -> -0.002878334
