Workbook
Name ___EE_MYYK_LOPPTARBIJALE___: 'MTA koond'!$A$2:$J$27
Name EMTA_kogus: 'Tanklate jaemüük'!$V$6:$V$96
Name EMTA_kogus: 'Tarbimisse lubatud'!#REF!
Name Import: 'Tanklate jaemüük'!$G$6:$G$96
Name Import: 'Tarbimisse lubatud'!#REF!
Name tab: #REF!
Name Varu_kogus: 'Tanklate jaemüük'!$E$6:$E$96
Name Varu_kogus: 'Tarbimisse lubatud'!#REF!
Name Varu_Liik: 'Tanklate jaemüük'!$C$6:$C$96
Name Varu_Liik: 'Tarbimisse lubatud'!$C$9:$C$226
Name vedelkütused: #REF!

Sheet Tarbimisse lubatud
B2: AKTSIISIGA MAKSUSTATAV JA AKTSIISIVABASTUSEGA SISERIIKLIK TARBIMINE
B3: Allikas: | C3: Maksu- ja Tolliamet
B4: Ühik: | C4: 1000 liitrit
B5: Aasta | C5: Kuu | D5: Auto-bensiin | E5: Diislikütus | F5: Eri-otstarbeline diislikütus | G5: Kerge kütteõli | H5: Diislikütused kokku | I5: Lennuki- petrool (JET) | J5: Raske kütteõli | K5: KÜTUSED KOKKU
B6: 2007 | C6: jaanuar | D6: 34311.072 | E6: 47549.707 | F6: Sisaldub diislis | G6: 12171.402 | H6: 59721.109 | J6: 1855.144 | K6: 99675.501
B7: 2007 | C7: veebruar | D7: 33557.276 | E7: 47379.775 | F7: Sisaldub diislis | G7: 13119.583 | H7: 60499.358 | J7: 503.187 | K7: 98438.796
B8: 2007 | C8: märts | D8: 36396.318 | E8: 55186.558 | F8: Sisaldub diislis | G8: 7721.8819 | H8: 62908.44 | J8: 291.073 | K8: 104037.1
B9: 2007 | C9: aprill | D9: 37520.774 | E9: 55147.499 | F9: Sisaldub diislis | G9: 5730.0021 | H9: 60877.54 | J9: 646.091 | K9: 103401.48
B10: 2007 | C10: mai | D10: 40477.899 | E10: 61170.29 | F10: Sisaldub diislis | G10: 5292.1039 | H10: 66462.394 | J10: 0 | K10: 112150.5
B11: 2007 | C11: juuni | D11: 42544.307 | E11: 56236.643 | F11: Sisaldub diislis | G11: 3242.2588 | H11: 59478.902 | J11: 0 | K11: 107781.38
B12: 2007 | C12: juuli | D12: 42482.423 | E12: 58778.299 | F12: Sisaldub diislis | G12: 5671.1415 | H12: 64449.44 | J12: 0 | K12: 112527.46
B13: 2007 | C13: august | D13: 44097.724 | E13: 63514.735 | F13: Sisaldub diislis | G13: 6385.3699 | H13: 69900.105 | J13: 1195.335 | K13: 120948.26
B14: 2007 | C14: september | D14: 36504.147 | E14: 56324.9 | F14: Sisaldub diislis | G14: 6585.5619 | H14: 62910.462 | J14: 61.247 | K14: 105179.85
B15: 2007 | C15: oktoober | D15: 38857.964 | E15: 63255.975 | F15: Sisaldub diislis | G15: 7404.8678 | H15: 70660.843 | J15: 47.759 | K15: 115495.82
B16: 2007 | C16: november | D16: 34904.417 | E16: 60133.37 | F16: Sisaldub diislis | G16: 8632.3167 | H16: 68765.686 | J16: 785.848 | K16: 109248.28
B17: 2007 | C17: detsember | D17: 43413.218 | E17: 145112.54 | F17: Sisaldub diislis | G17: 8434.7359 | H17: 153547.27 | J17: 0 | K17: 104154.97
B18: 2007 | C18: KOKKU | D18: 465067.54 | E18: 769790.29 | G18: 90391.226 | H18: 860181.55 | J18: 5385.684 | K18: 1293039.4
B19: 2008 | C19: jaanuar | D19: 26003.589 | E19: 21844.635 | F19: Sisaldub diislis | G19: 7386.0956 | H19: 29230.73 | J19: 125.316 | K19: 92062.524
B20: 2008 | C20: veebruar | D20: 31530.796 | E20: 23921.106 | F20: Sisaldub diislis | G20: 7041.9315 | H20: 30963.037 | J20: 24.72 | K20: 99240.755
B21: 2008 | C21: märts | D21: 31986.925 | E21: 36217.604 | F21: Sisaldub diislis | G21: 6883.3486 | H21: 43100.952 | J21: 25.18 | K21: 112586.68
B22: 2008 | C22: aprill | D22: 36029.3 | E22: 46777.882 | F22: Sisaldub diislis | G22: 5570.3122 | H22: 52348.213 | J22: 23.746 | K22: 94191.43
B23: 2008 | C23: mai | D23: 37450.139 | E23: 50909.633 | F23: Sisaldub diislis | G23: 3453.6989 | H23: 54363.332 | J23: 376.38 | K23: 97824.507
B24: 2008 | C24: juuni | D24: 37038.603 | E24: 47948.765 | F24: Sisaldub diislis | G24: 2867.49 | H24: 50816.255 | J24: 0 | K24: 93885.001
B25: 2008 | C25: juuli | D25: 40332.274 | E25: 56200.68 | F25: Sisaldub diislis | G25: 3484.04 | H25: 59684.72 | J25: 281.62 | K25: 106207.05
B26: 2008 | C26: august | D26: 39425.726 | E26: 38791.298 | F26: 13610.77 | G26: 1714.9175 | H26: 54116.986 | J26: 129 | K26: 99731.884
B27: 2008 | C27: september | D27: 33574.015 | E27: 43591.794 | F27: 19800.3 | G27: 4724.5155 | H27: 68149.164 | J27: 277 | K27: 107676.5
B28: 2008 | C28: oktoober | D28: 35839.71 | E28: 40535.46 | F28: 15495.857 | G28: 3770.942 | H28: 59802.259 | J28: 25.82 | K28: 101004.19
B29: 2008 | C29: november | D29: 31719.823 | E29: 50950.515 | F29: Sisaldub diislis | G29: 4520.533 | H29: 55471.048 | J29: 744.272 | K29: 91958.832
B30: 2008 | C30: detsember | D30: 35108.676 | E30: 37750.476 | F30: 18834.715 | G30: 6065.5939 | H30: 62650.785 | J30: 102.368 | K30: 100941.84
B31: 2008 | C31: KOKKU | D31: 416039.58 | E31: 495439.85 | F31: 67741.643 | G31: 57483.419 | H31: 620697.48 | J31: 2135.422 | K31: 1197311.2
B32: 2009 | C32: jaanuar | D32: 30989.867 | E32: 29977.579 | F32: 16741.888 | G32: 5512.2386 | H32: 52231.705 | J32: 316.035 | K32: 87729.945
B33: 2009 | C33: veebruar | D33: 28557.212 | E33: 29557.318 | F33: 15375.868 | G33: 5566.9703 | H33: 50500.157 | J33: 48.626 | K33: 82582.175
B34: 2009 | C34: märts | D34: 32492.824 | E34: 33993.512 | F34: 14711.287 | G34: 5949.6078 | H34: 54654.406 | J34: 366.951 | K34: 91561.768
B35: 2009 | C35: aprill | D35: 32911.653 | E35: 31183.521 | F35: 14943.344 | G35: 4875.6239 | H35: 51002.489 | J35: 1194.978 | K35: 88174.425
B36: 2009 | C36: mai | D36: 36218.949 | E36: 34253 | F36: 14162.093 | G36: 3366.765 | H36: 51781.858 | J36: 226.26 | K36: 91729.63
B37: 2009 | C37: juuni | D37: 42282.468 | E37: 47072.58 | F37: 15999.27 | G37: 3504.337 | H37: 66576.187 | J37: 426.351 | K37: 113325.46
B38: 2009 | C38: juuli | D38: 34218.839 | E38: 22849.472 | F38: 14415.286 | G38: 3118.405 | H38: 40383.163 | J38: 79.168 | K38: 78567.361
B39: 2009 | C39: august | D39: 34369.487 | E39: 29302.762 | F39: 16624.908 | G39: 3489.156 | H39: 49416.826 | J39: 49.15 | K39: 87378.673
B40: 2009 | C40: september | D40: 33776.69 | E40: 33618.591 | F40: 19342.969 | G40: 3469.323 | H40: 56430.883 | J40: 53.477 | K40: 94143.973
B41: 2009 | C41: oktoober | D41: 33265.029 | E41: 32120.097 | F41: 16552.492 | G41: 3753.277 | H41: 52426.069 | J41: 25.243 | K41: 90351.005
...

Sheet Tanklate jaemüük
B2: EESTI TANKLATE JAEMÜÜK MAKSU- JA TOLLIAMETI ANDMETEL
B3: Allikas: | C3: Maksu- ja Tolliamet
B4: Ühik: | C4: liitrit | U4: 0.542
B5: Aasta | C5: Kuu | D5: Bensiin 95 | E5: Bensiin 98 | F5: Bensiinid kokku | G5: Muutus võrreldes eelmise aasta sama kuuga | H5: Aasta kumulatiivne tarbimine | I5: Muutus võrreldes eelmise aasta sama perioodiga | J5: Viimase 12 kuu tarbimine | K5: Muutus võrreldes eelmise 12 kuuga | L5: Diislikütus | M5: Eri-otstarbeline diislikütus | N5: Diislikütused kokku | O5: Muutus võrreldes eelmise aasta sama kuuga | P5: Aasta kumulatiivne tarbimine | Q5: Muutus võrreldes eelmise aasta sama perioodiga | R5: Viimase 12 kuu tarbimine | S5: Muutus võrreldes eelmise 12 kuuga | T5: LPG kilogrammi | U5: LPG | V5: Muutus võrreldes eelmise aasta sama kuuga | W5: Aasta kumulatiivne tarbimine | X5: Muutus võrreldes eelmise aasta sama perioodiga | Y5: Viimase 12 kuu tarbimine | Z5: Muutus võrreldes eelmise 12 kuuga | AA5: KÜTUSED KOKKU | AB5: Muutus võrreldes eelmise aasta sama kuuga | AC5: Aasta kumulatiivne tarbimine | AD5: Muutus võrreldes eelmise aasta sama perioodiga | AE5: Viimase 12 kuu tarbimine | AF5: Muutus võrreldes eelmise 12 kuuga
B6: 2016 | C6: jaanuar | D6: 23466473 | E6: 2675906.2 | F6: =IF((D6+E6)>0,D6+E6,"") -> 26142379 | H6: =F6 -> 26142379 | K6: =IF(ISNUMBER(J6),(J6-#REF!)/#REF!,"") | L6: 52067677 | M6: 1578109.8 | N6: =L6+M6 -> 53645787 | P6: =N6 -> 53645787 | S6: =IF(ISNUMBER(R6),(R6-#REF!)/#REF!,"") | T6: 450819.34 | U6: =T6/$U$4 -> 831770 | W6: =U6 -> 831770 | Z6: =IF(ISNUMBER(Y6),(Y6-#REF!)/#REF!,"") | AA6: =F6+N6+U6 -> 80619936 | AC6: =AA6 -> 80619936 | AF6: =IF(ISNUMBER(AE6),(AE6-#REF!)/#REF!,"")
B7: 2016 | C7: veebruar | D7: 18447914 | E7: 1947723.1 | F7: =IF((D7+E7)>0,D7+E7,"") -> 20395637 | H7: =H6+F7 -> 46538016 | K7: =IF(ISNUMBER(J7),(J7-#REF!)/#REF!,"") | L7: 43256836 | M7: 1522214.8 | N7: =L7+M7 -> 44779051 | P7: =P6+N7 -> 98424838 | S7: =IF(ISNUMBER(R7),(R7-#REF!)/#REF!,"") | T7: 410964.29 | U7: =T7/$U$4 -> 758236.7 | W7: =W6+U7 -> 1590006.7 | Z7: =IF(ISNUMBER(Y7),(Y7-#REF!)/#REF!,"") | AA7: =F7+N7+U7 -> 65932925 | AC7: =AA6+AA7 -> 1.4655286e+08 | AF7: =IF(ISNUMBER(AE7),(AE7-#REF!)/#REF!,"")
B8: 2016 | C8: märts | D8: 22042941 | E8: 2287159.1 | F8: =IF((D8+E8)>0,D8+E8,"") -> 24330100 | H8: =H7+F8 -> 70868116 | K8: =IF(ISNUMBER(J8),(J8-#REF!)/#REF!,"") | L8: 46495788 | M8: 1585411.6 | N8: =L8+M8 -> 48081200 | P8: =P7+N8 -> 1.4650604e+08 | S8: =IF(ISNUMBER(R8),(R8-#REF!)/#REF!,"") | T8: 459820.85 | U8: =T8/$U$4 -> 848377.95 | W8: =W7+U8 -> 2438384.6 | Z8: =IF(ISNUMBER(Y8),(Y8-#REF!)/#REF!,"") | AA8: =F8+N8+U8 -> 73259678 | AC8: =AA6+AA7+AA8 -> 2.1981254e+08 | AF8: =IF(ISNUMBER(AE8),(AE8-#REF!)/#REF!,"")
B9: 2016 | C9: aprill | D9: 22959189 | E9: 2456074.4 | F9: =IF((D9+E9)>0,D9+E9,"") -> 25415264 | H9: =H8+F9 -> 96283380 | K9: =IF(ISNUMBER(J9),(J9-#REF!)/#REF!,"") | L9: 44869418 | M9: 1710819 | N9: =L9+M9 -> 46580237 | P9: =P8+N9 -> 1.9308627e+08 | S9: =IF(ISNUMBER(R9),(R9-#REF!)/#REF!,"") | T9: 479797.39 | U9: =T9/$U$4 -> 885235.04 | W9: =W8+U9 -> 3323619.7 | Z9: =IF(ISNUMBER(Y9),(Y9-#REF!)/#REF!,"") | AA9: =F9+N9+U9 -> 72880735 | AC9: =SUM(AA6:AA9) -> 2.9269327e+08 | AF9: =IF(ISNUMBER(AE9),(AE9-#REF!)/#REF!,"")
B10: 2016 | C10: mai | D10: 26560864 | E10: 2895652.1 | F10: =IF((D10+E10)>0,D10+E10,"") -> 29456516 | H10: =H9+F10 -> 1.257399e+08 | K10: =IF(ISNUMBER(J10),(J10-#REF!)/#REF!,"") | L10: 48635701 | M10: 1597884.8 | N10: =L10+M10 -> 50233585 | P10: =P9+N10 -> 2.4331986e+08 | S10: =IF(ISNUMBER(R10),(R10-#REF!)/#REF!,"") | T10: 533067.29 | U10: =T10/$U$4 -> 983518.99 | W10: =W9+U10 -> 4307138.7 | Z10: =IF(ISNUMBER(Y10),(Y10-#REF!)/#REF!,"") | AA10: =F10+N10+U10 -> 80673620 | AC10: =SUM(AA6:AA10) -> 3.733669e+08 | AF10: =IF(ISNUMBER(AE10),(AE10-#REF!)/#REF!,"")
B11: 2016 | C11: juuni | D11: 26419932 | E11: 2901887.5 | F11: =IF((D11+E11)>0,D11+E11,"") -> 29321820 | H11: =H10+F11 -> 1.5506172e+08 | K11: =IF(ISNUMBER(J11),(J11-#REF!)/#REF!,"") | L11: 45995509 | M11: 1508538.8 | N11: =L11+M11 -> 47504048 | P11: =P10+N11 -> 2.9082391e+08 | S11: =IF(ISNUMBER(R11),(R11-#REF!)/#REF!,"") | T11: 544965.6 | U11: =T11/$U$4 -> 1005471.6 | W11: =W10+U11 -> 5312610.3 | Z11: =IF(ISNUMBER(Y11),(Y11-#REF!)/#REF!,"") | AA11: =F11+N11+U11 -> 77831340 | AC11: =SUM(AA6:AA11) -> 4.5119823e+08 | AF11: =IF(ISNUMBER(AE11),(AE11-#REF!)/#REF!,"")
B12: 2016 | C12: juuli | D12: 29017710 | E12: 3307804.7 | F12: =IF((D12+E12)>0,D12+E12,"") -> 32325514 | H12: =H11+F12 -> 1.8738723e+08 | K12: =IF(ISNUMBER(J12),(J12-#REF!)/#REF!,"") | L12: 48675336 | M12: 1820254.6 | N12: =L12+M12 -> 50495590 | P12: =P11+N12 -> 3.413195e+08 | S12: =IF(ISNUMBER(R12),(R12-#REF!)/#REF!,"") | T12: 580674.75 | U12: =T12/$U$4 -> 1071355.6 | W12: =W11+U12 -> 6383965.9 | Z12: =IF(ISNUMBER(Y12),(Y12-#REF!)/#REF!,"") | AA12: =F12+N12+U12 -> 83892460 | AC12: =SUM(AA6:AA12) -> 5.3509069e+08 | AF12: =IF(ISNUMBER(AE12),(AE12-#REF!)/#REF!,"")
B13: 2016 | C13: august | D13: 27474165 | E13: 3009319.2 | F13: =IF((D13+E13)>0,D13+E13,"") -> 30483484 | H13: =H12+F13 -> 2.1787071e+08 | K13: =IF(ISNUMBER(J13),(J13-#REF!)/#REF!,"") | L13: 51756985 | M13: 2114130.8 | N13: =L13+M13 -> 53871116 | P13: =P12+N13 -> 3.9519061e+08 | S13: =IF(ISNUMBER(R13),(R13-#REF!)/#REF!,"") | T13: 597757.49 | U13: =T13/$U$4 -> 1102873.6 | W13: =W12+U13 -> 7486839.5 | Z13: =IF(ISNUMBER(Y13),(Y13-#REF!)/#REF!,"") | AA13: =F13+N13+U13 -> 85457474 | AC13: =SUM(AA6:AA13) -> 6.2054817e+08 | AF13: =IF(ISNUMBER(AE13),(AE13-#REF!)/#REF!,"")
B14: 2016 | C14: september | D14: 25541430 | E14: 2655828.6 | F14: =IF((D14+E14)>0,D14+E14,"") -> 28197259 | H14: =H13+F14 -> 2.4606797e+08 | K14: =IF(ISNUMBER(J14),(J14-#REF!)/#REF!,"") | L14: 51127748 | M14: 1839762.2 | N14: =L14+M14 -> 52967510 | P14: =P13+N14 -> 4.4815812e+08 | S14: =IF(ISNUMBER(R14),(R14-#REF!)/#REF!,"") | T14: 538391.45 | U14: =T14/$U$4 -> 993342.16 | W14: =W13+U14 -> 8480181.6 | Z14: =IF(ISNUMBER(Y14),(Y14-#REF!)/#REF!,"") | AA14: =F14+N14+U14 -> 82158111 | AC14: =SUM(AA6:AA14) -> 7.0270628e+08 | AF14: =IF(ISNUMBER(AE14),(AE14-#REF!)/#REF!,"")
B15: 2016 | C15: oktoober | D15: 23853673 | E15: 2521986.9 | F15: =IF((D15+E15)>0,D15+E15,"") -> 26375660 | H15: =H14+F15 -> 2.7244363e+08 | K15: =IF(ISNUMBER(J15),(J15-#REF!)/#REF!,"") | L15: 49687628 | M15: 1751228.7 | N15: =L15+M15 -> 51438857 | P15: =P14+N15 -> 4.9959698e+08 | S15: =IF(ISNUMBER(R15),(R15-#REF!)/#REF!,"") | T15: 543400.37 | U15: =T15/$U$4 -> 1002583.7 | W15: =W14+U15 -> 9482765.3 | Z15: =IF(ISNUMBER(Y15),(Y15-#REF!)/#REF!,"") | AA15: =F15+N15+U15 -> 78817101 | AC15: =SUM(AA6:AA15) -> 7.8152338e+08 | AF15: =IF(ISNUMBER(AE15),(AE15-#REF!)/#REF!,"")
B16: 2016 | C16: november | D16: 21860345 | E16: 2184606.9 | F16: =IF((D16+E16)>0,D16+E16,"") -> 24044952 | H16: =H15+F16 -> 2.9648859e+08 | K16: =IF(ISNUMBER(J16),(J16-#REF!)/#REF!,"") | L16: 47560956 | M16: 1735184 | N16: =L16+M16 -> 49296140 | P16: =P15+N16 -> 5.4889312e+08 | S16: =IF(ISNUMBER(R16),(R16-#REF!)/#REF!,"") | T16: 482007.13 | U16: =T16/$U$4 -> 889312.04 | W16: =W15+U16 -> 10372077 | Z16: =IF(ISNUMBER(Y16),(Y16-#REF!)/#REF!,"") | AA16: =F16+N16+U16 -> 74230404 | AC16: =SUM(AA6:AA16) -> 8.5575378e+08 | AF16: =IF(ISNUMBER(AE16),(AE16-#REF!)/#REF!,"")
B17: 2016 | C17: detsember | D17: 22585432 | E17: 2296146.4 | F17: =IF((D17+E17)>0,D17+E17,"") -> 24881578 | H17: =H16+F17 -> 3.2137016e+08 | J17: =IF(ISNUMBER(F17),F17+F16+F15+F14+F13+F12+F11+F10+F9+F8+F7+F6,"") -> 3.2137016e+08 | L17: 43539346 | M17: 1589507.2 | N17: =L17+M17 -> 45128853 | P17: =P16+N17 -> 5.9402198e+08 | R17: =IF(ISNUMBER(N17),N17+N16+N15+N14+N13+N12+N11+N10+N9+N8+N7+N6,"") -> 5.9402198e+08 | T17: 484698.45 | U17: =T17/$U$4 -> 894277.59 | W17: =W16+U17 -> 11266355 | Y17: =IF(ISNUMBER(U17),U17+U16+U15+U14+U13+U12+U11+U10+U9+U8+U7+U6,"") -> 11266355 | AA17: =F17+N17+U17 -> 70904709 | AC17: =SUM(AA6:AA17) -> 9.2665849e+08 | AE17: =IF(ISNUMBER(AA17),AA17+AA16+AA15+AA14+AA13+AA12+AA11+AA10+AA9+AA8+AA7+AA6,"") -> 9.2665849e+08
B18: 2016 | C18: KOKKU | D18: =SUM(D6:D17) -> 2.9023007e+08 | E18: =SUM(E6:E17) -> 31140095 | F18: =SUM(F6:F17) -> 3.2137016e+08 | K18: =IF(ISNUMBER(J18),(J18-#REF!)/#REF!,"") | L18: =SUM(L6:L17) -> 5.7366893e+08 | M18: =SUM(M6:M17) -> 20353046 | N18: =SUM(N6:N17) -> 5.9402198e+08 | T18: =SUM(T6:T17) -> 6106364.4 | U18: =SUM(U6:U17) -> 11266355 | AA18: =F18+N18+U18 -> 9.2665849e+08
B19: 2017 | C19: jaanuar | D19: 21459273 | E19: 2136166.4 | F19: =IF((D19+E19)>0,D19+E19,"") -> 23595439 | G19: =IF(ISNUMBER(F19),(F19-F6)/F6,"") -> -0.097425706 | H19: =IF(F19>0,F19,"") -> 23595439 | I19: =IF(ISNUMBER(H19),(H19-H6)/H6,"") -> -0.097425706 | J19: =IF(ISNUMBER(F19),F19+F17+F16+F15+F14+F13+F12+F11+F10+F9+F8+F7,"") -> 3.1882322e+08 | L19: 44639125 | M19: 1816321.5 | N19: =IF((L19+M19)>0,L19+M19,"") -> 46455446 | O19: =IF(ISNUMBER(N19),(N19-N6)/N6,"") -> -0.13403365 | P19: =N19 -> 46455446 | Q19: =IF(ISNUMBER(N19),(P19-P6)/P6,"") -> -0.13403365 | R19: =IF(ISNUMBER(N19),N19+N17+N16+N15+N14+N13+N12+N11+N10+N9+N8+N7,"") -> 5.8683163e+08 | T19: 466869.12 | U19: =IF(ISNUMBER(T19),T19/$U$4,"") -> 861382.14 | V19: =IF(ISNUMBER(U19),(U19-U6)/U6,"") -> 0.035601352 | W19: =IF(ISNUMBER(U19),W18+U19,"") -> 861382.14 | X19: =IF(ISNUMBER(U19),(W19-W6)/W6,"") -> 0.035601352 | Y19: =IF(ISNUMBER(U19),U19+U17+U16+U15+U14+U13+U12+U11+U10+U9+U8+U7,"") -> 11295967 | AA19: =F19+N19+U19 -> 70912268 | AB19: =IF(ISNUMBER(AA19),(AA19-AA6)/AA6,"") -> -0.12041275 | AC19: =IF(ISNUMBER(AA19),AA19,"") -> 70912268 | AD19: =IF(ISNUMBER(AA19),(AC19-AC6)/AC6,"") -> -0.12041275 | AE19: =IF(ISNUMBER(AA19),AA19+AA17+AA16+AA15+AA14+AA13+AA12+AA11+AA10+AA9+AA8+AA7,"") -> 9.1695083e+08
B20: 2017 | C20: veebruar | D20: 19361970 | E20: 1903417.8 | F20: =IF((D20+E20)>0,D20+E20,"") -> 21265388 | G20: =IF(ISNUMBER(F20),(F20-F7)/F7,"") -> 0.042643949 | H20: =IF(ISNUMBER(F20),F20+H19,"") -> 44860827 | I20: =IF(ISNUMBER(H20),(H20-H7)/H7,"") -> -0.036039121 | J20: =IF(ISNUMBER(F20),F20+F19+F17+F16+F15+F14+F13+F12+F11+F10+F9+F8,"") -> 3.1969297e+08 | L20: 41144663 | M20: 1508945.6 | N20: =IF((L20+M20)>0,L20+M20,"") -> 42653608 | O20: =IF(ISNUMBER(N20),(N20-N7)/N7,"") -> -0.047465111 | P20: =P19+N20 -> 89109055 | Q20: =IF(ISNUMBER(N20),(P20-P7)/P7,"") -> -0.094648705 | R20: =IF(ISNUMBER(N20),N20+N19+N17+N16+N15+N14+N13+N12+N11+N10+N9+N8,"") -> 5.8470619e+08 | T20: 441327.06 | U20: =IF(ISNUMBER(T20),T20/$U$4,"") -> 814256.57 | V20: =IF(ISNUMBER(U20),(U20-U7)/U7,"") -> 0.07388177 | W20: =IF(ISNUMBER(U20),W19+U20,"") -> 1675638.7 | X20: =IF(ISNUMBER(U20),(W20-W7)/W7,"") -> 0.05385638 | Y20: =IF(ISNUMBER(U20),U20+U19+U17+U16+U15+U14+U13+U12+U11+U10+U9+U8,"") -> 11351987 | AA20: =F20+N20+U20 -> 64733253 | AB20: =IF(ISNUMBER(AA20),(AA20-AA7)/AA7,"") -> -0.018195344 | AC20: =IF(ISNUMBER(AA20),AC19+AA20,"") -> 1.3564552e+08 | AD20: =IF(ISNUMBER(AA20),(AC20-AC7)/AC7,"") -> -0.074425982 | AE20: =IF(ISNUMBER(AA20),AA20+AA19+AA17+AA16+AA15+AA14+AA13+AA12+AA11+AA10+AA9+AA8,"") -> 9.1575115e+08
B21: 2017 | C21: märts | D21: 22026127 | E21: 2105121.2 | F21: =IF((D21+E21)>0,D21+E21,"") -> 24131248 | G21: =IF(ISNUMBER(F21),(F21-F8)/F8,"") -> -0.0081730983 | H21: =IF(ISNUMBER(F21),F21+H20,"") -> 68992075 | I21: =IF(ISNUMBER(H21),(H21-H8)/H8,"") -> -0.026472293 | J21: =IF(ISNUMBER(F21),F21+F20+F19+F17+F16+F15+F14+F13+F12+F11+F10+F9,"") -> 3.1949412e+08 | L21: 47556582 | M21: 1565030.6 | N21: =IF((L21+M21)>0,L21+M21,"") -> 49121613 | O21: =IF(ISNUMBER(N21),(N21-N8)/N8,"") -> 0.021638671 | P21: =P20+N21 -> 1.3823067e+08 | Q21: =IF(ISNUMBER(N21),(P21-P8)/P8,"") -> -0.05648484 | R21: =IF(ISNUMBER(N21),N21+N20+N19+N17+N16+N15+N14+N13+N12+N11+N10+N9,"") -> 5.8574661e+08 | T21: 538842.05 | U21: =IF(ISNUMBER(T21),T21/$U$4,"") -> 994173.52 | V21: =IF(ISNUMBER(U21),(U21-U8)/U8,"") -> 0.17185214 | W21: =IF(ISNUMBER(U21),W20+U21,"") -> 2669812.2 | X21: =IF(ISNUMBER(U21),(W21-W8)/W8,"") -> 0.0949102 | Y21: =IF(ISNUMBER(U21),U21+U20+U19+U17+U16+U15+U14+U13+U12+U11+U10+U9,"") -> 11497783 | AA21: =F21+N21+U21 -> 74247034 | AB21: =IF(ISNUMBER(AA21),(AA21-AA8)/AA8,"") -> 0.01347749 | AC21: =IF(ISNUMBER(AA21),AC20+AA21,"") -> 2.0989256e+08 | AD21: =IF(ISNUMBER(AA21),(AC21-AC8)/AC8,"") -> -0.045129291 | AE21: =IF(ISNUMBER(AA21),AA21+AA20+AA19+AA17+AA16+AA15+AA14+AA13+AA12+AA11+AA10+AA9,"") -> 9.1673851e+08
B22: 2017 | C22: aprill | D22: 22820443 | E22: 2266846.2 | F22: =IF((D22+E22)>0,D22+E22,"") -> 25087289 | G22: =IF(ISNUMBER(F22),(F22-F9)/F9,"") -> -0.012904626 | H22: =IF(ISNUMBER(F22),F22+H21,"") -> 94079364 | I22: =IF(ISNUMBER(H22),(H22-H9)/H9,"") -> -0.022890929 | J22: =IF(ISNUMBER(F22),F22+F21+F20+F19+F17+F16+F15+F14+F13+F12+F11+F10,"") -> 3.1916615e+08 | L22: 45686041 | M22: 1580157 | N22: =IF((L22+M22)>0,L22+M22,"") -> 47266198 | O22: =IF(ISNUMBER(N22),(N22-N9)/N9,"") -> 0.014726448 | P22: =P21+N22 -> 1.8549687e+08 | Q22: =IF(ISNUMBER(N22),(P22-P9)/P9,"") -> -0.039305791 | R22: =IF(ISNUMBER(N22),N22+N21+N20+N19+N17+N16+N15+N14+N13+N12+N11+N10,"") -> 5.8643257e+08 | T22: 532361.5 | U22: =IF(ISNUMBER(T22),T22/$U$4,"") -> 982216.79 | V22: =IF(ISNUMBER(U22),(U22-U9)/U9,"") -> 0.10955481 | W22: =IF(ISNUMBER(U22),W21+U22,"") -> 3652029 | X22: =IF(ISNUMBER(U22),(W22-W9)/W9,"") -> 0.098810742 | Y22: =IF(ISNUMBER(U22),U22+U21+U20+U19+U17+U16+U15+U14+U13+U12+U11+U10,"") -> 11594764 | AA22: =F22+N22+U22 -> 73335704 | AB22: =IF(ISNUMBER(AA22),(AA22-AA9)/AA9,"") -> 0.0062426468 | AC22: =IF(ISNUMBER(AA22),AC21+AA22,"") -> 2.8322826e+08 | AD22: =IF(ISNUMBER(AA22),(AC22-AC9)/AC9,"") -> -0.032337659 | AE22: =IF(ISNUMBER(AA22),AA22+AA21+AA20+AA19+AA17+AA16+AA15+AA14+AA13+AA12+AA11+AA10,"") -> 9.1719348e+08
B23: 2017 | C23: mai | D23: 25946296 | E23: 2639560 | F23: =IF((D23+E23)>0,D23+E23,"") -> 28585856 | G23: =IF(ISNUMBER(F23),(F23-F10)/F10,"") -> -0.029557479 | H23: =IF(ISNUMBER(F23),F23+H22,"") -> 1.2266522e+08 | I23: =IF(ISNUMBER(H23),(H23-H10)/H10,"") -> -0.024452671 | J23: =IF(ISNUMBER(F23),F23+F22+F21+F20+F19+F17+F16+F15+F14+F13+F12+F11,"") -> 3.1829549e+08 | L23: 50837832 | M23: 2309429.2 | N23: =IF((L23+M23)>0,L23+M23,"") -> 53147261 | O23: =IF(ISNUMBER(N23),(N23-N10)/N10,"") -> 0.058002538 | P23: =P22+N23 -> 2.3864413e+08 | Q23: =IF(ISNUMBER(N23),(P23-P10)/P10,"") -> -0.019216407 | R23: =IF(ISNUMBER(N23),N23+N22+N21+N20+N19+N17+N16+N15+N14+N13+N12+N11,"") -> 5.8934624e+08 | T23: 580185.56 | U23: =IF(ISNUMBER(T23),T23/$U$4,"") -> 1070453.1 | V23: =IF(ISNUMBER(U23),(U23-U10)/U10,"") -> 0.088390848 | W23: =IF(ISNUMBER(U23),W22+U23,"") -> 4722482.1 | X23: =IF(ISNUMBER(U23),(W23-W10)/W10,"") -> 0.096431399 | Y23: =IF(ISNUMBER(U23),U23+U22+U21+U20+U19+U17+U16+U15+U14+U13+U12+U11,"") -> 11681698 | AA23: =F23+N23+U23 -> 82803570 | AB23: =IF(ISNUMBER(AA23),(AA23-AA10)/AA10,"") -> 0.026402052 | AC23: =IF(ISNUMBER(AA23),AC22+AA23,"") -> 3.6603183e+08 | AD23: =IF(ISNUMBER(AA23),(AC23-AC10)/AC10,"") -> -0.019645733 | AE23: =IF(ISNUMBER(AA23),AA23+AA22+AA21+AA20+AA19+AA17+AA16+AA15+AA14+AA13+AA12+AA11,"") -> 9.1932343e+08
B24: 2017 | C24: juuni | D24: 26927858 | E24: 2773140.8 | F24: =IF((D24+E24)>0,D24+E24,"") -> 29700998 | G24: =IF(ISNUMBER(F24),(F24-F11)/F11,"") -> 0.012931621 | H24: =IF(ISNUMBER(F24),F24+H23,"") -> 1.5236622e+08 | I24: =IF(ISNUMBER(H24),(H24-H11)/H11,"") -> -0.017383386 | J24: =IF(ISNUMBER(F24),F24+F23+F22+F21+F20+F19+F17+F16+F15+F14+F13+F12,"") -> 3.1867467e+08 | L24: 47386828 | M24: 1739274.2 | N24: =IF((L24+M24)>0,L24+M24,"") -> 49126102 | O24: =IF(ISNUMBER(N24),(N24-N11)/N11,"") -> 0.034145585 | P24: =P23+N24 -> 2.8777023e+08 | Q24: =IF(ISNUMBER(N24),(P24-P11)/P11,"") -> -0.010500099 | R24: =IF(ISNUMBER(N24),N24+N23+N22+N21+N20+N19+N17+N16+N15+N14+N13+N12,"") -> 5.909683e+08 | T24: 610363.56 | U24: =IF(ISNUMBER(T24),T24/$U$4,"") -> 1126132 | V24: =IF(ISNUMBER(U24),(U24-U11)/U11,"") -> 0.12000383 | W24: =IF(ISNUMBER(U24),W23+U24,"") -> 5848614.1 | X24: =IF(ISNUMBER(U24),(W24-W11)/W11,"") -> 0.10089275 | Y24: =IF(ISNUMBER(U24),U24+U23+U22+U21+U20+U19+U17+U16+U15+U14+U13+U12,"") -> 11802359 | AA24: =F24+N24+U24 -> 79953232 | AB24: =IF(ISNUMBER(AA24),(AA24-AA11)/AA11,"") -> 0.027262702 | AC24: =IF(ISNUMBER(AA24),AC23+AA24,"") -> 4.4598506e+08 | AD24: =IF(ISNUMBER(AA24),(AC24-AC11)/AC11,"") -> -0.011554065 | AE24: =IF(ISNUMBER(AA24),AA24+AA23+AA22+AA21+AA20+AA19+AA17+AA16+AA15+AA14+AA13+AA12,"") -> 9.2144532e+08
B25: 2017 | C25: juuli | D25: 27971500 | E25: 3071381.6 | F25: =IF((D25+E25)>0,D25+E25,"") -> 31042882 | G25: =IF(ISNUMBER(F25),(F25-F12)/F12,"") -> -0.039678639 | H25: =IF(ISNUMBER(F25),F25+H24,"") -> 1.834091e+08 | I25: =IF(ISNUMBER(H25),(H25-H12)/H12,"") -> -0.021229462 | J25: =IF(ISNUMBER(F25),F25+F24+F23+F22+F21+F20+F19+F17+F16+F15+F14+F13,"") -> 3.1739203e+08 | L25: 48959660 | M25: 1859349.9 | N25: =IF((L25+M25)>0,L25+M25,"") -> 50819010 | O25: =IF(ISNUMBER(N25),(N25-N12)/N12,"") -> 0.0064049197 | P25: =P24+N25 -> 3.3858924e+08 | Q25: =IF(ISNUMBER(N25),(P25-P12)/P12,"") -> -0.0079991318 | R25: =IF(ISNUMBER(N25),N25+N24+N23+N22+N21+N20+N19+N17+N16+N15+N14+N13,"") -> 5.9129172e+08 | T25: 815176.5 | U25: =IF(ISNUMBER(T25),T25/$U$4,"") -> 1504015.7 | V25: =IF(ISNUMBER(U25),(U25-U12)/U12,"") -> 0.40384355 | W25: =IF(ISNUMBER(U25),W24+U25,"") -> 7352629.8 | X25: =IF(ISNUMBER(U25),(W25-W12)/W12,"") -> 0.15173388 | Y25: =IF(ISNUMBER(U25),U25+U24+U23+U22+U21+U20+U19+U17+U16+U15+U14+U13,"") -> 12235019 | AA25: =F25+N25+U25 -> 83365908 | AB25: =IF(ISNUMBER(AA25),(AA25-AA12)/AA12,"") -> -0.0062765133 | AC25: =IF(ISNUMBER(AA25),AC24+AA25,"") -> 5.2935097e+08 | AD25: =IF(ISNUMBER(AA25),(AC25-AC12)/AC12,"") -> -0.010726641 | AE25: =IF(ISNUMBER(AA25),AA25+AA24+AA23+AA22+AA21+AA20+AA19+AA17+AA16+AA15+AA14+AA13,"") -> 9.2091877e+08
B26: 2017 | C26: august | D26: 27441543 | E26: 2861993.6 | F26: =IF((D26+E26)>0,D26+E26,"") -> 30303537 | G26: =IF(ISNUMBER(F26),(F26-F13)/F13,"") -> -0.0059031009 | H26: =IF(ISNUMBER(F26),F26+H25,"") -> 2.1371264e+08 | I26: =IF(ISNUMBER(H26),(H26-H13)/H13,"") -> -0.019085067 | J26: =IF(ISNUMBER(F26),F26+F25+F24+F23+F22+F21+F20+F19+F17+F16+F15+F14,"") -> 3.1721209e+08 | L26: 51904765 | M26: 2114054 | N26: =IF((L26+M26)>0,L26+M26,"") -> 54018819 | O26: =IF(ISNUMBER(N26),(N26-N13)/N13,"") -> 0.0027417808 | P26: =IF(ISNUMBER(N26),P25+N26,"") -> 3.9260806e+08 | Q26: =IF(ISNUMBER(N26),(P26-P13)/P13,"") -> -0.006534965 | R26: =IF(ISNUMBER(N26),N26+N25+N24+N23+N22+N21+N20+N19+N17+N16+N15+N14,"") -> 5.9143942e+08 | T26: 634428.51 | U26: =IF(ISNUMBER(T26),T26/$U$4,"") -> 1170532.3 | V26: =IF(ISNUMBER(U26),(U26-U13)/U13,"") -> 0.06134765 | W26: =IF(ISNUMBER(U26),W25+U26,"") -> 8523162.1 | X26: =IF(ISNUMBER(U26),(W26-W13)/W13,"") -> 0.13841924 | Y26: =IF(ISNUMBER(U26),U26+U25+U24+U23+U22+U21+U20+U19+U17+U16+U15+U14,"") -> 12302678 | AA26: =F26+N26+U26 -> 85492888 | AB26: =IF(ISNUMBER(AA26),(AA26-AA13)/AA13,"") -> 0.00041440978 | AC26: =IF(ISNUMBER(AA26),AC25+AA26,"") -> 6.1484386e+08 | AD26: =IF(ISNUMBER(AA26),(AC26-AC13)/AC13,"") -> -0.0091923749 | AE26: =IF(ISNUMBER(AA26),AA26+AA25+AA24+AA23+AA22+AA21+AA20+AA19+AA17+AA16+AA15+AA14,"") -> 9.2095418e+08
B27: 2017 | C27: september | D27: 24417683 | E27: 2441342.5 | F27: =IF((D27+E27)>0,D27+E27,"") -> 26859025 | G27: =IF(ISNUMBER(F27),(F27-F14)/F14,"") -> -0.047459709 | H27: =IF(ISNUMBER(F27),F27+H26,"") -> 2.4057166e+08 | I27: =IF(ISNUMBER(H27),(H27-H14)/H14,"") -> -0.022336555 | J27: =IF(ISNUMBER(F27),F27+F26+F25+F24+F23+F22+F21+F20+F19+F17+F16+F15,"") -> 3.1587385e+08 | L27: 48688798 | M27: 2260055.6 | N27: =IF((L27+M27)>0,L27+M27,"") -> 50948854 | O27: =IF(ISNUMBER(N27),(N27-N14)/N14,"") -> -0.038111218 | P27: =IF(ISNUMBER(N27),P26+N27,"") -> 4.4355691e+08 | Q27: =IF(ISNUMBER(N27),(P27-P14)/P14,"") -> -0.010266941 | R27: =IF(ISNUMBER(N27),N27+N26+N25+N24+N23+N22+N21+N20+N19+N17+N16+N15,"") -> 5.8942076e+08 | T27: 554772.16 | U27: =IF(ISNUMBER(T27),T27/$U$4,"") -> 1023564.9 | V27: =IF(ISNUMBER(U27),(U27-U14)/U14,"") -> 0.03042528 | W27: =IF(ISNUMBER(U27),W26+U27,"") -> 9546727 | X27: =IF(ISNUMBER(U27),(W27-W14)/W14,"") -> 0.12576916 | Y27: =IF(ISNUMBER(U27),U27+U26+U25+U24+U23+U22+U21+U20+U19+U17+U16+U15,"") -> 12332900 | AA27: =F27+N27+U27 -> 78831444 | AB27: =IF(ISNUMBER(AA27),(AA27-AA14)/AA14,"") -> -0.04049104 | AC27: =IF(ISNUMBER(AA27),AC26+AA27,"") -> 6.936753e+08 | AD27: =IF(ISNUMBER(AA27),(AC27-AC14)/AC14,"") -> -0.012851712 | AE27: =IF(ISNUMBER(AA27),AA27+AA26+AA25+AA24+AA23+AA22+AA21+AA20+AA19+AA17+AA16+AA15,"") -> 9.1762752e+08
B28: 2017 | C28: oktoober | D28: 23549534 | E28: 2312181 | F28: =IF((D28+E28)>0,D28+E28,"") -> 25861715 | G28: =IF(ISNUMBER(F28),(F28-F15)/F15,"") -> -0.019485589 | H28: =IF(ISNUMBER(F28),F28+H27,"") -> 2.6643338e+08 | I28: =IF(ISNUMBER(H28),(H28-H15)/H15,"") -> -0.022060549 | J28: =IF(ISNUMBER(F28),F28+F27+F26+F25+F24+F23+F22+F21+F20+F19+F17+F16,"") -> 3.1535991e+08 | L28: 48789311 | M28: 1724078 | N28: =IF((L28+M28)>0,L28+M28,"") -> 50513389 | O28: =IF(ISNUMBER(N28),(N28-N15)/N15,"") -> -0.017991611 | P28: =IF(ISNUMBER(N28),P27+N28,"") -> 4.940703e+08 | Q28: =IF(ISNUMBER(N28),(P28-P15)/P15,"") -> -0.011062279 | R28: =IF(ISNUMBER(N28),N28+N27+N26+N25+N24+N23+N22+N21+N20+N19+N17+N16,"") -> 5.8849529e+08 | T28: 542959 | U28: =IF(ISNUMBER(T28),T28/$U$4,"") -> 1001769.4 | V28: =IF(ISNUMBER(U28),(U28-U15)/U15,"") -> -0.00081223202 | W28: =IF(ISNUMBER(U28),W27+U28,"") -> 10548496 | X28: =IF(ISNUMBER(U28),(W28-W15)/W15,"") -> 0.1123861 | Y28: =IF(ISNUMBER(U28),U28+U27+U26+U25+U24+U23+U22+U21+U20+U19+U17+U16,"") -> 12332086 | AA28: =F28+N28+U28 -> 77376873 | AB28: =IF(ISNUMBER(AA28),(AA28-AA15)/AA15,"") -> -0.018273033 | AC28: =IF(ISNUMBER(AA28),AC27+AA28,"") -> 7.7105217e+08 | AD28: =IF(ISNUMBER(AA28),(AC28-AC15)/AC15,"") -> -0.013398456 | AE28: =IF(ISNUMBER(AA28),AA28+AA27+AA26+AA25+AA24+AA23+AA22+AA21+AA20+AA19+AA17+AA16,"") -> 9.1618729e+08
B29: 2017 | C29: november | D29: 21575795 | E29: 2024800 | F29: =IF((D29+E29)>0,D29+E29,"") -> 23600595 | G29: =IF(ISNUMBER(F29),(F29-F16)/F16,"") -> -0.018480268 | H29: =IF(ISNUMBER(F29),F29+H28,"") -> 2.9003397e+08 | I29: =IF(ISNUMBER(H29),(H29-H16)/H16,"") -> -0.021770192 | J29: =IF(ISNUMBER(F29),F29+F28+F27+F26+F25+F24+F23+F22+F21+F20+F19+F17,"") -> 3.1491555e+08 | L29: 45816394 | M29: 1445878 | N29: =IF((L29+M29)>0,L29+M29,"") -> 47262272 | O29: =IF(ISNUMBER(N29),(N29-N16)/N16,"") -> -0.041258159 | P29: =IF(ISNUMBER(N29),P28+N29,"") -> 5.4133257e+08 | Q29: =IF(ISNUMBER(N29),(P29-P16)/P16,"") -> -0.013774173 | R29: =IF(ISNUMBER(N29),N29+N28+N27+N26+N25+N24+N23+N22+N21+N20+N19+N17,"") -> 5.8646143e+08 | T29: 518948 | U29: =IF(ISNUMBER(T29),T29/$U$4,"") -> 957468.63 | V29: =IF(ISNUMBER(U29),(U29-U16)/U16,"") -> 0.076639682 | W29: =IF(ISNUMBER(U29),W28+U29,"") -> 11505965 | X29: =IF(ISNUMBER(U29),(W29-W16)/W16,"") -> 0.10932117 | Y29: =IF(ISNUMBER(U29),U29+U28+U27+U26+U25+U24+U23+U22+U21+U20+U19+U17,"") -> 12400243 | AA29: =F29+N29+U29 -> 71820336 | AB29: =IF(ISNUMBER(AA29),(AA29-AA16)/AA16,"") -> -0.032467404 | AC29: =IF(ISNUMBER(AA29),AC28+AA29,"") -> 8.4287251e+08 | AD29: =IF(ISNUMBER(AA29),(AC29-AC16)/AC16,"") -> -0.015052548 | AE29: =IF(ISNUMBER(AA29),AA29+AA28+AA27+AA26+AA25+AA24+AA23+AA22+AA21+AA20+AA19+AA17,"") -> 9.1377722e+08
B30: 2017 | C30: detsember | D30: 23459387 | E30: 2224260 | F30: =IF((D30+E30)>0,D30+E30,"") -> 25683647 | G30: =IF(ISNUMBER(F30),(F30-F17)/F17,"") -> 0.032235455 | H30: =IF(ISNUMBER(F30),F30+H29,"") -> 3.1571762e+08 | I30: =IF(ISNUMBER(H30),(H30-H17)/H17,"") -> -0.01758889 | J30: =IF(ISNUMBER(F30),F30+F29+F28+F27+F26+F25+F24+F23+F22+F21+F20+F19,"") -> 3.1571762e+08 | K30: =IF(ISNUMBER(J30),(J30-J17)/J17,"") -> -0.01758889 | L30: 43878060 | M30: 1439231 | N30: =IF((L30+M30)>0,L30+M30,"") -> 45317291 | O30: =IF(ISNUMBER(N30),(N30-N17)/N17,"") -> 0.0041755444 | P30: =IF(ISNUMBER(N30),P29+N30,"") -> 5.8664986e+08 | Q30: =IF(ISNUMBER(N30),(P30-P17)/P17,"") -> -0.012410503 | R30: =IF(ISNUMBER(N30),N30+N29+N28+N27+N26+N25+N24+N23+N22+N21+N20+N19,"") -> 5.8664986e+08 | S30: =IF(ISNUMBER(R30),(R30-R17)/R17,"") -> -0.012410503 | T30: 545213 | U30: =IF(ISNUMBER(T30),T30/$U$4,"") -> 1005928 | V30: =IF(ISNUMBER(U30),(U30-U17)/U17,"") -> 0.12484989 | W30: =IF(ISNUMBER(U30),W29+U30,"") -> 12511893 | X30: =IF(ISNUMBER(U30),(W30-W17)/W17,"") -> 0.11055377 | Y30: =IF(ISNUMBER(U30),U30+U29+U28+U27+U26+U25+U24+U23+U21+U20+U19+U19,"") -> 12391058 | Z30: =IF(ISNUMBER(Y30),(Y30-Y17)/Y17,"") -> 0.099828507 | AA30: =F30+N30+U30 -> 72006866 | AB30: =IF(ISNUMBER(AA30),(AA30-AA17)/AA17,"") -> 0.0155442 | AC30: =IF(ISNUMBER(AA30),AC29+AA30,"") -> 9.1487938e+08 | AD30: =IF(ISNUMBER(AA30),(AC30-AC17)/AC17,"") -> -0.01271139 | AE30: =IF(ISNUMBER(AA30),AA30+AA29+AA28+AA27+AA26+AA25+AA24+AA23+AA22+AA21+AA20+AA19,"") -> 9.1487938e+08 | AF30: =IF(ISNUMBER(AE30),(AE30-AE17)/AE17,"") -> -0.01271139
B31: 2017 | C31: KOKKU | D31: =SUM(D19:D30) -> 2.8695741e+08 | E31: =SUM(E19:E30) -> 28760211 | F31: =SUM(F19:F30) -> 3.1571762e+08 | L31: =SUM(L19:L30) -> 5.6528806e+08 | M31: =SUM(M19:M30) -> 21361805 | N31: =SUM(N19:N30) -> 5.8664986e+08 | T31: =SUM(T19:T30) -> 6781446 | U31: =SUM(U19:U30) -> 12511893 | AA31: =F31+N31+U31 -> 9.1487938e+08
B32: 2018 | C32: jaanuar | D32: 20010790 | E32: 1834406 | F32: =IF((D32+E32)>0,D32+E32,"") -> 21845196 | G32: =IF(ISNUMBER(F32),(F32-F19)/F19,"") -> -0.07417719 | H32: =IF(F32>0,F32,"") -> 21845196 | I32: =IF(ISNUMBER(H32),(H32-H19)/H19,"") -> -0.07417719 | J32: =IF(ISNUMBER(F32),F32+F30+F29+F28+F27+F26+F25+F24+F23+F22+F21+F20,"") -> 3.1396738e+08 | K32: =IF(ISNUMBER(J32),(J32-J19)/J19,"") -> -0.015230534 | L32: 43988829 | M32: 1346888 | N32: =IF((L32+M32)>0,L32+M32,"") -> 45335717 | O32: =IF(ISNUMBER(N32),(N32-N19)/N19,"") -> -0.024103298 | P32: =N32 -> 45335717 | Q32: =IF(ISNUMBER(N32),(P32-P19)/P19,"") -> -0.024103298 | R32: =IF(ISNUMBER(N32),N32+N30+N29+N28+N27+N26+N25+N24+N23+N22+N21+N20,"") -> 5.8553013e+08 | S32: =IF(ISNUMBER(R32),(R32-R19)/R19,"") -> -0.0022178426 | T32: 553866 | U32: =IF(ISNUMBER(T32),T32/$U$4,"") -> 1021893 | V32: =IF(ISNUMBER(U32),(U32-U19)/U19,"") -> 0.18634105 | W32: =IF(ISNUMBER(U32),W31+U32,"") -> 1021893 | X32: =IF(ISNUMBER(U32),(W32-W19)/W19,"") -> 0.18634105 | Y32: =IF(ISNUMBER(U32),U32+U30+U29+U28+U27+U26+U25+U24+U23+U22+U21+U20,"") -> 12672404 | Z32: =IF(ISNUMBER(Y32),(Y32-Y19)/Y19,"") -> 0.12185205 | AA32: =F32+N32+U32 -> 68202806 | AB32: =IF(ISNUMBER(AA32),(AA32-AA19)/AA19,"") -> -0.03820865 | AC32: =IF(ISNUMBER(AA32),AA32,"") -> 68202806 | AD32: =IF(ISNUMBER(AA32),(AC32-AC19)/AC19,"") -> -0.03820865 | AE32: =IF(ISNUMBER(AA32),AA32+AA30+AA29+AA28+AA27+AA26+AA25+AA24+AA23+AA22+AA21+AA20,"") -> 9.1216991e+08 | AF32: =IF(ISNUMBER(AE32),(AE32-AE19)/AE19,"") -> -0.0052139235
B33: 2018 | C33: veebruar | D33: 19973599 | E33: 1864296 | F33: =IF((D33+E33)>0,D33+E33,"") -> 21837895 | G33: =IF(ISNUMBER(F33),(F33-F20)/F20,"") -> 0.026922025 | H33: =IF(ISNUMBER(F33),F33+H32,"") -> 43683091 | I33: =IF(ISNUMBER(H33),(H33-H20)/H20,"") -> -0.026253107 | J33: =IF(ISNUMBER(F33),F33+F32+F30+F29+F28+F27+F26+F25+F24+F23+F22+F21,"") -> 3.1453988e+08 | K33: =IF(ISNUMBER(J33),(J33-J20)/J20,"") -> -0.016118875 | L33: 42836574 | M33: 1435411 | N33: =IF((L33+M33)>0,L33+M33,"") -> 44271985 | O33: =IF(ISNUMBER(N33),(N33-N20)/N20,"") -> 0.037942312 | P33: =IF(ISNUMBER(N33),P32+N33,"") -> 89607702 | Q33: =IF(ISNUMBER(N33),(P33-P20)/P20,"") -> 0.005595919 | R33: =IF(ISNUMBER(N33),N33+N32+N30+N29+N28+N27+N26+N25+N24+N23+N22+N21,"") -> 5.8714851e+08 | S33: =IF(ISNUMBER(R33),(R33-R20)/R20,"") -> 0.0041770021 | T33: 513474 | U33: =IF(ISNUMBER(T33),T33/$U$4,"") -> 947369 | V33: =IF(ISNUMBER(U33),(U33-U20)/U20,"") -> 0.16347727 | W33: =IF(ISNUMBER(U33),W32+U33,"") -> 1969262 | X33: =IF(ISNUMBER(U33),(W33-W20)/W20,"") -> 0.17523067 | Y33: =IF(ISNUMBER(U33),U33+U32+U30+U29+U28+U27+U26+U25+U24+U23+U22+U21,"") -> 12805516 | Z33: =IF(ISNUMBER(Y33),(Y33-Y20)/Y20,"") -> 0.12804184 | AA33: =F33+N33+U33 -> 67057249 | AB33: =IF(ISNUMBER(AA33),(AA33-AA20)/AA20,"") -> 0.03590112 | AC33: =IF(ISNUMBER(AA33),AC32+AA33,"") -> 1.3526005e+08 | AD33: =IF(ISNUMBER(AA33),(AC33-AC20)/AC20,"") -> -0.0028417139 | AE33: =IF(ISNUMBER(AA33),AA33+AA32+AA30+AA29+AA28+AA27+AA26+AA25+AA24+AA23+AA22+AA21,"") -> 9.1449391e+08 | AF33: =IF(ISNUMBER(AE33),(AE33-AE20)/AE20,"") -> -0.0013729089
B34: 2018 | C34: märts | D34: 21752473 | E34: 2015880 | F34: =IF((D34+E34)>0,D34+E34,"") -> 23768353 | G34: =IF(ISNUMBER(F34),(F34-F21)/F21,"") -> -0.015038378 | H34: =IF(ISNUMBER(F34),F34+H33,"") -> 67451444 | I34: =IF(ISNUMBER(H34),(H34-H21)/H21,"") -> -0.022330549 | J34: =IF(ISNUMBER(F34),F34+F33+F32+F30+F29+F28+F27+F26+F25+F24+F23+F22,"") -> 3.1417699e+08 | K34: =IF(ISNUMBER(J34),(J34-J21)/J21,"") -> -0.016642352 | L34: 46031366 | M34: 1471193 | N34: =IF((L34+M34)>0,L34+M34,"") -> 47502559 | O34: =IF(ISNUMBER(N34),(N34-N21)/N21,"") -> -0.032960114 | P34: =IF(ISNUMBER(N34),P33+N34,"") -> 137110261 | Q34: =IF(ISNUMBER(N34),(P34-P21)/P21,"") -> -0.0081053427 | R34: =IF(ISNUMBER(N34),N34+N33+N32+N30+N29+N28+N27+N26+N25+N24+N23+N22,"") -> 5.8552946e+08 | S34: =IF(ISNUMBER(R34),(R34-R21)/R21,"") -> -0.00037072049 | T34: 582860 | U34: =IF(ISNUMBER(T34),T34/$U$4,"") -> 1075387.5 | V34: =IF(ISNUMBER(U34),(U34-U21)/U21,"") -> 0.081689896 | W34: =IF(ISNUMBER(U34),W33+U34,"") -> 3044649.4 | X34: =IF(ISNUMBER(U34),(W34-W21)/W21,"") -> 0.14039835 | Y34: =IF(ISNUMBER(U34),U34+U33+U32+U30+U29+U28+U27+U26+U25+U24+U23+U22,"") -> 12886730 | Z34: =IF(ISNUMBER(Y34),(Y34-Y21)/Y21,"") -> 0.12080135 | AA34: =F34+N34+U34 -> 72346299 | AB34: =IF(ISNUMBER(AA34),(AA34-AA21)/AA21,"") -> -0.025600145 | AC34: =IF(ISNUMBER(AA34),AC33+AA34,"") -> 2.0760635e+08 | AD34: =IF(ISNUMBER(AA34),(AC34-AC21)/AC21,"") -> -0.010892243 | AE34: =IF(ISNUMBER(AA34),AA34+AA33+AA32+AA30+AA29+AA28+AA27+AA26+AA25+AA24+AA23+AA22,"") -> 9.1259318e+08 | AF34: =IF(ISNUMBER(AE34),(AE34-AE21)/AE21,"") -> -0.0045218285
B35: 2018 | C35: aprill | D35: 22050831 | E35: 2040480 | F35: =IF((D35+E35)>0,D35+E35,"") -> 24091311 | G35: =IF(ISNUMBER(F35),(F35-F22)/F22,"") -> -0.039700519 | H35: =IF(ISNUMBER(F35),F35+H34,"") -> 91542755 | I35: =IF(ISNUMBER(H35),(H35-H22)/H22,"") -> -0.026962441 | J35: =IF(ISNUMBER(F35),F35+F34+F33+F32+F30+F29+F28+F27+F26+F25+F24+F23,"") -> 3.1318101e+08 | K35: =IF(ISNUMBER(J35),(J35-J22)/J22,"") -> -0.01875242 | L35: 44693712 | M35: 1379542 | N35: =IF((L35+M35)>0,L35+M35,"") -> 46073254 | O35: =IF(ISNUMBER(N35),(N35-N22)/N22,"") -> -0.025238838 | P35: =IF(ISNUMBER(N35),P34+N35,"") -> 183183515 | Q35: =IF(ISNUMBER(N35),(P35-P22)/P22,"") -> -0.012471105 | R35: =IF(ISNUMBER(N35),N35+N34+N33+N32+N30+N29+N28+N27+N26+N25+N24+N23,"") -> 5.8433651e+08 | S35: =IF(ISNUMBER(R35),(R35-R22)/R22,"") -> -0.0035742449 | T35: 571282 | U35: =IF(ISNUMBER(T35),T35/$U$4,"") -> 1054025.8 | V35: =IF(ISNUMBER(U35),(U35-U22)/U22,"") -> 0.073109156 | W35: =IF(ISNUMBER(U35),W34+U35,"") -> 4098675.3 | X35: =IF(ISNUMBER(U35),(W35-W22)/W22,"") -> 0.12230085 | Y35: =IF(ISNUMBER(U35),U35+U34+U33+U32+U30+U29+U28+U27+U26+U25+U24+U23,"") -> 12958539 | Z35: =IF(ISNUMBER(Y35),(Y35-Y22)/Y22,"") -> 0.1176199 | AA35: =F35+N35+U35 -> 71218591 | AB35: =IF(ISNUMBER(AA35),(AA35-AA22)/AA22,"") -> -0.028868794 | AC35: =IF(ISNUMBER(AA35),AC34+AA35,"") -> 2.7882495e+08 | AD35: =IF(ISNUMBER(AA35),(AC35-AC22)/AC22,"") -> -0.015546874 | AE35: =IF(ISNUMBER(AA35),AA35+AA34+AA33+AA32+AA30+AA29+AA28+AA27+AA26+AA25+AA24+AA23,"") -> 9.1047606e+08 | AF35: =IF(ISNUMBER(AE35),(AE35-AE22)/AE22,"") -> -0.0073238815
B36: 2018 | C36: mai | D36: 25140509 | E36: 3566990 | F36: =IF((D36+E36)>0,D36+E36,"") -> 28707499 | G36: =IF(ISNUMBER(F36),(F36-F23)/F23,"") -> 0.004255365 | H36: =IF(ISNUMBER(F36),F36+H35,"") -> 120250254 | I36: =IF(ISNUMBER(H36),(H36-H23)/H23,"") -> -0.019687456 | J36: =IF(ISNUMBER(F36),F36+F35+F34+F33+F32+F30+F29+F28+F27+F26+F25+F24,"") -> 3.1330265e+08 | K36: =IF(ISNUMBER(J36),(J36-J23)/J23,"") -> -0.01568616 | L36: 50956447 | M36: 2087387 | N36: =IF((L36+M36)>0,L36+M36,"") -> 53043834 | O36: =IF(ISNUMBER(N36),(N36-N23)/N23,"") -> -0.001946042 | P36: =IF(ISNUMBER(N36),P35+N36,"") -> 236227349 | Q36: =IF(ISNUMBER(N36),(P36-P23)/P23,"") -> -0.01012712 | R36: =IF(ISNUMBER(N36),N36+N35+N34+N33+N32+N30+N29+N28+N27+N26+N25+N24,"") -> 5.8423309e+08 | S36: =IF(ISNUMBER(R36),(R36-R23)/R23,"") -> -0.0086759794 | T36: 710230 | U36: =IF(ISNUMBER(T36),T36/$U$4,"") -> 1310387.5 | V36: =IF(ISNUMBER(U36),(U36-U23)/U23,"") -> 0.22414284 | W36: =IF(ISNUMBER(U36),W35+U36,"") -> 5409062.7 | X36: =IF(ISNUMBER(U36),(W36-W23)/W23,"") -> 0.14538555 | Y36: =IF(ISNUMBER(U36),U36+U35+U34+U33+U32+U30+U29+U28+U27+U26+U25+U24,"") -> 13198474 | Z36: =IF(ISNUMBER(Y36),(Y36-Y23)/Y23,"") -> 0.12984202 | AA36: =F36+N36+U36 -> 83061720 | AB36: =IF(ISNUMBER(AA36),(AA36-AA23)/AA23,"") -> 0.0031176294 | AC36: =IF(ISNUMBER(AA36),AC35+AA36,"") -> 3.6188667e+08 | AD36: =IF(ISNUMBER(AA36),(AC36-AC23)/AC23,"") -> -0.011324597 | AE36: =IF(ISNUMBER(AA36),AA36+AA35+AA34+AA33+AA32+AA30+AA29+AA28+AA27+AA26+AA25+AA24,"") -> 9.1073421e+08 | AF36: =IF(ISNUMBER(AE36),(AE36-AE23)/AE23,"") -> -0.0093429737
B37: 2018 | C37: juuni | D37: 24150945 | E37: 3965350 | F37: =IF((D37+E37)>0,D37+E37,"") -> 28116295 | G37: =IF(ISNUMBER(F37),(F37-F24)/F24,"") -> -0.053355223 | H37: =IF(ISNUMBER(F37),F37+H36,"") -> 148366549 | I37: =IF(ISNUMBER(H37),(H37-H24)/H24,"") -> -0.026250369 | J37: =IF(ISNUMBER(F37),F37+F36+F35+F34+F33+F32+F30+F29+F28+F27+F26+F25,"") -> 3.1171795e+08 | K37: =IF(ISNUMBER(J37),(J37-J24)/J24,"") -> -0.021830151 | L37: 50642518 | M37: 1669437 | N37: =IF((L37+M37)>0,L37+M37,"") -> 52311955 | O37: =IF(ISNUMBER(N37),(N37-N24)/N24,"") -> 0.06485052 | P37: =IF(ISNUMBER(N37),P36+N37,"") -> 288539304 | Q37: =IF(ISNUMBER(N37),(P37-P24)/P24,"") -> 0.0026725335 | R37: =IF(ISNUMBER(N37),N37+N36+N35+N34+N33+N32+N30+N29+N28+N27+N26+N25,"") -> 5.8741894e+08 | S37: =IF(ISNUMBER(R37),(R37-R24)/R24,"") -> -0.0060060009 | T37: 591204 | U37: =IF(ISNUMBER(T37),T37/$U$4,"") -> 1090782.3 | V37: =IF(ISNUMBER(U37),(U37-U24)/U24,"") -> -0.031390406 | W37: =IF(ISNUMBER(U37),W36+U37,"") -> 6499845 | X37: =IF(ISNUMBER(U37),(W37-W24)/W24,"") -> 0.1113479 | Y37: =IF(ISNUMBER(U37),U37+U36+U35+U34+U33+U32+U30+U29+U28+U27+U26+U25,"") -> 13163124 | Z37: =IF(ISNUMBER(Y37),(Y37-Y24)/Y24,"") -> 0.11529603 | AA37: =F37+N37+U37 -> 81519032 | AB37: =IF(ISNUMBER(AA37),(AA37-AA24)/AA24,"") -> 0.01958395 | AC37: =IF(ISNUMBER(AA37),AC36+AA37,"") -> 4.434057e+08 | AD37: =IF(ISNUMBER(AA37),(AC37-AC24)/AC24,"") -> -0.0057835188 | AE37: =IF(ISNUMBER(AA37),AA37+AA36+AA35+AA34+AA33+AA32+AA30+AA29+AA28+AA27+AA26+AA25,"") -> 9.1230001e+08 | AF37: =IF(ISNUMBER(AE37),(AE37-AE24)/AE24,"") -> -0.0099249591
B38: 2018 | C38: juuli | D38: 25249189 | E38: 4534245 | F38: =IF((D38+E38)>0,D38+E38,"") -> 29783434 | G38: =IF(ISNUMBER(F38),(F38-F25)/F25,"") -> -0.040571229 | H38: =IF(ISNUMBER(F38),F38+H37,"") -> 178149983 | I38: =IF(ISNUMBER(H38),(H38-H25)/H25,"") -> -0.028674244 | J38: =IF(ISNUMBER(F38),F38+F37+F36+F35+F34+F33+F32+F30+F29+F28+F27+F26,"") -> 3.104585e+08 | K38: =IF(ISNUMBER(J38),(J38-J25)/J25,"") -> -0.021845323 | L38: 52065410 | M38: 1636212 | N38: =IF((L38+M38)>0,L38+M38,"") -> 53701622 | O38: =IF(ISNUMBER(N38),(N38-N25)/N25,"") -> 0.056723098 | P38: =IF(ISNUMBER(N38),P37+N38,"") -> 342240926 | Q38: =IF(ISNUMBER(N38),(P38-P25)/P25,"") -> 0.010785007 | R38: =IF(ISNUMBER(N38),N38+N37+N36+N35+N34+N33+N32+N30+N29+N28+N27+N26,"") -> 5.9030155e+08 | S38: =IF(ISNUMBER(R38),(R38-R25)/R25,"") -> -0.0016745788 | T38: 573920 | U38: =IF(ISNUMBER(T38),T38/$U$4,"") -> 1058893 | V38: =IF(ISNUMBER(U38),(U38-U25)/U25,"") -> -0.29595616 | W38: =IF(ISNUMBER(U38),W37+U38,"") -> 7558738 | X38: =IF(ISNUMBER(U38),(W38-W25)/W25,"") -> 0.028031904 | Y38: =IF(ISNUMBER(U38),U38+U37+U36+U35+U34+U33+U32+U30+U29+U28+U27+U26,"") -> 12718001 | Z38: =IF(ISNUMBER(Y38),(Y38-Y25)/Y25,"") -> 0.039475406 | AA38: =F38+N38+U38 -> 84543949 | AB38: =IF(ISNUMBER(AA38),(AA38-AA25)/AA25,"") -> 0.01413097 | AC38: =IF(ISNUMBER(AA38),AC37+AA38,"") -> 5.2794965e+08 | AD38: =IF(ISNUMBER(AA38),(AC38-AC25)/AC25,"") -> -0.0026472453 | AE38: =IF(ISNUMBER(AA38),AA38+AA37+AA36+AA35+AA34+AA33+AA32+AA30+AA29+AA28+AA27+AA26,"") -> 9.1347805e+08 | AF38: =IF(ISNUMBER(AE38),(AE38-AE25)/AE25,"") -> -0.0080796636
B39: 2018 | C39: august | D39: 23964286 | E39: 4456754 | F39: =IF((D39+E39)>0,D39+E39,"") -> 28421040 | G39: =IF(ISNUMBER(F39),(F39-F26)/F26,"") -> -0.062121356 | H39: =IF(ISNUMBER(F39),F39+H38,"") -> 206571023 | I39: =IF(ISNUMBER(H39),(H39-H26)/H26,"") -> -0.033416902 | J39: =IF(ISNUMBER(F39),F39+F38+F37+F36+F35+F34+F33+F32+F30+F29+F28+F27,"") -> 3.0857601e+08 | K39: =IF(ISNUMBER(J39),(J39-J26)/J26,"") -> -0.027224944 | L39: 55042284 | M39: 2097143 | N39: =IF((L39+M39)>0,L39+M39,"") -> 57139427 | O39: =IF(ISNUMBER(N39),(N39-N26)/N26,"") -> 0.057768907 | P39: =IF(ISNUMBER(N39),P38+N39,"") -> 399380353 | Q39: =IF(ISNUMBER(N39),(P39-P26)/P26,"") -> 0.017249507 | R39: =IF(ISNUMBER(N39),N39+N38+N37+N36+N35+N34+N33+N32+N30+N29+N28+N27,"") -> 5.9342216e+08 | S39: =IF(ISNUMBER(R39),(R39-R26)/R26,"") -> 0.0033523987 | T39: 866025 | U39: =IF(ISNUMBER(T39),T39/$U$4,"") -> 1597832.1 | V39: =IF(ISNUMBER(U39),(U39-U26)/U26,"") -> 0.36504743 | W39: =IF(ISNUMBER(U39),W38+U39,"") -> 9156570.1 | X39: =IF(ISNUMBER(U39),(W39-W26)/W26,"") -> 0.074316082 | Y39: =IF(ISNUMBER(U39),U39+U38+U37+U36+U35+U34+U33+U32+U30+U29+U28+U27,"") -> 13145301 | Z39: =IF(ISNUMBER(Y39),(Y39-Y26)/Y26,"") -> 0.068491061 | AA39: =F39+N39+U39 -> 87158299 | AB39: =IF(ISNUMBER(AA39),(AA39-AA26)/AA26,"") -> 0.019480113 | AC39: =IF(ISNUMBER(AA39),AC38+AA39,"") -> 6.1510795e+08 | AD39: =IF(ISNUMBER(AA39),(AC39-AC26)/AC26,"") -> 0.0004295225 | AE39: =IF(ISNUMBER(AA39),AA39+AA38+AA37+AA36+AA35+AA34+AA33+AA32+AA30+AA29+AA28+AA27,"") -> 9.1514347e+08 | AF39: =IF(ISNUMBER(AE39),(AE39-AE26)/AE26,"") -> -0.006309453
B40: 2018 | C40: september | D40: 20717413 | E40: 4108126 | F40: =IF((D40+E40)>0,D40+E40,"") -> 24825539 | G40: =IF(ISNUMBER(F40),(F40-F27)/F27,"") -> -0.075709601 | H40: =IF(ISNUMBER(F40),F40+H39,"") -> 231396562 | I40: =IF(ISNUMBER(H40),(H40-H27)/H27,"") -> -0.038138741 | J40: =IF(ISNUMBER(F40),F40+F39+F38+F37+F36+F35+F34+F33+F32+F30+F29+F28,"") -> 306542519 | K40: =IF(ISNUMBER(J40),(J40-J27)/J27,"") -> -0.02954133 | L40: 48083593 | M40: 1248510 | N40: =IF((L40+M40)>0,L40+M40,"") -> 49332103 | O40: =IF(ISNUMBER(N40),(N40-N27)/N27,"") -> -0.031732826 | P40: =IF(ISNUMBER(N40),P39+N40,"") -> 448712456 | Q40: =IF(ISNUMBER(N40),(P40-P27)/P27,"") -> 0.011623186 | R40: =IF(ISNUMBER(N40),N40+N39+N38+N37+N36+N35+N34+N33+N32+N30+N29+N28,"") -> 591805408 | S40: =IF(ISNUMBER(R40),(R40-R27)/R27,"") -> 0.0040457448 | T40: 625555 | U40: =IF(ISNUMBER(T40),T40/$U$4,"") -> 1154160.5 | V40: =IF(ISNUMBER(U40),(U40-U27)/U27,"") -> 0.12758903 | W40: =IF(ISNUMBER(U40),W39+U40,"") -> 10310731 | X40: =IF(ISNUMBER(U40),(W40-W27)/W27,"") -> 0.080027811 | Y40: =IF(ISNUMBER(U40),U40+U39+U38+U37+U36+U35+U34+U33+U32+U30+U29+U28,"") -> 13275897 | Z40: =IF(ISNUMBER(Y40),(Y40-Y27)/Y27,"") -> 0.07646185 | AA40: =F40+N40+U40 -> 75311803 | AB40: =IF(ISNUMBER(AA40),(AA40-AA27)/AA27,"") -> -0.044647686 | AC40: =IF(ISNUMBER(AA40),AC39+AA40,"") -> 6.9041975e+08 | AD40: =IF(ISNUMBER(AA40),(AC40-AC27)/AC27,"") -> -0.0046931933 | AE40: =IF(ISNUMBER(AA40),AA40+AA39+AA38+AA37+AA36+AA35+AA34+AA33+AA32+AA30+AA29+AA28,"") -> 9.1162382e+08 | AF40: =IF(ISNUMBER(AE40),(AE40-AE27)/AE27,"") -> -0.0065426235
B41: 2018 | C41: oktoober | D41: 20557177 | E41: 3719947 | F41: =IF((D41+E41)>0,D41+E41,"") -> 24277124 | G41: =IF(ISNUMBER(F41),(F41-F28)/F28,"") -> -0.061271691 | H41: =IF(ISNUMBER(F41),F41+H40,"") -> 255673686 | I41: =IF(ISNUMBER(H41),(H41-H28)/H28,"") -> -0.040384172 | J41: =IF(ISNUMBER(F41),F41+F40+F39+F38+F37+F36+F35+F34+F33+F32+F30+F29,"") -> 304957928 | K41: =IF(ISNUMBER(J41),(J41-J28)/J28,"") -> -0.03298447 | L41: 50835293 | M41: 1205064 | N41: =IF((L41+M41)>0,L41+M41,"") -> 52040357 | O41: =IF(ISNUMBER(N41),(N41-N28)/N28,"") -> 0.030228976 | P41: =IF(ISNUMBER(N41),P40+N41,"") -> 500752813 | Q41: =IF(ISNUMBER(N41),(P41-P28)/P28,"") -> 0.013525428 | R41: =IF(ISNUMBER(N41),N41+N40+N39+N38+N37+N36+N35+N34+N33+N32+N30+N29,"") -> 593332376 | S41: =IF(ISNUMBER(R41),(R41-R28)/R28,"") -> 0.0082194062 | T41: 631999 | U41: =IF(ISNUMBER(T41),T41/$U$4,"") -> 1166049.8 | V41: =IF(ISNUMBER(U41),(U41-U28)/U28,"") -> 0.16399028 | W41: =IF(ISNUMBER(U41),W40+U41,"") -> 11476780 | X41: =IF(ISNUMBER(U41),(W41-W28)/W28,"") -> 0.088001557 | Y41: =IF(ISNUMBER(U41),U41+U40+U39+U38+U37+U36+U35+U34+U33+U32+U30+U29,"") -> 13440177 | Z41: =IF(ISNUMBER(Y41),(Y41-Y28)/Y28,"") -> 0.089854316 | AA41: =F41+N41+U41 -> 77483531 | AB41: =IF(ISNUMBER(AA41),(AA41-AA28)/AA28,"") -> 0.001378415 | AC41: =IF(ISNUMBER(AA41),AC40+AA41,"") -> 7.6790328e+08 | AD41: =IF(ISNUMBER(AA41),(AC41-AC28)/AC28,"") -> -0.0040838933 | AE41: =IF(ISNUMBER(AA41),AA41+AA40+AA39+AA38+AA37+AA36+AA35+AA34+AA33+AA32+AA30+AA29,"") -> 9.1173048e+08 | AF41: =IF(ISNUMBER(AE41),(AE41-AE28)/AE28,"") -> -0.0048645145
...

Sheet diislikütus_maakond
A1: maakond | B1: 2016 | N1: 2017 | Z1: 2018
B2: 1 | C2: 2 | D2: 3 | E2: 4 | F2: 5 | G2: 6 | H2: 7 | I2: 8 | J2: 9 | K2: 10 | L2: 11 | M2: 12 | N2: 1 | O2: 2 | P2: 3 | Q2: 4 | R2: 5 | S2: 6 | T2: 7 | U2: 8 | V2: 9 | W2: 10 | X2: 11 | Y2: 12 | Z2: 1 | AA2: 2 | AB2: 3 | AC2: 4 | AD2: 5 | AE2: 6 | AF2: 7 | AG2: 8 | AH2: 9 | AI2: 10 | AJ2: 11 | AK2: 12 | AL2: 2016 | AM2: 2017 | AN2: 2018
A3: HARJU MAAKOND | B3: 19543127 | C3: 15900601 | D3: 17610138 | E3: 18425659 | F3: 19522909 | G3: 18401701 | H3: 19261151 | I3: 19839739 | J3: 18984718 | K3: 20220028 | L3: 18906615 | M3: 17527751 | N3: 17789649 | O3: 15801078 | P3: 18248226 | Q3: 18240592 | R3: 20071514 | S3: 19315641 | T3: 19435710 | U3: 20288824 | V3: 19467224 | W3: 20087663 | X3: 19409271 | Y3: 18352932 | Z3: 18176413 | AA3: 17616406 | AB3: 18705964 | AC3: 19076788 | AD3: 20636824 | AE3: 21044012 | AF3: 20940756 | AG3: 23266139 | AH3: 19489960 | AI3: 20959409 | AJ3: 20932203 | AL3: =SUM(B3:M3)/AL$19 -> 0.3904107 | AM3: =SUM(N3:Y3)/AM$19 -> 0.39297007 | AN3: =SUM(Z3:AK3)/AN$19 -> 0.41174887
A4: HIIU MAAKOND | B4: 323346.12 | C4: 230385.79 | D4: 292971.56 | E4: 293190.25 | F4: 328809.87 | G4: 357055.31 | H4: 409220.45 | I4: 386656.47 | J4: 314209.25 | K4: 329042.52 | L4: 323687.5 | M4: 282767.38 | N4: 286047 | O4: 249180 | P4: 288891 | Q4: 306254 | R4: 347477 | S4: 327569 | T4: 392019 | U4: 371650 | V4: 335685 | W4: 322436 | X4: 294006 | Y4: 280897 | Z4: 319181 | AA4: 310703 | AB4: 312933 | AC4: 407492 | AD4: 792310 | AE4: 443370 | AF4: 556222 | AG4: 512553 | AH4: 422564 | AI4: 492108 | AJ4: 373921 | AL4: =SUM(B4:M4)/$AL$19 -> 0.0067430428 | AM4: =SUM(N4:Y4)/AM$19 -> 0.0065962955 | AN4: =SUM(Z4:AK4)/AN$19 -> 0.009216522
A5: IDA-VIRU MAAKOND | B5: 3066393.8 | C5: 2476344.6 | D5: 2622509.4 | E5: 2609431 | F5: 2839564.4 | G5: 2708185.4 | H5: 2841896.6 | I5: 3114125.5 | J5: 2877547.7 | K5: 2756142 | L5: 3033552.9 | M5: 2754065.4 | N5: 2831788 | O5: 2380740 | P5: 2790599 | Q5: 2696075 | R5: 3106800 | S5: 2862002 | T5: 3105291 | U5: 3337380 | V5: 3054626 | W5: 3045834 | X5: 2646332 | Y5: 2502331 | Z5: 2558623 | AA5: 2430054 | AB5: 2516814 | AC5: 2474879 | AD5: 2792065 | AE5: 2731826 | AF5: 2845193 | AG5: 2988196 | AH5: 2587321 | AI5: 2741955 | AJ5: 2653976 | AL5: =SUM(B5:M5)/$AL$19 -> 0.058697704 | AM5: =SUM(N5:Y5)/AM$19 -> 0.059610932 | AN5: =SUM(Z5:AK5)/AN$19 -> 0.054666644
A6: JARVA MAAKOND | B6: 2215506.5 | C6: 1998323.3 | D6: 2023181.4 | E6: 1922063.3 | F6: 1897034.4 | G6: 2037891.6 | H6: 2121227.9 | I6: 2295454.6 | J6: 2282797.9 | K6: 2122771.2 | L6: 2126301.7 | M6: 1951476.4 | N6: 2065544 | O6: 1815038 | P6: 2067389 | Q6: 1986342 | R6: 2387124 | S6: 2089294 | T6: 2162099 | U6: 2473484 | V6: 2340112 | W6: 2171283 | X6: 2060990 | Y6: 1920852 | Z6: 2043073 | AA6: 1965584 | AB6: 2236458 | AC6: 1989296 | AD6: 2296399 | AE6: 2297121 | AF6: 2355373 | AG6: 2485573 | AH6: 2330532 | AI6: 2454774 | AJ6: 2391842 | AL6: =SUM(B6:M6)/$AL$19 -> 0.043534205 | AM6: =SUM(N6:Y6)/AM$19 -> 0.044308655 | AN6: =SUM(Z6:AK6)/AN$19 -> 0.046323568
A7: JOGEVA MAAKOND | B7: 1692653.8 | C7: 1716286.4 | D7: 1612633.6 | E7: 1570267.8 | F7: 1766355.6 | G7: 1646805.9 | H7: 1717684.3 | I7: 1776443.3 | J7: 1759756.8 | K7: 1783498 | L7: 1714803.5 | M7: 1568366.8 | N7: 1705323 | O7: 1557664 | P7: 1641865 | Q7: 1511251 | R7: 1864322 | S7: 1744921 | T7: 1819199 | U7: 2030198 | V7: 1777261 | W7: 1710889 | X7: 1661478 | Y7: 1549977 | Z7: 1549856 | AA7: 1631756 | AB7: 1849145 | AC7: 1596021 | AD7: 1945459 | AE7: 2028980 | AF7: 2068907 | AG7: 2158168 | AH7: 1866971 | AI7: 1911426 | AJ7: 1862782 | AL7: =SUM(B7:M7)/$AL$19 -> 0.03540273 | AM7: =SUM(N7:Y7)/AM$19 -> 0.035694507 | AN7: =SUM(Z7:AK7)/AN$19 -> 0.038163808
A8: LAANE MAAKOND | B8: 851984.31 | C8: 715882.62 | D8: 837294.49 | E8: 839623.23 | F8: 985809.31 | G8: 954681.99 | H8: 1116937 | I8: 1151146.7 | J8: 1015939 | K8: 1024974.9 | L8: 986223.87 | M8: 896274.06 | N8: 914336 | O8: 802047 | P8: 896178 | Q8: 913268 | R8: 1073060 | S8: 1069686 | T8: 1220847 | U8: 1257544 | V8: 1120899 | W8: 1036676 | X8: 648217 | Y8: 607611 | Z8: 630100 | AA8: 630736 | AB8: 680955 | AC8: 661868 | AD8: 728804 | AE8: 753837 | AF8: 879679 | AG8: 808558 | AH8: 685318 | AI8: 709521 | AJ8: 698203 | AL8: =SUM(B8:M8)/$AL$19 -> 0.01981588 | AM8: =SUM(N8:Y8)/AM$19 -> 0.020056124 | AN8: =SUM(Z8:AK8)/AN$19 -> 0.014668517
A9: LAANE-VIRU MAAKOND | B9: 2638903.2 | C9: 2130632.5 | D9: 2362276.2 | E9: 2185349.1 | F9: 2456122.2 | G9: 2315733.3 | H9: 2310050.2 | I9: 2453834.7 | J9: 2340570.8 | K9: 2389948.6 | L9: 2393256.7 | M9: 2092274 | N9: 2021386 | O9: 1815515 | P9: 2384954 | Q9: 2354959 | R9: 2730704 | S9: 2455688 | T9: 2651570 | U9: 2844053 | V9: 2721500 | W9: 2665134 | X9: 2569155 | Y9: 2566310 | Z9: 4178128 | AA9: 2592627 | AB9: 2778791 | AC9: 2582045 | AD9: 2988417 | AE9: 3065755 | AF9: 3022473 | AG9: 3246724 | AH9: 2955387 | AI9: 3159355 | AJ9: 2902271 | AL9: =SUM(B9:M9)/$AL$19 -> 0.048890054 | AM9: =SUM(N9:Y9)/AM$19 -> 0.051667035 | AN9: =SUM(Z9:AK9)/AN$19 -> 0.062406008
A10: PARNU MAAKOND | B10: 6240960.1 | C10: 3854626.8 | D10: 3930807.2 | E10: 3836647.3 | F10: 3996678.3 | G10: 3755794.1 | H10: 3989484.4 | I10: 4629655.6 | J10: 6096421.9 | K10: 4100409.9 | L10: 3444192.6 | M10: 3264247.1 | N10: 3446059 | O10: 2990359 | P10: 3217374 | Q10: 3111303 | R10: 3641917 | S10: 3493515 | T10: 3710012 | U10: 3763417 | V10: 3298293 | W10: 3349742 | X10: 3280951 | Y10: 3224568 | Z10: 3362970 | AA10: 3265469 | AB10: 3628652 | AC10: 3349904 | AD10: 3901850 | AE10: 3870676 | AF10: 4200402 | AG10: 4172439 | AH10: 3722302 | AI10: 3867468 | AJ10: 3703533 | AL10: =SUM(B10:M10)/$AL$19 -> 0.089074709 | AM10: =SUM(N10:Y10)/AM$19 -> 0.070311317 | AN10: =SUM(Z10:AK10)/AN$19 -> 0.076526594
A11: POLVA MAAKOND | B11: 872946.79 | C11: 706778.45 | D11: 712021.51 | E11: 756150.4 | F11: 937409.43 | G11: 826030.48 | H11: 857113.13 | I11: 906650.06 | J11: 901679.5 | K11: 852364.57 | L11: 815892.44 | M11: 726222.23 | N11: 781266 | O11: 675542 | P11: 726185 | Q11: 721337 | R11: 901684 | S11: 824699 | T11: 3891361 | U11: 4757218 | V11: 2844728 | W11: 3291133 | X11: 760241 | Y11: 688610 | Z11: 704125 | AA11: 678989 | AB11: 771646 | AC11: 703322 | AD11: 881803 | AE11: 806286 | AF11: 889515 | AG11: 893413 | AH11: 813607 | AI11: 825976 | AJ11: 796218 | AL11: =SUM(B11:M11)/$AL$19 -> 0.017193602 | AM11: =SUM(N11:Y11)/AM$19 -> 0.036197033 | AN11: =SUM(Z11:AK11)/AN$19 -> 0.016341505
A12: RAPLA MAAKOND | B12: 1791238.9 | C12: 1504873.6 | D12: 1652814.3 | E12: 1623362.8 | F12: 1768056.7 | G12: 1645809.7 | H12: 1760411.3 | I12: 2007352 | J12: 1847730.4 | K12: 1769224 | L12: 1644566.5 | M12: 1513432.6 | N12: 1582274 | O12: 1371778 | P12: 1509153 | Q12: 1506251 | R12: 1824242 | S12: 1715501 | T12: 1816194 | U12: 1874405 | V12: 1817790 | W12: 1808591 | X12: 1658207 | Y12: 1521378 | Z12: 1547268 | AA12: 1547945 | AB12: 1747657 | AC12: 1602953 | AD12: 1939499 | AE12: 1888449 | AF12: 1942871 | AG12: 2079741 | AH12: 1763393 | AI12: 1815562 | AJ12: 1781125 | AL12: =SUM(B12:M12)/$AL$19 -> 0.035756864 | AM12: =SUM(N12:Y12)/AM$19 -> 0.034708069 | AN12: =SUM(Z12:AK12)/AN$19 -> 0.036648015
A13: SAARE MAAKOND | B13: 1141140.8 | C13: 783608.63 | D13: 965877.6 | E13: 1046100.8 | F13: 1156516.9 | G13: 1095017.8 | H13: 1244439.3 | I13: 1282463.8 | J13: 1141856.9 | K13: 1132135.2 | L13: 1038541.4 | M13: 967056.31 | N13: 957671 | O13: 875468 | P13: 990820 | Q13: 1031803 | R13: 1202993 | S13: 1139848 | T13: 1335850 | U13: 1349808 | V13: 1156597 | W13: 1194540 | X13: 1063835 | Y13: 1004779 | Z13: 973554 | AA13: 936723 | AB13: 1002370 | AC13: 1028694 | AD13: 1249340 | AE13: 1308978 | AF13: 1503475 | AG13: 1377952 | AH13: 1160642 | AI13: 1256813 | AJ13: 1164925 | AL13: =SUM(B13:M13)/$AL$19 -> 0.022634059 | AM13: =SUM(N13:Y13)/AM$19 -> 0.023081176 | AN13: =SUM(Z13:AK13)/AN$19 -> 0.02416942
A14: TARTU MAAKOND | B14: 7001347.6 | C14: 7318194.5 | D14: 7742351.9 | E14: 6086265.9 | F14: 6711169.4 | G14: 6231821.7 | H14: 6689733.4 | I14: 7366448.8 | J14: 7150013.9 | K14: 6979176.5 | L14: 7129419.2 | M14: 6278716.9 | N14: 6279732 | O14: 7440238 | P14: 9107006 | Q14: 7637308 | R14: 7465819 | S14: 6343930 | T14: 6239532 | U14: 6802015 | V14: 6606556 | W14: 6561088 | X14: 6152399 | Y14: 5886806 | Z14: 5757577 | AA14: 5506604 | AB14: 5808326 | AC14: 5702559 | AD14: 6505361 | AE14: 6224929 | AF14: 6345638 | AG14: 6517325 | AH14: 6176380 | AI14: 6412604 | AJ14: 6177936 | AL14: =SUM(B14:M14)/$AL$19 -> 0.14401883 | AM14: =SUM(N14:Y14)/AM$19 -> 0.14316845 | AN14: =SUM(Z14:AK14)/AN$19 -> 0.12516867
A15: VALGA MAAKOND | B15: 1300110.3 | C15: 1294880.7 | D15: 1027963.7 | E15: 872262.54 | F15: 959300.81 | G15: 856679.68 | H15: 944802.6 | I15: 1004309.5 | J15: 915336.1 | K15: 842572.64 | L15: 825741.5 | M15: 757403.13 | N15: 816300 | O15: 662006 | P15: 726672 | Q15: 735375 | R15: 808825 | S15: 736550 | T15: 822298 | U15: 832582 | V15: 710292 | W15: 702705 | X15: 645793 | Y15: 664030 | Z15: 690342 | AA15: 648717 | AB15: 677186 | AC15: 628862 | AD15: 720965 | AE15: 748069 | AF15: 837326 | AG15: 803789 | AH15: 712586 | AI15: 724258 | AJ15: 700873 | AL15: =SUM(B15:M15)/$AL$19 -> 0.02020707 | AM15: =SUM(N15:Y15)/AM$19 -> 0.015377192 | AN15: =SUM(Z15:AK15)/AN$19 -> 0.014715862
... A17: VORU MAAKOND | B17: 1550436 | C17: 1142195.1 | D17: 1230037 | E17: 1106294.3 | F17: 1252687.7 | G17: 1191115.5 | H17: 1268417.2 | I17: 1289726 | J17: 1309661.3 | K17: 1254595.2 | L17: 1211225.7 | M17: 1128013 | N17: 1262735 | O17: 1070855 | P17: 1171393 | Q17: 1159676 | R17: 1326923 | S17: 1231602 | T17: 1267222 | U17: 1362541 | V17: 1248184 | W17: 1340849 | X17: 1091182 | Y17: 1266836 | Z17: 1207661 | AA17: 1242741 | AB17: 1355735 | AC17: 1206504 | AD17: 1566576 | AE17: 1439217 | AF17: 1525965 | AG17: 1586962 | AH17: 1433028 | AI17: 1505445 | AJ17: 1428076 | AL17: =SUM(B17:M17)/$AL$19 -> 0.026012508 | AM17: =SUM(N17:Y17)/AM$19 -> 0.025676568 | AN17: =SUM(Z17:AK17)/AN$19 -> 0.028894702
AL18: =SUM(AL3:AL17) -> 1 | AM18: =SUM(AM3:AM17) -> 1 | AN18: =SUM(AN3:AN17) -> 1
N19: Muutus võrreldes eelmise aasta sama kuuga 2017 vs 2016 | Z19: Muutus võrreldes eelmise aasta sama kuuga 2018 vs 2017 | AL19: =SUM(B3:M17) -> 5.7412397e+08 | AM19: =SUM(N3:Y17) -> 576400951 | AN19: =SUM(Z3:AK17) -> 536358185
A20: Maakond | N20: 1 | O20: 2 | P20: 3 | Q20: 4 | R20: 5 | S20: 6 | T20: 7 | U20: 8 | V20: 9 | W20: 10 | X20: 11 | Y20: 12 | Z20: 1 | AA20: 2 | AB20: 3 | AC20: 4 | AD20: 5 | AE20: 6 | AF20: 7 | AG20: 8 | AH20: 9 | AI20: 10 | AJ20: 11 | AK20: 12
A21: HARJU MAAKOND | N21: =(N3-B3) -> -1753478.3 | O21: =(O3-C3) -> -99523.47 | P21: =(P3-D3) -> 638087.57 | Q21: =(Q3-E3) -> -185067.47 | R21: =(R3-F3) -> 548604.96 | S21: =(S3-G3) -> 913940.43 | T21: =(T3-H3) -> 174559.31 | U21: =(U3-I3) -> 449085.17 | ... AJ21: =(AJ3-X3) -> 1522932
A22: HIIU MAAKOND | N22: =(N4-B4) -> -37299.12 | O22: =(O4-C4) -> 18794.21 | P22: =(P4-D4) -> -4080.56 | Q22: =(Q4-E4) -> 13063.75 | R22: =(R4-F4) -> 18667.13 | S22: =(S4-G4) -> -29486.31 | T22: =(T4-H4) -> -17201.45 | U22: =(U4-I4) -> -15006.47 | ... AJ22: =(AJ4-X4) -> 79915
A23: IDA-VIRU MAAKOND | N23: =(N5-B5) -> -234605.81 | O23: =(O5-C5) -> -95604.58 | P23: =(P5-D5) -> 168089.62 | Q23: =(Q5-E5) -> 86643.98 | R23: =(R5-F5) -> 267235.63 | S23: =(S5-G5) -> 153816.64 | T23: =(T5-H5) -> 263394.39 | U23: =(U5-I5) -> 223254.5 | ... AJ23: =(AJ5-X5) -> 7644
A24: JARVA MAAKOND | N24: =(N6-B6) -> -149962.45 | O24: =(O6-C6) -> -183285.28 | P24: =(P6-D6) -> 44207.57 | Q24: =(Q6-E6) -> 64278.69 | R24: =(R6-F6) -> 490089.61 | S24: =(S6-G6) -> 51402.35 | T24: =(T6-H6) -> 40871.11 | U24: =(U6-I6) -> 178029.41 | ... AJ24: =(AJ6-X6) -> 330852
A25: JOGEVA MAAKOND | N25: =(N7-B7) -> 12669.23 | O25: =(O7-C7) -> -158622.39 | P25: =(P7-D7) -> 29231.41 | Q25: =(Q7-E7) -> -59016.85 | R25: =(R7-F7) -> 97966.38 | S25: =(S7-G7) -> 98115.07 | T25: =(T7-H7) -> 101514.7 | U25: =(U7-I7) -> 253754.66 | ... AJ25: =(AJ7-X7) -> 201304
A26: LAANE MAAKOND | N26: =(N8-B8) -> 62351.69 | O26: =(O8-C8) -> 86164.38 | P26: =(P8-D8) -> 58883.51 | Q26: =(Q8-E8) -> 73644.77 | R26: =(R8-F8) -> 87250.69 | S26: =(S8-G8) -> 115004.01 | T26: =(T8-H8) -> 103909.98 | U26: =(U8-I8) -> 106397.33 | ... AJ26: =(AJ8-X8) -> 49986
A27: LAANE-VIRU MAAKOND | N27: =(N9-B9) -> -617517.19 | O27: =(O9-C9) -> -315117.48 | P27: =(P9-D9) -> 22677.81 | Q27: =(Q9-E9) -> 169609.9 | R27: =(R9-F9) -> 274581.77 | S27: =(S9-G9) -> 139954.71 | T27: =(T9-H9) -> 341519.85 | U27: =(U9-I9) -> 390218.26 | ... AJ27: =(AJ9-X9) -> 333116
A28: PARNU MAAKOND | N28: =(N10-B10) -> -2794901.1 | O28: =(O10-C10) -> -864267.8 | P28: =(P10-D10) -> -713433.18 | Q28: =(Q10-E10) -> -725344.28 | R28: =(R10-F10) -> -354761.31 | S28: =(S10-G10) -> -262279.13 | T28: =(T10-H10) -> -279472.41 | U28: =(U10-I10) -> -866238.62 | ... AJ28: =(AJ10-X10) -> 422582
A29: POLVA MAAKOND | N29: =(N11-B11) -> -91680.79 | O29: =(O11-C11) -> -31236.45 | P29: =(P11-D11) -> 14163.49 | Q29: =(Q11-E11) -> -34813.4 | R29: =(R11-F11) -> -35725.43 | S29: =(S11-G11) -> -1331.48 | T29: =(T11-H11) -> 3034247.9 | U29: =(U11-I11) -> 3850567.9 | ... AJ29: =(AJ11-X11) -> 35977
